BEGIN:VCALENDAR
VERSION:2.0
PRODID:-//Trinity Church Everton - ECPv6.15.13//NONSGML v1.0//EN
CALSCALE:GREGORIAN
METHOD:PUBLISH
X-ORIGINAL-URL:https://www.trinitychurcheverton.org
X-WR-CALDESC:Events for Trinity Church Everton
REFRESH-INTERVAL;VALUE=DURATION:PT1H
X-Robots-Tag:noindex
X-PUBLISHED-TTL:PT1H
BEGIN:VTIMEZONE
TZID:UTC
BEGIN:STANDARD
TZOFFSETFROM:+0000
TZOFFSETTO:+0000
TZNAME:UTC
DTSTART:20250101T000000
END:STANDARD
END:VTIMEZONE
BEGIN:VEVENT
DTSTART;TZID=UTC:20260104T100000
DTEND;TZID=UTC:20260104T114500
DTSTAMP:20260423T114701
CREATED:20251118T223330Z
LAST-MODIFIED:20251118T223330Z
UID:8710-1767520800-1767527100@www.trinitychurcheverton.org
SUMMARY:Matthew 5: 1-12
DESCRIPTION:You would be really welcome to come to one of our Sunday meetings. \nWe are trying to run our church in a way that helps everyone to feel at home.
URL:https://www.trinitychurcheverton.org/event/matthew-5-1-12/
LOCATION:BNENC Gym\, Breckfield Centre\, Breckfield Pl\, Liverpool\, L5 4NH\, United Kingdom
END:VEVENT
BEGIN:VEVENT
DTSTART;TZID=UTC:20260106T183000
DTEND;TZID=UTC:20260106T203000
DTSTAMP:20260423T114701
CREATED:20251117T221115Z
LAST-MODIFIED:20251117T221115Z
UID:8655-1767724200-1767731400@www.trinitychurcheverton.org
SUMMARY:Road to recovery
DESCRIPTION:Struggling with addiction? Feeling isolated? Then Road to Recovery is for you! \nRoad to Recovery is a Christian support group for anyone seeking a way out of addiction. \nFor more info talk to David or email avid.trinitychurcheverton@gmail.com
URL:https://www.trinitychurcheverton.org/event/road-to-recovery-15/
LOCATION:Church Centre\, BNENC\, Breckfield Road\, L5 4QT\, United Kingdom
END:VEVENT
BEGIN:VEVENT
DTSTART;TZID=UTC:20260107T090000
DTEND;TZID=UTC:20260107T100000
DTSTAMP:20260423T114701
CREATED:20251117T222253Z
LAST-MODIFIED:20251117T222253Z
UID:8667-1767776400-1767780000@www.trinitychurcheverton.org
SUMMARY:Prayer meeting
DESCRIPTION:Do you want God to do great things here in Everton? Can you be free on Wednesday mornings? \nJoin us for our weekly prayer power hour.  Everyone is welcome to come and ask God to work in our community \nFor more info talk to Peter or email peter.trinitychurcheverton@gmail.com
URL:https://www.trinitychurcheverton.org/event/prayer-meeting-6/
LOCATION:Church Centre\, BNENC\, Breckfield Road\, L5 4QT\, United Kingdom
END:VEVENT
BEGIN:VEVENT
DTSTART;TZID=UTC:20260107T130000
DTEND;TZID=UTC:20260107T150000
DTSTAMP:20260423T114701
CREATED:20251117T230752Z
LAST-MODIFIED:20251117T230752Z
UID:8698-1767790800-1767798000@www.trinitychurcheverton.org
SUMMARY:Finding Hope
DESCRIPTION:Come and join a safe space where we look at how the Bible applies to the ups and downs of life whilst doing crafts together.\n\n\nFor more info talk to Becky or email  becky.trinitychurcheverton@gmail.com
URL:https://www.trinitychurcheverton.org/event/finding-hope-8/
LOCATION:Church Centre\, BNENC\, Breckfield Road\, L5 4QT\, United Kingdom
END:VEVENT
BEGIN:VEVENT
DTSTART;TZID=UTC:20260108T130000
DTEND;TZID=UTC:20260108T150000
DTSTAMP:20260423T114701
CREATED:20251117T163416Z
LAST-MODIFIED:20251117T193628Z
UID:8627-1767877200-1767884400@www.trinitychurcheverton.org
SUMMARY:Kintsugi Hope
DESCRIPTION:Wellbeing and Mantel Health Group \nCome and join us as we journey together over 6 weeks to explore topics like shame\, anxiety\, depression\, forgiveness\, self-acceptance and many more.\nStarting on Thursday 8th January 2026\n1-3pm every week during term time.\nEveryone is welcome! \nFor more info talk to Becky or email becky.trinitychurcheverton@gmail.com
URL:https://www.trinitychurcheverton.org/event/kintsugi-hope/
LOCATION:Church Centre\, BNENC\, Breckfield Road\, L5 4QT\, United Kingdom
END:VEVENT
BEGIN:VEVENT
DTSTART;TZID=UTC:20260108T193000
DTEND;TZID=UTC:20260108T210000
DTSTAMP:20260423T114701
CREATED:20251117T224137Z
LAST-MODIFIED:20251117T225908Z
UID:8684-1767900600-1767906000@www.trinitychurcheverton.org
SUMMARY:Lifegroup
DESCRIPTION:The Christian life is to be lived in community. Lifegroups are a chance to meet each week with a smaller group of people to pray and look at the Bible and encourage each other. \nFor more info talk to Peter or email peter.trinitychurcheverton@gmail.com
URL:https://www.trinitychurcheverton.org/event/lifegroup-70/
LOCATION:People Homes
END:VEVENT
BEGIN:VEVENT
DTSTART;TZID=UTC:20260109T183000
DTEND;TZID=UTC:20260109T203000
DTSTAMP:20260423T114701
CREATED:20251119T175941Z
LAST-MODIFIED:20251119T175941Z
UID:8743-1767983400-1767990600@www.trinitychurcheverton.org
SUMMARY:Youth Evening
DESCRIPTION:
URL:https://www.trinitychurcheverton.org/event/youth-evening-3/
LOCATION:Church Centre\, BNENC\, Breckfield Road\, L5 4QT\, United Kingdom
END:VEVENT
BEGIN:VEVENT
DTSTART;TZID=UTC:20260111T103000
DTEND;TZID=UTC:20260111T114500
DTSTAMP:20260423T114701
CREATED:20251118T224326Z
LAST-MODIFIED:20251118T224326Z
UID:8715-1768127400-1768131900@www.trinitychurcheverton.org
SUMMARY:Ezekiel 25-32
DESCRIPTION:You would be really welcome to come to one of our Sunday meetings. \nWe are trying to run our church in a way that helps everyone to feel at home. \n 
URL:https://www.trinitychurcheverton.org/event/ezekiel-25-32/
LOCATION:BNENC Gym\, Breckfield Centre\, Breckfield Pl\, Liverpool\, L5 4NH\, United Kingdom
END:VEVENT
BEGIN:VEVENT
DTSTART;TZID=UTC:20260111T190000
DTEND;TZID=UTC:20260111T200000
DTSTAMP:20260423T114701
CREATED:20251119T175743Z
LAST-MODIFIED:20251119T175743Z
UID:8740-1768158000-1768161600@www.trinitychurcheverton.org
SUMMARY:women Bible study
DESCRIPTION:This is a great time to get together as women and explore the book of Galatians. \nFor more info talk to Becky or email becky.trinitychurcheverton@gmail.com
URL:https://www.trinitychurcheverton.org/event/women-bible-study-4/
LOCATION:Mariana’s house
END:VEVENT
BEGIN:VEVENT
DTSTART;TZID=UTC:20260111T190000
DTEND;TZID=UTC:20260111T210000
DTSTAMP:20260423T114701
CREATED:20251117T194142Z
LAST-MODIFIED:20251117T194142Z
UID:8645-1768158000-1768165200@www.trinitychurcheverton.org
SUMMARY:Women Bible Study
DESCRIPTION:This is a great time to get together as women and explore the book of Galatians. \nFor more info talk to Becky or email becky.trinitychurcheverton@gmail.com
URL:https://www.trinitychurcheverton.org/event/women-bible-study-3/
LOCATION:Mariana’s house
END:VEVENT
BEGIN:VEVENT
DTSTART;TZID=UTC:20260113T183000
DTEND;TZID=UTC:20260113T203000
DTSTAMP:20260423T114701
CREATED:20251117T221213Z
LAST-MODIFIED:20251117T221213Z
UID:8657-1768329000-1768336200@www.trinitychurcheverton.org
SUMMARY:Road to recovery
DESCRIPTION:Struggling with addiction? Feeling isolated? Then Road to Recovery is for you! \nRoad to Recovery is a Christian support group for anyone seeking a way out of addiction. \nFor more info talk to David or email avid.trinitychurcheverton@gmail.com
URL:https://www.trinitychurcheverton.org/event/road-to-recovery-16/
LOCATION:Church Centre\, BNENC\, Breckfield Road\, L5 4QT\, United Kingdom
END:VEVENT
BEGIN:VEVENT
DTSTART;TZID=UTC:20260114T090000
DTEND;TZID=UTC:20260114T100000
DTSTAMP:20260423T114701
CREATED:20251117T222343Z
LAST-MODIFIED:20251117T222343Z
UID:8669-1768381200-1768384800@www.trinitychurcheverton.org
SUMMARY:Prayer meeting
DESCRIPTION:Do you want God to do great things here in Everton? Can you be free on Wednesday mornings? \nJoin us for our weekly prayer power hour.  Everyone is welcome to come and ask God to work in our community \nFor more info talk to Peter or email peter.trinitychurcheverton@gmail.com
URL:https://www.trinitychurcheverton.org/event/prayer-meeting-7/
LOCATION:Church Centre\, BNENC\, Breckfield Road\, L5 4QT\, United Kingdom
END:VEVENT
BEGIN:VEVENT
DTSTART;TZID=UTC:20260114T130000
DTEND;TZID=UTC:20260114T150000
DTSTAMP:20260423T114701
CREATED:20251117T230849Z
LAST-MODIFIED:20251117T230849Z
UID:8700-1768395600-1768402800@www.trinitychurcheverton.org
SUMMARY:Finding Hope
DESCRIPTION:Come and join a safe space where we look at how the Bible applies to the ups and downs of life whilst doing crafts together.\n\n\nFor more info talk to Becky or email  becky.trinitychurcheverton@gmail.com
URL:https://www.trinitychurcheverton.org/event/finding-hope-11/
LOCATION:Church Centre\, BNENC\, Breckfield Road\, L5 4QT\, United Kingdom
END:VEVENT
BEGIN:VEVENT
DTSTART;TZID=UTC:20260115T130000
DTEND;TZID=UTC:20260115T150000
DTSTAMP:20260423T114701
CREATED:20251117T163742Z
LAST-MODIFIED:20251117T193707Z
UID:8629-1768482000-1768489200@www.trinitychurcheverton.org
SUMMARY:Kintsugi Hope
DESCRIPTION:Wellbeing and Mantel Health Group \nCome and join us as we journey together over 6 weeks to explore topics like shame\, anxiety\, depression\, forgiveness\, self-acceptance and many more.\n1-3pm every week during term time.\nEveryone is welcome! \nFor more info talk to Becky or email becky.trinitychurcheverton@gmail.com
URL:https://www.trinitychurcheverton.org/event/kintsugi-hope-2/
LOCATION:Church Centre\, BNENC\, Breckfield Road\, L5 4QT\, United Kingdom
END:VEVENT
BEGIN:VEVENT
DTSTART;TZID=UTC:20260115T193000
DTEND;TZID=UTC:20260115T210000
DTSTAMP:20260423T114701
CREATED:20251117T224257Z
LAST-MODIFIED:20251117T225826Z
UID:8686-1768505400-1768510800@www.trinitychurcheverton.org
SUMMARY:lifegroup
DESCRIPTION:The Christian life is to be lived in community. Lifegroups are a chance to meet each week with a smaller group of people to pray and look at the Bible and encourage each other. \nFor more info talk to Peter or email peter.trinitychurcheverton@gmail.com
URL:https://www.trinitychurcheverton.org/event/lifegroup-71/
LOCATION:People Homes
END:VEVENT
BEGIN:VEVENT
DTSTART;TZID=UTC:20260118T103000
DTEND;TZID=UTC:20260118T114500
DTSTAMP:20260423T114701
CREATED:20251118T224452Z
LAST-MODIFIED:20251118T224452Z
UID:8717-1768732200-1768736700@www.trinitychurcheverton.org
SUMMARY:Ezekiel 33
DESCRIPTION:You would be really welcome to come to one of our Sunday meetings. \nWe are trying to run our church in a way that helps everyone to feel at home. \n 
URL:https://www.trinitychurcheverton.org/event/ezekiel-33/
LOCATION:BNENC Gym\, Breckfield Centre\, Breckfield Pl\, Liverpool\, L5 4NH\, United Kingdom
END:VEVENT
BEGIN:VEVENT
DTSTART;TZID=UTC:20260120T183000
DTEND;TZID=UTC:20260120T203000
DTSTAMP:20260423T114701
CREATED:20251117T221454Z
LAST-MODIFIED:20251117T221454Z
UID:8659-1768933800-1768941000@www.trinitychurcheverton.org
SUMMARY:Road to recovery
DESCRIPTION:Struggling with addiction? Feeling isolated? Then Road to Recovery is for you! \nRoad to Recovery is a Christian support group for anyone seeking a way out of addiction. \nFor more info talk to David or email avid.trinitychurcheverton@gmail.com
URL:https://www.trinitychurcheverton.org/event/road-to-recovery-17/
LOCATION:Church Centre\, BNENC\, Breckfield Road\, L5 4QT\, United Kingdom
END:VEVENT
BEGIN:VEVENT
DTSTART;TZID=UTC:20260121T090000
DTEND;TZID=UTC:20260121T100000
DTSTAMP:20260423T114701
CREATED:20251117T222432Z
LAST-MODIFIED:20251117T222432Z
UID:8671-1768986000-1768989600@www.trinitychurcheverton.org
SUMMARY:Prayer meeting
DESCRIPTION:Do you want God to do great things here in Everton? Can you be free on Wednesday mornings? \nJoin us for our weekly prayer power hour.  Everyone is welcome to come and ask God to work in our community \nFor more info talk to Peter or email peter.trinitychurcheverton@gmail.com
URL:https://www.trinitychurcheverton.org/event/prayer-meeting-8/
LOCATION:Church Centre\, BNENC\, Breckfield Road\, L5 4QT\, United Kingdom
END:VEVENT
BEGIN:VEVENT
DTSTART;TZID=UTC:20260121T130000
DTEND;TZID=UTC:20260121T150000
DTSTAMP:20260423T114701
CREATED:20251117T230947Z
LAST-MODIFIED:20251117T230947Z
UID:8702-1769000400-1769007600@www.trinitychurcheverton.org
SUMMARY:Finding Hope
DESCRIPTION:Come and join a safe space where we look at how the Bible applies to the ups and downs of life whilst doing crafts together.\n\n\nFor more info talk to Becky or email  becky.trinitychurcheverton@gmail.com
URL:https://www.trinitychurcheverton.org/event/finding-hope-12/
LOCATION:Church Centre\, BNENC\, Breckfield Road\, L5 4QT\, United Kingdom
END:VEVENT
BEGIN:VEVENT
DTSTART;TZID=UTC:20260122T130000
DTEND;TZID=UTC:20260122T150000
DTSTAMP:20260423T114701
CREATED:20251117T163858Z
LAST-MODIFIED:20251117T193555Z
UID:8631-1769086800-1769094000@www.trinitychurcheverton.org
SUMMARY:Kintsugi Hope
DESCRIPTION:Wellbeing and Mantel Health Group \nCome and join us as we journey together over 6 weeks to explore topics like shame\, anxiety\, depression\, forgiveness\, self-acceptance and many more.\nStarting on Thursday 8th January 2026\n1-3pm every week during term time.\nEveryone is welcome! \nFor more info talk to Becky or email becky.trinitychurcheverton@gmail.com
URL:https://www.trinitychurcheverton.org/event/kintsugi-hope-3/
LOCATION:Church Centre\, BNENC\, Breckfield Road\, L5 4QT\, United Kingdom
END:VEVENT
BEGIN:VEVENT
DTSTART;TZID=UTC:20260122T193000
DTEND;TZID=UTC:20260122T210000
DTSTAMP:20260423T114701
CREATED:20251117T224500Z
LAST-MODIFIED:20251117T225742Z
UID:8688-1769110200-1769115600@www.trinitychurcheverton.org
SUMMARY:lifegroup
DESCRIPTION:The Christian life is to be lived in community. Lifegroups are a chance to meet each week with a smaller group of people to pray and look at the Bible and encourage each other. \nFor more info talk to Peter or email peter.trinitychurcheverton@gmail.com
URL:https://www.trinitychurcheverton.org/event/lifegroup-72/
LOCATION:People Homes
END:VEVENT
BEGIN:VEVENT
DTSTART;TZID=UTC:20260123T183000
DTEND;TZID=UTC:20260123T203000
DTSTAMP:20260423T114701
CREATED:20251119T180025Z
LAST-MODIFIED:20251119T180025Z
UID:8745-1769193000-1769200200@www.trinitychurcheverton.org
SUMMARY:Youth Evening
DESCRIPTION:
URL:https://www.trinitychurcheverton.org/event/youth-evening-4/
LOCATION:Church Centre\, BNENC\, Breckfield Road\, L5 4QT\, United Kingdom
END:VEVENT
BEGIN:VEVENT
DTSTART;TZID=UTC:20260124T100000
DTEND;TZID=UTC:20260124T153000
DTSTAMP:20260423T114701
CREATED:20251118T224036Z
LAST-MODIFIED:20251118T224036Z
UID:8712-1769248800-1769268600@www.trinitychurcheverton.org
SUMMARY:Annual Conference – Missionary Psalms
DESCRIPTION:The annual conference will once again be a whole family day out. \nThis time with Christopher Ash speaking to us from the Psalms. \nTickets available here https://fienta.com/annual-conference-2026
URL:https://www.trinitychurcheverton.org/event/annual-conference-missionary-psalms/
LOCATION:The Edge Wigan\, WN3 5AB United Kingdom\, The Edge\, wigan\, WN3 5AB\, United Kingdom
END:VEVENT
BEGIN:VEVENT
DTSTART;TZID=UTC:20260125T103000
DTEND;TZID=UTC:20260125T114500
DTSTAMP:20260423T114701
CREATED:20251118T224610Z
LAST-MODIFIED:20251118T224610Z
UID:8719-1769337000-1769341500@www.trinitychurcheverton.org
SUMMARY:Ezekiel 34
DESCRIPTION:You would be really welcome to come to one of our Sunday meetings. \nWe are trying to run our church in a way that helps everyone to feel at home. \n 
URL:https://www.trinitychurcheverton.org/event/ezekiel-34/
LOCATION:BNENC Gym\, Breckfield Centre\, Breckfield Pl\, Liverpool\, L5 4NH\, United Kingdom
END:VEVENT
BEGIN:VEVENT
DTSTART;TZID=UTC:20260127T183000
DTEND;TZID=UTC:20260127T203000
DTSTAMP:20260423T114701
CREATED:20251117T221614Z
LAST-MODIFIED:20251117T221614Z
UID:8661-1769538600-1769545800@www.trinitychurcheverton.org
SUMMARY:Road to recovery
DESCRIPTION:Struggling with addiction? Feeling isolated? Then Road to Recovery is for you! \nRoad to Recovery is a Christian support group for anyone seeking a way out of addiction. \nFor more info talk to David or email avid.trinitychurcheverton@gmail.com
URL:https://www.trinitychurcheverton.org/event/road-to-recovery-18/
LOCATION:Church Centre\, BNENC\, Breckfield Road\, L5 4QT\, United Kingdom
END:VEVENT
BEGIN:VEVENT
DTSTART;TZID=UTC:20260128T090000
DTEND;TZID=UTC:20260128T100000
DTSTAMP:20260423T114701
CREATED:20251117T222537Z
LAST-MODIFIED:20251117T222537Z
UID:8673-1769590800-1769594400@www.trinitychurcheverton.org
SUMMARY:Prayer meeting
DESCRIPTION:Do you want God to do great things here in Everton? Can you be free on Wednesday mornings? \nJoin us for our weekly prayer power hour.  Everyone is welcome to come and ask God to work in our community \nFor more info talk to Peter or email peter.trinitychurcheverton@gmail.com
URL:https://www.trinitychurcheverton.org/event/prayer-meeting-9/
LOCATION:Church Centre\, BNENC\, Breckfield Road\, L5 4QT\, United Kingdom
END:VEVENT
BEGIN:VEVENT
DTSTART;TZID=UTC:20260128T130000
DTEND;TZID=UTC:20260128T150000
DTSTAMP:20260423T114701
CREATED:20251117T231150Z
LAST-MODIFIED:20251117T231150Z
UID:8704-1769605200-1769612400@www.trinitychurcheverton.org
SUMMARY:Finding Hope
DESCRIPTION:Come and join a safe space where we look at how the Bible applies to the ups and downs of life whilst doing crafts together.\n\n\nFor more info talk to Becky or email  becky.trinitychurcheverton@gmail.com
URL:https://www.trinitychurcheverton.org/event/finding-hope-13/
LOCATION:Church Centre\, BNENC\, Breckfield Road\, L5 4QT\, United Kingdom
END:VEVENT
BEGIN:VEVENT
DTSTART;TZID=UTC:20260129T130000
DTEND;TZID=UTC:20260129T150000
DTSTAMP:20260423T114701
CREATED:20251117T164240Z
LAST-MODIFIED:20251117T193522Z
UID:8633-1769691600-1769698800@www.trinitychurcheverton.org
SUMMARY:Kintsugi Hope
DESCRIPTION:Wellbeing and Mantel Health Group \nCome and join us as we journey together over 6 weeks to explore topics like shame\, anxiety\, depression\, forgiveness\, self-acceptance and many more.\nStarting on Thursday 8th January 2026\n1-3pm every week during term time.\nEveryone is welcome! \nFor more info talk to Becky or email becky.trinitychurcheverton@gmail.com
URL:https://www.trinitychurcheverton.org/event/kintsugi-hope-4/
LOCATION:Church Centre\, BNENC\, Breckfield Road\, L5 4QT\, United Kingdom
END:VEVENT
BEGIN:VEVENT
DTSTART;TZID=UTC:20260129T194500
DTEND;TZID=UTC:20260129T210000
DTSTAMP:20260423T114701
CREATED:20251117T225302Z
LAST-MODIFIED:20251117T225302Z
UID:8692-1769715900-1769720400@www.trinitychurcheverton.org
SUMMARY:You don't believe that do you? Gender
DESCRIPTION:You don’t believe that do you? Gender \nWe live in a secular culture where biblical Christianity seems very strange. We want everyone in our church to be equipped to understand why what Christians believe is such good news\, both so we can explain it to others and so we are encouraged to keep trusting Christ all the days of our lives. \nFor more info talk to Peter or email peter.trinitychurcheverton@gmail.com
URL:https://www.trinitychurcheverton.org/event/you-dont-believe-that-do-you-gender-2/
LOCATION:Church Centre\, BNENC\, Breckfield Road\, L5 4QT\, United Kingdom
END:VEVENT
END:VCALENDAR