BEGIN:VCALENDAR
VERSION:2.0
PRODID:-//Trinity Church Everton - ECPv6.15.13//NONSGML v1.0//EN
CALSCALE:GREGORIAN
METHOD:PUBLISH
X-WR-CALNAME:Trinity Church Everton
X-ORIGINAL-URL:https://www.trinitychurcheverton.org
X-WR-CALDESC:Events for Trinity Church Everton
REFRESH-INTERVAL;VALUE=DURATION:PT1H
X-Robots-Tag:noindex
X-PUBLISHED-TTL:PT1H
BEGIN:VTIMEZONE
TZID:Europe/London
BEGIN:DAYLIGHT
TZOFFSETFROM:+0000
TZOFFSETTO:+0100
TZNAME:BST
DTSTART:20140330T010000
END:DAYLIGHT
BEGIN:STANDARD
TZOFFSETFROM:+0100
TZOFFSETTO:+0000
TZNAME:GMT
DTSTART:20141026T010000
END:STANDARD
BEGIN:DAYLIGHT
TZOFFSETFROM:+0000
TZOFFSETTO:+0100
TZNAME:BST
DTSTART:20150329T010000
END:DAYLIGHT
BEGIN:STANDARD
TZOFFSETFROM:+0100
TZOFFSETTO:+0000
TZNAME:GMT
DTSTART:20151025T010000
END:STANDARD
BEGIN:DAYLIGHT
TZOFFSETFROM:+0000
TZOFFSETTO:+0100
TZNAME:BST
DTSTART:20160327T010000
END:DAYLIGHT
BEGIN:STANDARD
TZOFFSETFROM:+0100
TZOFFSETTO:+0000
TZNAME:GMT
DTSTART:20161030T010000
END:STANDARD
END:VTIMEZONE
BEGIN:VEVENT
DTSTART;TZID=Europe/London:20150809T103000
DTEND;TZID=Europe/London:20150809T113000
DTSTAMP:20260423T234656
CREATED:20150423T152545Z
LAST-MODIFIED:20150423T152545Z
UID:1150-1439116200-1439119800@www.trinitychurcheverton.org
SUMMARY:Sunday Service: Genesis 11 v 27 - 12 v 9
DESCRIPTION:
URL:https://www.trinitychurcheverton.org/event/sunday-service-genesis-11-v-27-12-v-9/
LOCATION:BNENC Gym\, Breckfield Centre\, Breckfield Pl\, Liverpool\, L5 4NH\, United Kingdom
END:VEVENT
BEGIN:VEVENT
DTSTART;TZID=Europe/London:20150807T100000
DTEND;TZID=Europe/London:20150807T113000
DTSTAMP:20260423T234656
CREATED:20150430T112258Z
LAST-MODIFIED:20150430T112258Z
UID:1215-1438941600-1438947000@www.trinitychurcheverton.org
SUMMARY:Trinity Tots
DESCRIPTION:A Stay & play group for 0-4’s £1 per family. For more info contact Grace on 0151 260 3463.
URL:https://www.trinitychurcheverton.org/event/trinity-tots-15/
LOCATION:BNENC Gym\, Breckfield Centre\, Breckfield Pl\, Liverpool\, L5 4NH\, United Kingdom
END:VEVENT
BEGIN:VEVENT
DTSTART;TZID=Europe/London:20150802T170000
DTEND;TZID=Europe/London:20150802T180000
DTSTAMP:20260423T234656
CREATED:20150430T104526Z
LAST-MODIFIED:20150430T114728Z
UID:1199-1438534800-1438538400@www.trinitychurcheverton.org
SUMMARY:Prayer Meeting at Trinity Church Everton
DESCRIPTION:
URL:https://www.trinitychurcheverton.org/event/love-sunday-at-christ-church-liverpool-3/
LOCATION:BNENC Gym\, Breckfield Centre\, Breckfield Pl\, Liverpool\, L5 4NH\, United Kingdom
END:VEVENT
BEGIN:VEVENT
DTSTART;TZID=Europe/London:20150802T103000
DTEND;TZID=Europe/London:20150802T113000
DTSTAMP:20260423T234656
CREATED:20150423T152428Z
LAST-MODIFIED:20150423T152428Z
UID:1149-1438511400-1438515000@www.trinitychurcheverton.org
SUMMARY:Sunday Service: Genesis 10- 11 v 26
DESCRIPTION:
URL:https://www.trinitychurcheverton.org/event/sunday-service-genesis-10-11-v-26/
LOCATION:BNENC Gym\, Breckfield Centre\, Breckfield Pl\, Liverpool\, L5 4NH\, United Kingdom
END:VEVENT
BEGIN:VEVENT
DTSTART;TZID=Europe/London:20150731T100000
DTEND;TZID=Europe/London:20150731T113000
DTSTAMP:20260423T234656
CREATED:20150430T112113Z
LAST-MODIFIED:20150430T112113Z
UID:1214-1438336800-1438342200@www.trinitychurcheverton.org
SUMMARY:Trinity Tots
DESCRIPTION:A Stay & play group for 0-4’s £1 per family. For more info contact Grace on 0151 260 3463.
URL:https://www.trinitychurcheverton.org/event/trinity-tots-14/
LOCATION:BNENC Gym\, Breckfield Centre\, Breckfield Pl\, Liverpool\, L5 4NH\, United Kingdom
END:VEVENT
BEGIN:VEVENT
DTSTART;TZID=Europe/London:20150726T184500
DTEND;TZID=Europe/London:20150726T200000
DTSTAMP:20260423T234656
CREATED:20150430T104352Z
LAST-MODIFIED:20150430T104352Z
UID:1198-1437936300-1437940800@www.trinitychurcheverton.org
SUMMARY:Love Sunday at Christ Church Liverpool
DESCRIPTION:
URL:https://www.trinitychurcheverton.org/event/love-sunday-at-christ-church-liverpool-2/
LOCATION:Archbishop Blanch School\, Elm Grove\, Liverpool\, L7 3EH
END:VEVENT
BEGIN:VEVENT
DTSTART;TZID=Europe/London:20150726T103000
DTEND;TZID=Europe/London:20150726T113000
DTSTAMP:20260423T234656
CREATED:20150423T152245Z
LAST-MODIFIED:20150423T152245Z
UID:1148-1437906600-1437910200@www.trinitychurcheverton.org
SUMMARY:Sunday Service: John 10 v 22 - 42
DESCRIPTION:
URL:https://www.trinitychurcheverton.org/event/sunday-service-john-10-v-22-42/
LOCATION:BNENC Gym\, Breckfield Centre\, Breckfield Pl\, Liverpool\, L5 4NH\, United Kingdom
END:VEVENT
BEGIN:VEVENT
DTSTART;TZID=Europe/London:20150724T100000
DTEND;TZID=Europe/London:20150724T113000
DTSTAMP:20260423T234656
CREATED:20150430T111909Z
LAST-MODIFIED:20150430T111909Z
UID:1213-1437732000-1437737400@www.trinitychurcheverton.org
SUMMARY:Trinity Tots
DESCRIPTION:A Stay & play group for 0-4’s £1 per family. For more info contact Grace on 0151 260 3463.
URL:https://www.trinitychurcheverton.org/event/trinity-tots-13/
LOCATION:BNENC Gym\, Breckfield Centre\, Breckfield Pl\, Liverpool\, L5 4NH\, United Kingdom
END:VEVENT
BEGIN:VEVENT
DTSTART;TZID=Europe/London:20150722T190000
DTEND;TZID=Europe/London:20150722T210000
DTSTAMP:20260423T234656
CREATED:20150424T150031Z
LAST-MODIFIED:20150424T150031Z
UID:1173-1437591600-1437598800@www.trinitychurcheverton.org
SUMMARY:Lifegroup
DESCRIPTION:We have food together at 7 and then we will study the bible together. During and after the study there will be a time of prayer. If you want to come along contact Pete on 0151 260 3463.
URL:https://www.trinitychurcheverton.org/event/lifegroup-55/
LOCATION:Peter and Ruth’s house
END:VEVENT
BEGIN:VEVENT
DTSTART;TZID=Europe/London:20150719T103000
DTEND;TZID=Europe/London:20150719T113000
DTSTAMP:20260423T234656
CREATED:20150423T152133Z
LAST-MODIFIED:20150423T152133Z
UID:1147-1437301800-1437305400@www.trinitychurcheverton.org
SUMMARY:Sunday Service: John 10 v 1 - 21
DESCRIPTION:
URL:https://www.trinitychurcheverton.org/event/sunday-service-john-10-v-1-21/
LOCATION:BNENC Gym\, Breckfield Centre\, Breckfield Pl\, Liverpool\, L5 4NH\, United Kingdom
END:VEVENT
BEGIN:VEVENT
DTSTART;TZID=Europe/London:20150717T100000
DTEND;TZID=Europe/London:20150717T113000
DTSTAMP:20260423T234656
CREATED:20150430T111738Z
LAST-MODIFIED:20150430T111738Z
UID:1212-1437127200-1437132600@www.trinitychurcheverton.org
SUMMARY:Trinity Tots
DESCRIPTION:A Stay & play group for 0-4’s £1 per family. For more info contact Grace on 0151 260 3463.
URL:https://www.trinitychurcheverton.org/event/trinity-tots-12/
LOCATION:BNENC Gym\, Breckfield Centre\, Breckfield Pl\, Liverpool\, L5 4NH\, United Kingdom
END:VEVENT
BEGIN:VEVENT
DTSTART;TZID=Europe/London:20150716T070000
DTEND;TZID=Europe/London:20150716T210000
DTSTAMP:20260423T234656
CREATED:20150430T095001Z
LAST-MODIFIED:20150430T101742Z
UID:1190-1437030000-1437080400@www.trinitychurcheverton.org
SUMMARY:Lifegroup social
DESCRIPTION:
URL:https://www.trinitychurcheverton.org/event/lifegroup-social-2/
END:VEVENT
BEGIN:VEVENT
DTSTART;TZID=Europe/London:20150715T190000
DTEND;TZID=Europe/London:20150715T210000
DTSTAMP:20260423T234656
CREATED:20150424T145843Z
LAST-MODIFIED:20150430T101423Z
UID:1172-1436986800-1436994000@www.trinitychurcheverton.org
SUMMARY:Lifegroup (Christianity Explored)
DESCRIPTION:We have food together at 7 and then we will watch a DVD followed by a time of questions and discussion. This 7 week course is especially aimed at those who are investigating Christianity and would like to get some questions answered.
URL:https://www.trinitychurcheverton.org/event/lifegroup-54/
LOCATION:Peter and Ruth’s house
END:VEVENT
BEGIN:VEVENT
DTSTART;TZID=Europe/London:20150712T103000
DTEND;TZID=Europe/London:20150712T113000
DTSTAMP:20260423T234656
CREATED:20150423T151937Z
LAST-MODIFIED:20150423T151937Z
UID:1146-1436697000-1436700600@www.trinitychurcheverton.org
SUMMARY:Sunday Service: John 9 v 1 - 41
DESCRIPTION:
URL:https://www.trinitychurcheverton.org/event/sunday-service-john-9-v-1-41/
LOCATION:BNENC Gym\, Breckfield Centre\, Breckfield Pl\, Liverpool\, L5 4NH\, United Kingdom
END:VEVENT
BEGIN:VEVENT
DTSTART;TZID=Europe/London:20150710T100000
DTEND;TZID=Europe/London:20150710T113000
DTSTAMP:20260423T234656
CREATED:20150430T111601Z
LAST-MODIFIED:20150430T111601Z
UID:1211-1436522400-1436527800@www.trinitychurcheverton.org
SUMMARY:Trinity Tots
DESCRIPTION:A Stay & play group for 0-4’s £1 per family. For more info contact Grace on 0151 260 3463.
URL:https://www.trinitychurcheverton.org/event/trinity-tots-11/
LOCATION:BNENC Gym\, Breckfield Centre\, Breckfield Pl\, Liverpool\, L5 4NH\, United Kingdom
END:VEVENT
BEGIN:VEVENT
DTSTART;TZID=Europe/London:20150709T190000
DTEND;TZID=Europe/London:20150709T210000
DTSTAMP:20260423T234656
CREATED:20150430T102145Z
LAST-MODIFIED:20150430T102145Z
UID:1193-1436468400-1436475600@www.trinitychurcheverton.org
SUMMARY:Lifegroup (Gossiping the gospel)
DESCRIPTION:We have food together at 7 and then we will study the bible together. During and after the study there will be a time of prayer. If you want to come along contact Pete on 0151 260 3463.
URL:https://www.trinitychurcheverton.org/event/lifegroup-gossiping-the-gospel-10/
LOCATION:Sam’s house\, Everton 
END:VEVENT
BEGIN:VEVENT
DTSTART;TZID=Europe/London:20150708T190000
DTEND;TZID=Europe/London:20150708T210000
DTSTAMP:20260423T234656
CREATED:20150424T145353Z
LAST-MODIFIED:20150424T145353Z
UID:1171-1436382000-1436389200@www.trinitychurcheverton.org
SUMMARY:Lifegroup (Christianity Explored)
DESCRIPTION:We have food together at 7 and then we will watch a DVD followed by a time of questions and discussion. This 7 week course is especially aimed at those who are investigating Christianity and would like to get some questions answered. \n 
URL:https://www.trinitychurcheverton.org/event/lifegroup-christianity-explored-9/
LOCATION:Peter and Ruth’s house
END:VEVENT
BEGIN:VEVENT
DTSTART;TZID=Europe/London:20150706T193000
DTEND;TZID=Europe/London:20150706T210000
DTSTAMP:20260423T234656
CREATED:20150624T172111Z
LAST-MODIFIED:20150624T172111Z
UID:1243-1436211000-1436216400@www.trinitychurcheverton.org
SUMMARY:Cake Club
DESCRIPTION:
URL:https://www.trinitychurcheverton.org/event/cake-club-3/
LOCATION:Homebaked\, 197 Oakfield Rd\, Liverpool\, L4 0UF\, United Kingdom
END:VEVENT
BEGIN:VEVENT
DTSTART;TZID=Europe/London:20150705T170000
DTEND;TZID=Europe/London:20150705T180000
DTSTAMP:20260423T234656
CREATED:20150430T103345Z
LAST-MODIFIED:20150430T103345Z
UID:1196-1436115600-1436119200@www.trinitychurcheverton.org
SUMMARY:Prayer Meeting at Trinity Church Everton
DESCRIPTION:
URL:https://www.trinitychurcheverton.org/event/prayer-meeting-at-trinity-church-everton-6/
LOCATION:BNENC Gym\, Breckfield Centre\, Breckfield Pl\, Liverpool\, L5 4NH\, United Kingdom
END:VEVENT
BEGIN:VEVENT
DTSTART;TZID=Europe/London:20150705T103000
DTEND;TZID=Europe/London:20150705T113000
DTSTAMP:20260423T234656
CREATED:20150423T151829Z
LAST-MODIFIED:20150423T151829Z
UID:1145-1436092200-1436095800@www.trinitychurcheverton.org
SUMMARY:Sunday Service: John 8 v 1 - 59
DESCRIPTION:
URL:https://www.trinitychurcheverton.org/event/sunday-service-john-8-v-1-59/
LOCATION:BNENC Gym\, Breckfield Centre\, Breckfield Pl\, Liverpool\, L5 4NH\, United Kingdom
END:VEVENT
BEGIN:VEVENT
DTSTART;TZID=Europe/London:20150703T100000
DTEND;TZID=Europe/London:20150703T113000
DTSTAMP:20260423T234656
CREATED:20150430T111417Z
LAST-MODIFIED:20150430T111417Z
UID:1210-1435917600-1435923000@www.trinitychurcheverton.org
SUMMARY:Trinity Tots
DESCRIPTION:A Stay & play group for 0-4’s £1 per family. For more info contact Grace on 0151 260 3463.
URL:https://www.trinitychurcheverton.org/event/trinity-tots-10/
LOCATION:BNENC Gym\, Breckfield Centre\, Breckfield Pl\, Liverpool\, L5 4NH\, United Kingdom
END:VEVENT
BEGIN:VEVENT
DTSTART;TZID=Europe/London:20150702T190000
DTEND;TZID=Europe/London:20150702T200000
DTSTAMP:20260423T234656
CREATED:20150430T094848Z
LAST-MODIFIED:20150430T114518Z
UID:1189-1435863600-1435867200@www.trinitychurcheverton.org
SUMMARY:Lifegroup (Gossiping the gospel)
DESCRIPTION:We have food together at 7 and then we will study the bible together. During and after the study there will be a time of prayer. If you want to come along contact Pete on 0151 260 3463.
URL:https://www.trinitychurcheverton.org/event/lifegroup-gossiping-the-gospel-9/
LOCATION:Sam’s house\, Everton 
END:VEVENT
BEGIN:VEVENT
DTSTART;TZID=Europe/London:20150701T190000
DTEND;TZID=Europe/London:20150701T210000
DTSTAMP:20260423T234656
CREATED:20150424T145104Z
LAST-MODIFIED:20150424T145104Z
UID:1170-1435777200-1435784400@www.trinitychurcheverton.org
SUMMARY:Lifegroup (Christianity Explored)
DESCRIPTION:We have food together at 7 and then we will watch a DVD followed by a time of questions and discussion. This 7 week course is especially aimed at those who are investigating Christianity and would like to get some questions answered. \n 
URL:https://www.trinitychurcheverton.org/event/lifegroup-christianity-explored-8/
LOCATION:Peter and Ruth’s house
END:VEVENT
BEGIN:VEVENT
DTSTART;TZID=Europe/London:20150628T184500
DTEND;TZID=Europe/London:20150628T200000
DTSTAMP:20260423T234656
CREATED:20150430T104228Z
LAST-MODIFIED:20150430T104228Z
UID:1197-1435517100-1435521600@www.trinitychurcheverton.org
SUMMARY:Love Sunday at Christ Church Liverpool
DESCRIPTION:
URL:https://www.trinitychurcheverton.org/event/love-sunday-at-christ-church-liverpool/
LOCATION:Archbishop Blanch School\, Elm Grove\, Liverpool\, L7 3EH
END:VEVENT
BEGIN:VEVENT
DTSTART;TZID=Europe/London:20150628T150000
DTEND;TZID=Europe/London:20150628T160000
DTSTAMP:20260423T234656
CREATED:20150423T143350Z
LAST-MODIFIED:20150423T143350Z
UID:1131-1435503600-1435507200@www.trinitychurcheverton.org
SUMMARY:"the 3 o'clock club"
DESCRIPTION:Fun for all the family. Private adventure! fun\, games & things to make! A free event. Under 12’s must be accompanied by an adult. \nContact Grace on 0151 260 3464 to book a place
URL:https://www.trinitychurcheverton.org/event/the-3-oclock-club-2/
LOCATION:BNENC Gym\, Breckfield Centre\, Breckfield Pl\, Liverpool\, L5 4NH\, United Kingdom
END:VEVENT
BEGIN:VEVENT
DTSTART;TZID=Europe/London:20150628T103000
DTEND;TZID=Europe/London:20150628T113000
DTSTAMP:20260423T234656
CREATED:20150423T151703Z
LAST-MODIFIED:20150423T151703Z
UID:1144-1435487400-1435491000@www.trinitychurcheverton.org
SUMMARY:Sunday Service: John 7 v 1 - 51
DESCRIPTION:
URL:https://www.trinitychurcheverton.org/event/sunday-service-john-7-v-1-51/
LOCATION:BNENC Gym\, Breckfield Centre\, Breckfield Pl\, Liverpool\, L5 4NH\, United Kingdom
END:VEVENT
BEGIN:VEVENT
DTSTART;TZID=Europe/London:20150627T130000
DTEND;TZID=Europe/London:20150627T170000
DTSTAMP:20260423T234656
CREATED:20150423T135039Z
LAST-MODIFIED:20150423T135039Z
UID:1126-1435410000-1435424400@www.trinitychurcheverton.org
SUMMARY:Church Day out
DESCRIPTION:We will be going out for a walk or to visit somewhere together as a church. All welcome.
URL:https://www.trinitychurcheverton.org/event/church-day-out-2/
END:VEVENT
BEGIN:VEVENT
DTSTART;TZID=Europe/London:20150626T100000
DTEND;TZID=Europe/London:20150626T113000
DTSTAMP:20260423T234656
CREATED:20150430T111148Z
LAST-MODIFIED:20150430T111148Z
UID:1209-1435312800-1435318200@www.trinitychurcheverton.org
SUMMARY:Trinity Tots
DESCRIPTION:A Stay & play group for 0-4’s £1 per family. For more info contact Grace on 0151 260 3463.
URL:https://www.trinitychurcheverton.org/event/trinity-tots-9/
LOCATION:BNENC Gym\, Breckfield Centre\, Breckfield Pl\, Liverpool\, L5 4NH\, United Kingdom
END:VEVENT
BEGIN:VEVENT
DTSTART;TZID=Europe/London:20150625T190000
DTEND;TZID=Europe/London:20150625T210000
DTSTAMP:20260423T234656
CREATED:20150430T094613Z
LAST-MODIFIED:20150430T094613Z
UID:1188-1435258800-1435266000@www.trinitychurcheverton.org
SUMMARY:Lifegroup (Gossiping the gospel)
DESCRIPTION:We have food together at 7 and then we will study the bible together. During and after the study there will be a time of prayer. If you want to come along contact Pete on 0151 260 3463.
URL:https://www.trinitychurcheverton.org/event/lifegroup-gossiping-the-gospel-8/
LOCATION:Sam’s house\, Everton 
END:VEVENT
BEGIN:VEVENT
DTSTART;TZID=Europe/London:20150624T190000
DTEND;TZID=Europe/London:20150624T210000
DTSTAMP:20260423T234656
CREATED:20150430T100839Z
LAST-MODIFIED:20150430T100839Z
UID:1192-1435172400-1435179600@www.trinitychurcheverton.org
SUMMARY:Lifegroup (Christianity Explored)
DESCRIPTION:We have food together at 7 and then we will watch a DVD followed by a time of questions and discussion. This 7 week course is especially aimed at those who are investigating Christianity and would like to get some questions answered.
URL:https://www.trinitychurcheverton.org/event/lifegroup-christianity-explored-10/
LOCATION:Peter and Ruth’s house
END:VEVENT
END:VCALENDAR