BEGIN:VCALENDAR
VERSION:2.0
PRODID:-//Trinity Church Everton - ECPv6.15.13//NONSGML v1.0//EN
CALSCALE:GREGORIAN
METHOD:PUBLISH
X-WR-CALNAME:Trinity Church Everton
X-ORIGINAL-URL:https://www.trinitychurcheverton.org
X-WR-CALDESC:Events for Trinity Church Everton
REFRESH-INTERVAL;VALUE=DURATION:PT1H
X-Robots-Tag:noindex
X-PUBLISHED-TTL:PT1H
BEGIN:VTIMEZONE
TZID:Europe/London
BEGIN:DAYLIGHT
TZOFFSETFROM:+0000
TZOFFSETTO:+0100
TZNAME:BST
DTSTART:20140330T010000
END:DAYLIGHT
BEGIN:STANDARD
TZOFFSETFROM:+0100
TZOFFSETTO:+0000
TZNAME:GMT
DTSTART:20141026T010000
END:STANDARD
BEGIN:DAYLIGHT
TZOFFSETFROM:+0000
TZOFFSETTO:+0100
TZNAME:BST
DTSTART:20150329T010000
END:DAYLIGHT
BEGIN:STANDARD
TZOFFSETFROM:+0100
TZOFFSETTO:+0000
TZNAME:GMT
DTSTART:20151025T010000
END:STANDARD
BEGIN:DAYLIGHT
TZOFFSETFROM:+0000
TZOFFSETTO:+0100
TZNAME:BST
DTSTART:20160327T010000
END:DAYLIGHT
BEGIN:STANDARD
TZOFFSETFROM:+0100
TZOFFSETTO:+0000
TZNAME:GMT
DTSTART:20161030T010000
END:STANDARD
BEGIN:DAYLIGHT
TZOFFSETFROM:+0000
TZOFFSETTO:+0100
TZNAME:BST
DTSTART:20170326T010000
END:DAYLIGHT
BEGIN:STANDARD
TZOFFSETFROM:+0100
TZOFFSETTO:+0000
TZNAME:GMT
DTSTART:20171029T010000
END:STANDARD
BEGIN:DAYLIGHT
TZOFFSETFROM:+0000
TZOFFSETTO:+0100
TZNAME:BST
DTSTART:20180325T010000
END:DAYLIGHT
BEGIN:STANDARD
TZOFFSETFROM:+0100
TZOFFSETTO:+0000
TZNAME:GMT
DTSTART:20181028T010000
END:STANDARD
BEGIN:DAYLIGHT
TZOFFSETFROM:+0000
TZOFFSETTO:+0100
TZNAME:BST
DTSTART:20190331T010000
END:DAYLIGHT
BEGIN:STANDARD
TZOFFSETFROM:+0100
TZOFFSETTO:+0000
TZNAME:GMT
DTSTART:20191027T010000
END:STANDARD
BEGIN:DAYLIGHT
TZOFFSETFROM:+0000
TZOFFSETTO:+0100
TZNAME:BST
DTSTART:20200329T010000
END:DAYLIGHT
BEGIN:STANDARD
TZOFFSETFROM:+0100
TZOFFSETTO:+0000
TZNAME:GMT
DTSTART:20201025T010000
END:STANDARD
BEGIN:DAYLIGHT
TZOFFSETFROM:+0000
TZOFFSETTO:+0100
TZNAME:BST
DTSTART:20210328T010000
END:DAYLIGHT
BEGIN:STANDARD
TZOFFSETFROM:+0100
TZOFFSETTO:+0000
TZNAME:GMT
DTSTART:20211031T010000
END:STANDARD
BEGIN:DAYLIGHT
TZOFFSETFROM:+0000
TZOFFSETTO:+0100
TZNAME:BST
DTSTART:20220327T010000
END:DAYLIGHT
BEGIN:STANDARD
TZOFFSETFROM:+0100
TZOFFSETTO:+0000
TZNAME:GMT
DTSTART:20221030T010000
END:STANDARD
BEGIN:DAYLIGHT
TZOFFSETFROM:+0000
TZOFFSETTO:+0100
TZNAME:BST
DTSTART:20230326T010000
END:DAYLIGHT
BEGIN:STANDARD
TZOFFSETFROM:+0100
TZOFFSETTO:+0000
TZNAME:GMT
DTSTART:20231029T010000
END:STANDARD
BEGIN:DAYLIGHT
TZOFFSETFROM:+0000
TZOFFSETTO:+0100
TZNAME:BST
DTSTART:20240331T010000
END:DAYLIGHT
BEGIN:STANDARD
TZOFFSETFROM:+0100
TZOFFSETTO:+0000
TZNAME:GMT
DTSTART:20241027T010000
END:STANDARD
BEGIN:DAYLIGHT
TZOFFSETFROM:+0000
TZOFFSETTO:+0100
TZNAME:BST
DTSTART:20250330T010000
END:DAYLIGHT
BEGIN:STANDARD
TZOFFSETFROM:+0100
TZOFFSETTO:+0000
TZNAME:GMT
DTSTART:20251026T010000
END:STANDARD
BEGIN:DAYLIGHT
TZOFFSETFROM:+0000
TZOFFSETTO:+0100
TZNAME:BST
DTSTART:20260329T010000
END:DAYLIGHT
BEGIN:STANDARD
TZOFFSETFROM:+0100
TZOFFSETTO:+0000
TZNAME:GMT
DTSTART:20261025T010000
END:STANDARD
END:VTIMEZONE
BEGIN:VTIMEZONE
TZID:UTC
BEGIN:STANDARD
TZOFFSETFROM:+0000
TZOFFSETTO:+0000
TZNAME:UTC
DTSTART:20240101T000000
END:STANDARD
END:VTIMEZONE
BEGIN:VEVENT
DTSTART;TZID=Europe/London:20251023T193000
DTEND;TZID=Europe/London:20251023T210000
DTSTAMP:20260423T182649
CREATED:20251007T182520Z
LAST-MODIFIED:20251007T182520Z
UID:8471-1761247800-1761253200@www.trinitychurcheverton.org
SUMMARY:Lifegroup
DESCRIPTION:The Christian life is to be lived in community.  Lifegroups are a chance to meet each week with a smaller group of people to pray and look at the Bible and encourage each other. \n   For more info talk to Peter or email  peter.trinitychurcheverton@gmail.com
URL:https://www.trinitychurcheverton.org/event/lifegroup-63/
LOCATION:Peoples Homes
END:VEVENT
BEGIN:VEVENT
DTSTART;TZID=Europe/London:20251022T130000
DTEND;TZID=Europe/London:20251022T150000
DTSTAMP:20260423T182649
CREATED:20251007T181138Z
LAST-MODIFIED:20251007T181138Z
UID:8461-1761138000-1761145200@www.trinitychurcheverton.org
SUMMARY:Finding Hope
DESCRIPTION:Come and join a safe space where we look at how the Bible applies to the ups and downs of life whilst doing crafts together. \nFor more info talk to Becky or email  becky.trinitychurcheverton@gmail.com
URL:https://www.trinitychurcheverton.org/event/finding-hope-3/
LOCATION:Church Centre\, BNENC\, Breckfield Road\, L5 4QT\, United Kingdom
END:VEVENT
BEGIN:VEVENT
DTSTART;TZID=Europe/London:20251022T090000
DTEND;TZID=Europe/London:20251022T100000
DTSTAMP:20260423T182649
CREATED:20251007T180716Z
LAST-MODIFIED:20251007T180716Z
UID:8455-1761123600-1761127200@www.trinitychurcheverton.org
SUMMARY:Prayer
DESCRIPTION:Do you want God to do great things here in Everton? Can you be free on Wednesday mornings? \nJoin us for our weekly prayer power hour.  Everyone is welcome to come and ask God to work in our community. \nFor more info talk to Peter or email  peter.trinitychurcheverton@gmail.com
URL:https://www.trinitychurcheverton.org/event/prayer-5/
LOCATION:Church Centre\, BNENC\, Breckfield Road\, L5 4QT\, United Kingdom
END:VEVENT
BEGIN:VEVENT
DTSTART;TZID=Europe/London:20251021T183000
DTEND;TZID=Europe/London:20251021T203000
DTSTAMP:20260423T182649
CREATED:20251007T175742Z
LAST-MODIFIED:20251007T175758Z
UID:8443-1761071400-1761078600@www.trinitychurcheverton.org
SUMMARY:Road to recovery
DESCRIPTION:Struggling with addiction? Feeling isolated? Then Road to Recovery is for you! \nRoad to Recovery is a Christian support group for anyone seeking a way out of addiction. \nFor more info talk to David or email  david.trinitychurcheverton@gmail.com
URL:https://www.trinitychurcheverton.org/event/road-to-recovery-4/
LOCATION:Church Centre\, BNENC\, Breckfield Road\, L5 4QT\, United Kingdom
END:VEVENT
BEGIN:VEVENT
DTSTART;TZID=Europe/London:20251019T121500
DTEND;TZID=Europe/London:20251019T133000
DTSTAMP:20260423T182649
CREATED:20251007T204038Z
LAST-MODIFIED:20251007T204038Z
UID:8493-1760876100-1760880600@www.trinitychurcheverton.org
SUMMARY:Member Meeting
DESCRIPTION:We will have a load of stuff for Jacket potatoes/Sandwiches after the meeting so please do plan to stick around and encourage each other.
URL:https://www.trinitychurcheverton.org/event/member-meeting/
LOCATION:BNENC Gym\, Breckfield Centre\, Breckfield Pl\, Liverpool\, L5 4NH\, United Kingdom
END:VEVENT
BEGIN:VEVENT
DTSTART;TZID=Europe/London:20251019T103000
DTEND;TZID=Europe/London:20251019T115000
DTSTAMP:20260423T182649
CREATED:20251007T200257Z
LAST-MODIFIED:20251007T200257Z
UID:8477-1760869800-1760874600@www.trinitychurcheverton.org
SUMMARY:Ezekiel 14-24
DESCRIPTION:You would be really welcome to come to one of our Sunday meetings. We are trying to run our church in a way that helps everyone to feel at home.
URL:https://www.trinitychurcheverton.org/event/ezekiel-14-24/
LOCATION:BNENC Gym\, Breckfield Centre\, Breckfield Pl\, Liverpool\, L5 4NH\, United Kingdom
END:VEVENT
BEGIN:VEVENT
DTSTART;TZID=Europe/London:20251016T193000
DTEND;TZID=Europe/London:20251016T210000
DTSTAMP:20260423T182649
CREATED:20251007T182005Z
LAST-MODIFIED:20251007T182005Z
UID:8467-1760643000-1760648400@www.trinitychurcheverton.org
SUMMARY:Lifegroup
DESCRIPTION:The Christian life is to be lived in community.  Lifegroups are a chance to meet each week with a smaller group of people to pray and look at the Bible and encourage each other. \n   For more info talk to Peter or email  peter.trinitychurcheverton@gmail.com
URL:https://www.trinitychurcheverton.org/event/lifegroup-62/
LOCATION:People Homes
END:VEVENT
BEGIN:VEVENT
DTSTART;TZID=Europe/London:20251015T130000
DTEND;TZID=Europe/London:20251015T150000
DTSTAMP:20260423T182649
CREATED:20251007T181024Z
LAST-MODIFIED:20251007T181024Z
UID:8459-1760533200-1760540400@www.trinitychurcheverton.org
SUMMARY:Finding Hope
DESCRIPTION:Come and join a safe space where we look at how the Bible applies to the ups and downs of life whilst doing crafts together. \nFor more info talk to Becky or email  becky.trinitychurcheverton@gmail.com
URL:https://www.trinitychurcheverton.org/event/finding-hope-2/
LOCATION:Church Centre\, BNENC\, Breckfield Road\, L5 4QT\, United Kingdom
END:VEVENT
BEGIN:VEVENT
DTSTART;TZID=Europe/London:20251015T090000
DTEND;TZID=Europe/London:20251015T100000
DTSTAMP:20260423T182649
CREATED:20251007T180140Z
LAST-MODIFIED:20251007T180140Z
UID:8447-1760518800-1760522400@www.trinitychurcheverton.org
SUMMARY:Prayer
DESCRIPTION:Do you want God to do great things here in Everton? Can you be free on Wednesday mornings? \nJoin us for our weekly prayer power hour.  Everyone is welcome to come and ask God to work in our community \nFor more info talk to Peter or email peter.trinitychurcheverton@gmail.com
URL:https://www.trinitychurcheverton.org/event/prayer-2/
LOCATION:Church Centre\, BNENC\, Breckfield Road\, L5 4QT\, United Kingdom
END:VEVENT
BEGIN:VEVENT
DTSTART;TZID=Europe/London:20251014T183000
DTEND;TZID=Europe/London:20251014T203000
DTSTAMP:20260423T182649
CREATED:20251007T175349Z
LAST-MODIFIED:20251007T175349Z
UID:8439-1760466600-1760473800@www.trinitychurcheverton.org
SUMMARY:Road to recovery
DESCRIPTION:Struggling with addiction? Feeling isolated? Then Road to Recovery is for you! \nRoad to Recovery is a Christian support group for anyone seeking a way out of addiction. \nFor more info talk to David or email                               david.trinitychurcheverton@gmail.com
URL:https://www.trinitychurcheverton.org/event/road-to-recovery-2/
LOCATION:Church Centre\, BNENC\, Breckfield Road\, L5 4QT\, United Kingdom
END:VEVENT
BEGIN:VEVENT
DTSTART;TZID=Europe/London:20251013T130000
DTEND;TZID=Europe/London:20251013T150000
DTSTAMP:20260423T182649
CREATED:20251007T173606Z
LAST-MODIFIED:20251007T173606Z
UID:8429-1760360400-1760367600@www.trinitychurcheverton.org
SUMMARY:Restored
DESCRIPTION:Come and join a craft group for women. \nEach week we will be doing different crafts on the theme of ‘broken but not worthless’ and looking at broken lives of women in the Bible and what that means for us today. \nFor more info talk to Becky or email becky.trinitychurcheverton@gmail.com
URL:https://www.trinitychurcheverton.org/event/restored/
LOCATION:Church Centre\, BNENC\, Breckfield Road\, L5 4QT\, United Kingdom
END:VEVENT
BEGIN:VEVENT
DTSTART;TZID=Europe/London:20251012T190000
DTEND;TZID=Europe/London:20251012T210000
DTSTAMP:20260423T182649
CREATED:20251007T201926Z
LAST-MODIFIED:20251007T201926Z
UID:8482-1760295600-1760302800@www.trinitychurcheverton.org
SUMMARY:Women Bible Sunday
DESCRIPTION:This is a great time to get together as women and explore the book of Galatians. \nFor more info talk to Becky or email becky.trinitychurcheverton@gmail.com
URL:https://www.trinitychurcheverton.org/event/women-bible-sunday/
LOCATION:Mariana’s house
END:VEVENT
BEGIN:VEVENT
DTSTART;TZID=UTC:20251012T103000
DTEND;TZID=UTC:20251012T115000
DTSTAMP:20260423T182649
CREATED:20251007T102558Z
LAST-MODIFIED:20251007T102942Z
UID:8425-1760265000-1760269800@www.trinitychurcheverton.org
SUMMARY:Ezekiel 12-13
DESCRIPTION:You would be really welcome to come to one of our Sunday meetings. We are trying to run our church in a way that helps everyone to feel at home.
URL:https://www.trinitychurcheverton.org/event/ezekiel-12-13/
LOCATION:BNENC Gym\, Breckfield Centre\, Breckfield Pl\, Liverpool\, L5 4NH\, United Kingdom
END:VEVENT
BEGIN:VEVENT
DTSTART;TZID=Europe/London:20251009T193000
DTEND;TZID=Europe/London:20251009T210000
DTSTAMP:20260423T182649
CREATED:20251007T181714Z
LAST-MODIFIED:20251007T182320Z
UID:8465-1760038200-1760043600@www.trinitychurcheverton.org
SUMMARY:Lifegroup
DESCRIPTION:The Christian life is to be lived in community.  Lifegroups are a chance to meet each week with a smaller group of people to pray and look at the Bible and encourage each other. \n  For more info talk to Peter or email  peter.trinitychurcheverton@gmail.com
URL:https://www.trinitychurcheverton.org/event/lifegroup-61/
LOCATION:Peoples Homes
END:VEVENT
BEGIN:VEVENT
DTSTART;TZID=Europe/London:20251008T130000
DTEND;TZID=Europe/London:20251008T150000
DTSTAMP:20260423T182649
CREATED:20251007T180854Z
LAST-MODIFIED:20251007T180854Z
UID:8457-1759928400-1759935600@www.trinitychurcheverton.org
SUMMARY:Finding Hope
DESCRIPTION:Come and join a safe space where we look at how the Bible applies to the ups and downs of life whilst doing crafts together. \nFor more info talk to Becky or email  becky.trinitychurcheverton@gmail.com
URL:https://www.trinitychurcheverton.org/event/finding-hope/
LOCATION:Church Centre\, BNENC\, Breckfield Road\, L5 4QT\, United Kingdom
END:VEVENT
BEGIN:VEVENT
DTSTART;TZID=Europe/London:20251008T090000
DTEND;TZID=Europe/London:20251008T100000
DTSTAMP:20260423T182649
CREATED:20251007T180016Z
LAST-MODIFIED:20251007T180016Z
UID:8445-1759914000-1759917600@www.trinitychurcheverton.org
SUMMARY:Prayer
DESCRIPTION:Do you want God to do great things here in Everton? Can you be free on Wednesday mornings? \nJoin us for our weekly prayer power hour.  Everyone is welcome to come and ask God to work in our community \nFor more info talk to Peter or email peter.trinitychurcheverton@gmail.com
URL:https://www.trinitychurcheverton.org/event/prayer/
LOCATION:Church Centre\, BNENC\, Breckfield Road\, L5 4QT\, United Kingdom
END:VEVENT
BEGIN:VEVENT
DTSTART;TZID=Europe/London:20251007T183000
DTEND;TZID=Europe/London:20251007T200000
DTSTAMP:20260423T182649
CREATED:20251007T174706Z
LAST-MODIFIED:20251007T174706Z
UID:8437-1759861800-1759867200@www.trinitychurcheverton.org
SUMMARY:Road to recovery
DESCRIPTION:Struggling with addiction? Feeling isolated? Then Road to Recovery is for you! \nRoad to Recovery is a Christian support group for anyone seeking a way out of addiction. \nTuesdays 6:30-8:30pm in the church centre \nFor more info talk to David or email         david.trinitychurcheverton@gmail.com
URL:https://www.trinitychurcheverton.org/event/road-to-recovery/
LOCATION:Church Centre\, BNENC\, Breckfield Road\, L5 4QT\, United Kingdom
END:VEVENT
BEGIN:VEVENT
DTSTART;TZID=Europe/London:20151227T103000
DTEND;TZID=Europe/London:20151227T113000
DTSTAMP:20260423T182649
CREATED:20150915T150608Z
LAST-MODIFIED:20150915T150608Z
UID:1441-1451212200-1451215800@www.trinitychurcheverton.org
SUMMARY:Sunday service: Matthew 2 v 13-23
DESCRIPTION:
URL:https://www.trinitychurcheverton.org/event/sunday-service-matthew-2-v-13-23/
LOCATION:BNENC Gym\, Breckfield Centre\, Breckfield Pl\, Liverpool\, L5 4NH\, United Kingdom
END:VEVENT
BEGIN:VEVENT
DTSTART;TZID=Europe/London:20151220T150000
DTEND;TZID=Europe/London:20151220T170000
DTSTAMP:20260423T182649
CREATED:20151216T151442Z
LAST-MODIFIED:20151216T151442Z
UID:1595-1450623600-1450630800@www.trinitychurcheverton.org
SUMMARY:Kid's Christmas
DESCRIPTION:Everyone is invited to this brilliant way to start the Christmas celebrations. \n3-4pm Christmas craft session for families. We will be making Christmas decorations and sweet treats. This part is ideal for children under 11. \n4-5pm Fun\, interactive\, retelling of the Nativity story. All welcome.
URL:https://www.trinitychurcheverton.org/event/kids-christmas/
LOCATION:BNENC Gym\, Breckfield Centre\, Breckfield Pl\, Liverpool\, L5 4NH\, United Kingdom
END:VEVENT
BEGIN:VEVENT
DTSTART;TZID=Europe/London:20151220T103000
DTEND;TZID=Europe/London:20151220T113000
DTSTAMP:20260423T182649
CREATED:20150915T150412Z
LAST-MODIFIED:20150915T150505Z
UID:1440-1450607400-1450611000@www.trinitychurcheverton.org
SUMMARY:Sunday Service: Christmas
DESCRIPTION:
URL:https://www.trinitychurcheverton.org/event/sunday-service-matthew-2-v-1-12/
LOCATION:BNENC Gym\, Breckfield Centre\, Breckfield Pl\, Liverpool\, L5 4NH\, United Kingdom
END:VEVENT
BEGIN:VEVENT
DTSTART;TZID=Europe/London:20151218T193000
DTEND;TZID=Europe/London:20151218T210000
DTSTAMP:20260423T182649
CREATED:20151216T150943Z
LAST-MODIFIED:20151216T151231Z
UID:1594-1450467000-1450472400@www.trinitychurcheverton.org
SUMMARY:The Big Christmas Cracker
DESCRIPTION:An action packed celebration of Christmas! Including: buffet\, quiz\, talk\, games and plenty of Christmas crackers!
URL:https://www.trinitychurcheverton.org/event/the-big-christmas-cracker/
LOCATION:BNENC Gym\, Breckfield Centre\, Breckfield Pl\, Liverpool\, L5 4NH\, United Kingdom
END:VEVENT
BEGIN:VEVENT
DTSTART;TZID=Europe/London:20151206T103000
DTEND;TZID=Europe/London:20151206T113000
DTSTAMP:20260423T182649
CREATED:20150915T150254Z
LAST-MODIFIED:20150915T150254Z
UID:1439-1449397800-1449401400@www.trinitychurcheverton.org
SUMMARY:Sunday service: Matthew 1 v 18-25
DESCRIPTION:
URL:https://www.trinitychurcheverton.org/event/sunday-service-matthew-1-v-18-25/
LOCATION:BNENC Gym\, Breckfield Centre\, Breckfield Pl\, Liverpool\, L5 4NH\, United Kingdom
END:VEVENT
BEGIN:VEVENT
DTSTART;TZID=Europe/London:20151129T103000
DTEND;TZID=Europe/London:20151129T113000
DTSTAMP:20260423T182649
CREATED:20150915T150124Z
LAST-MODIFIED:20150915T150124Z
UID:1438-1448793000-1448796600@www.trinitychurcheverton.org
SUMMARY:Sunday service: Matthew 1 v 1-17
DESCRIPTION:
URL:https://www.trinitychurcheverton.org/event/sunday-service-matthew-1-v-1-17/
LOCATION:BNENC Gym\, Breckfield Centre\, Breckfield Pl\, Liverpool\, L5 4NH\, United Kingdom
END:VEVENT
BEGIN:VEVENT
DTSTART;TZID=Europe/London:20151122T103000
DTEND;TZID=Europe/London:20151122T113000
DTSTAMP:20260423T182649
CREATED:20150915T145943Z
LAST-MODIFIED:20150915T145943Z
UID:1437-1448188200-1448191800@www.trinitychurcheverton.org
SUMMARY:Sunday service: Titus
DESCRIPTION:
URL:https://www.trinitychurcheverton.org/event/sunday-service-titus-4/
LOCATION:BNENC Gym\, Breckfield Centre\, Breckfield Pl\, Liverpool\, L5 4NH\, United Kingdom
END:VEVENT
BEGIN:VEVENT
DTSTART;TZID=Europe/London:20151115T103000
DTEND;TZID=Europe/London:20151115T113000
DTSTAMP:20260423T182649
CREATED:20150915T145842Z
LAST-MODIFIED:20150915T145842Z
UID:1436-1447583400-1447587000@www.trinitychurcheverton.org
SUMMARY:Sunday service: Titus
DESCRIPTION:
URL:https://www.trinitychurcheverton.org/event/sunday-service-titus-3/
LOCATION:BNENC Gym\, Breckfield Centre\, Breckfield Pl\, Liverpool\, L5 4NH\, United Kingdom
END:VEVENT
BEGIN:VEVENT
DTSTART;TZID=Europe/London:20151108T103000
DTEND;TZID=Europe/London:20151108T113000
DTSTAMP:20260423T182649
CREATED:20150915T145738Z
LAST-MODIFIED:20150915T145738Z
UID:1435-1446978600-1446982200@www.trinitychurcheverton.org
SUMMARY:Sunday service: Titus
DESCRIPTION:
URL:https://www.trinitychurcheverton.org/event/sunday-service-titus-2/
LOCATION:BNENC Gym\, Breckfield Centre\, Breckfield Pl\, Liverpool\, L5 4NH\, United Kingdom
END:VEVENT
BEGIN:VEVENT
DTSTART;TZID=Europe/London:20151101T103000
DTEND;TZID=Europe/London:20151101T113000
DTSTAMP:20260423T182649
CREATED:20151019T153604Z
LAST-MODIFIED:20151019T153640Z
UID:1541-1446373800-1446377400@www.trinitychurcheverton.org
SUMMARY:Sunday service-Titus
DESCRIPTION:
URL:https://www.trinitychurcheverton.org/event/sunday-service-titus-5/
LOCATION:BNENC Gym\, Breckfield Centre\, Breckfield Pl\, Liverpool\, L5 4NH\, United Kingdom
END:VEVENT
BEGIN:VEVENT
DTSTART;TZID=Europe/London:20151101T103000
DTEND;TZID=Europe/London:20151101T113000
DTSTAMP:20260423T182649
CREATED:20150915T145613Z
LAST-MODIFIED:20150915T145613Z
UID:1434-1446373800-1446377400@www.trinitychurcheverton.org
SUMMARY:Sunday service: Titus
DESCRIPTION:
URL:https://www.trinitychurcheverton.org/event/sunday-service-titus/
LOCATION:BNENC Gym\, Breckfield Centre\, Breckfield Pl\, Liverpool\, L5 4NH\, United Kingdom
END:VEVENT
BEGIN:VEVENT
DTSTART;TZID=Europe/London:20151030T100000
DTEND;TZID=Europe/London:20151030T113000
DTSTAMP:20260423T182649
CREATED:20151019T153444Z
LAST-MODIFIED:20151019T153444Z
UID:1540-1446199200-1446204600@www.trinitychurcheverton.org
SUMMARY:Trinity Tots
DESCRIPTION:
URL:https://www.trinitychurcheverton.org/event/trinity-tots-19/
LOCATION:BNENC Gym\, Breckfield Centre\, Breckfield Pl\, Liverpool\, L5 4NH\, United Kingdom
END:VEVENT
BEGIN:VEVENT
DTSTART;TZID=Europe/London:20151029T190000
DTEND;TZID=Europe/London:20151029T210000
DTSTAMP:20260423T182649
CREATED:20151019T153259Z
LAST-MODIFIED:20151019T153259Z
UID:1539-1446145200-1446152400@www.trinitychurcheverton.org
SUMMARY:Lifegroup
DESCRIPTION:
URL:https://www.trinitychurcheverton.org/event/lifegroup-60/
LOCATION:Sam’s house\, Everton 
END:VEVENT
END:VCALENDAR