BEGIN:VCALENDAR
VERSION:2.0
PRODID:-//Trinity Church Everton - ECPv6.15.13//NONSGML v1.0//EN
CALSCALE:GREGORIAN
METHOD:PUBLISH
X-WR-CALNAME:Trinity Church Everton
X-ORIGINAL-URL:https://www.trinitychurcheverton.org
X-WR-CALDESC:Events for Trinity Church Everton
REFRESH-INTERVAL;VALUE=DURATION:PT1H
X-Robots-Tag:noindex
X-PUBLISHED-TTL:PT1H
BEGIN:VTIMEZONE
TZID:Europe/London
BEGIN:DAYLIGHT
TZOFFSETFROM:+0000
TZOFFSETTO:+0100
TZNAME:BST
DTSTART:20140330T010000
END:DAYLIGHT
BEGIN:STANDARD
TZOFFSETFROM:+0100
TZOFFSETTO:+0000
TZNAME:GMT
DTSTART:20141026T010000
END:STANDARD
BEGIN:DAYLIGHT
TZOFFSETFROM:+0000
TZOFFSETTO:+0100
TZNAME:BST
DTSTART:20150329T010000
END:DAYLIGHT
BEGIN:STANDARD
TZOFFSETFROM:+0100
TZOFFSETTO:+0000
TZNAME:GMT
DTSTART:20151025T010000
END:STANDARD
BEGIN:DAYLIGHT
TZOFFSETFROM:+0000
TZOFFSETTO:+0100
TZNAME:BST
DTSTART:20160327T010000
END:DAYLIGHT
BEGIN:STANDARD
TZOFFSETFROM:+0100
TZOFFSETTO:+0000
TZNAME:GMT
DTSTART:20161030T010000
END:STANDARD
END:VTIMEZONE
BEGIN:VEVENT
DTSTART;TZID=Europe/London:20151030T100000
DTEND;TZID=Europe/London:20151030T113000
DTSTAMP:20260423T222331
CREATED:20151019T153444Z
LAST-MODIFIED:20151019T153444Z
UID:1540-1446199200-1446204600@www.trinitychurcheverton.org
SUMMARY:Trinity Tots
DESCRIPTION:
URL:https://www.trinitychurcheverton.org/event/trinity-tots-19/
LOCATION:BNENC Gym\, Breckfield Centre\, Breckfield Pl\, Liverpool\, L5 4NH\, United Kingdom
END:VEVENT
BEGIN:VEVENT
DTSTART;TZID=Europe/London:20151029T190000
DTEND;TZID=Europe/London:20151029T210000
DTSTAMP:20260423T222331
CREATED:20151019T153259Z
LAST-MODIFIED:20151019T153259Z
UID:1539-1446145200-1446152400@www.trinitychurcheverton.org
SUMMARY:Lifegroup
DESCRIPTION:
URL:https://www.trinitychurcheverton.org/event/lifegroup-60/
LOCATION:Sam’s house\, Everton 
END:VEVENT
BEGIN:VEVENT
DTSTART;TZID=Europe/London:20151028T190000
DTEND;TZID=Europe/London:20151028T213000
DTSTAMP:20260423T222331
CREATED:20151019T153125Z
LAST-MODIFIED:20151019T153125Z
UID:1538-1446058800-1446067800@www.trinitychurcheverton.org
SUMMARY:Lifegroup
DESCRIPTION:
URL:https://www.trinitychurcheverton.org/event/lifegroup-59/
LOCATION:Peter and Ruth’s house
END:VEVENT
BEGIN:VEVENT
DTSTART;TZID=Europe/London:20151027T193000
DTEND;TZID=Europe/London:20151027T210000
DTSTAMP:20260423T222331
CREATED:20151019T151206Z
LAST-MODIFIED:20151019T151206Z
UID:1533-1445974200-1445979600@www.trinitychurcheverton.org
SUMMARY:Cross Roads Session 4- What has God done?
DESCRIPTION:Cross Roads is a 7 week course which looks at what the Bible says about addiction and change. Each week we will firstly listen to a 10-20 min Bible talk and then speak about what has just been taught in single sex small groups and how the teaching applies to our individual situation’s.
URL:https://www.trinitychurcheverton.org/event/cross-roads-session-4-what-has-god-done/
LOCATION:BNENC Gym\, Breckfield Centre\, Breckfield Pl\, Liverpool\, L5 4NH\, United Kingdom
END:VEVENT
BEGIN:VEVENT
DTSTART;TZID=Europe/London:20151025T103000
DTEND;TZID=Europe/London:20151025T113000
DTSTAMP:20260423T222331
CREATED:20151019T152433Z
LAST-MODIFIED:20151019T152717Z
UID:1535-1445769000-1445772600@www.trinitychurcheverton.org
SUMMARY:Sunday service- Daniel 10-12
DESCRIPTION:
URL:https://www.trinitychurcheverton.org/event/sunday-service-daniel-10-12-2/
LOCATION:BNENC Gym\, Breckfield Centre\, Breckfield Pl\, Liverpool\, L5 4NH\, United Kingdom
END:VEVENT
BEGIN:VEVENT
DTSTART;TZID=Europe/London:20151025T103000
DTEND;TZID=Europe/London:20151025T113000
DTSTAMP:20260423T222331
CREATED:20150915T144820Z
LAST-MODIFIED:20150915T144820Z
UID:1433-1445769000-1445772600@www.trinitychurcheverton.org
SUMMARY:Sunday service: Daniel 10-12
DESCRIPTION:
URL:https://www.trinitychurcheverton.org/event/sunday-service-daniel-10-12/
LOCATION:BNENC Gym\, Breckfield Centre\, Breckfield Pl\, Liverpool\, L5 4NH\, United Kingdom
END:VEVENT
BEGIN:VEVENT
DTSTART;TZID=Europe/London:20151023T100000
DTEND;TZID=Europe/London:20151023T113000
DTSTAMP:20260423T222331
CREATED:20151019T152851Z
LAST-MODIFIED:20151019T152851Z
UID:1537-1445594400-1445599800@www.trinitychurcheverton.org
SUMMARY:Trinity Tots
DESCRIPTION:
URL:https://www.trinitychurcheverton.org/event/trinity-tots-6/
LOCATION:BNENC Gym\, Breckfield Centre\, Breckfield Pl\, Liverpool\, L5 4NH\, United Kingdom
END:VEVENT
BEGIN:VEVENT
DTSTART;TZID=Europe/London:20151022T190000
DTEND;TZID=Europe/London:20151022T210000
DTSTAMP:20260423T222331
CREATED:20151019T151401Z
LAST-MODIFIED:20151019T152005Z
UID:1534-1445540400-1445547600@www.trinitychurcheverton.org
SUMMARY:Lifegroup
DESCRIPTION:
URL:https://www.trinitychurcheverton.org/event/lifegroup-58/
LOCATION:Sam’s house\, Everton 
END:VEVENT
BEGIN:VEVENT
DTSTART;TZID=Europe/London:20151020T173000
DTEND;TZID=Europe/London:20151020T203000
DTSTAMP:20260423T222331
CREATED:20151019T150720Z
LAST-MODIFIED:20151019T150720Z
UID:1531-1445362200-1445373000@www.trinitychurcheverton.org
SUMMARY:Cross Roads
DESCRIPTION:No Cross Roads this week due to unavailability of the room. We will be having a social this week.
URL:https://www.trinitychurcheverton.org/event/cross-roads/
LOCATION:Odeon Liverpool One
END:VEVENT
BEGIN:VEVENT
DTSTART;TZID=Europe/London:20151018T103000
DTEND;TZID=Europe/London:20151018T113000
DTSTAMP:20260423T222331
CREATED:20150915T144653Z
LAST-MODIFIED:20150915T144653Z
UID:1432-1445164200-1445167800@www.trinitychurcheverton.org
SUMMARY:Sunday service: Daniel 9
DESCRIPTION:
URL:https://www.trinitychurcheverton.org/event/sunday-service-daniel-9/
LOCATION:BNENC Gym\, Breckfield Centre\, Breckfield Pl\, Liverpool\, L5 4NH\, United Kingdom
END:VEVENT
BEGIN:VEVENT
DTSTART;TZID=Europe/London:20151011T103000
DTEND;TZID=Europe/London:20151011T113000
DTSTAMP:20260423T222331
CREATED:20150915T144546Z
LAST-MODIFIED:20150915T144546Z
UID:1431-1444559400-1444563000@www.trinitychurcheverton.org
SUMMARY:Sunday service: Daniel 8
DESCRIPTION:
URL:https://www.trinitychurcheverton.org/event/sunday-service-daniel-8/
LOCATION:BNENC Gym\, Breckfield Centre\, Breckfield Pl\, Liverpool\, L5 4NH\, United Kingdom
END:VEVENT
BEGIN:VEVENT
DTSTART;TZID=Europe/London:20151004T103000
DTEND;TZID=Europe/London:20151004T113000
DTSTAMP:20260423T222331
CREATED:20150915T144429Z
LAST-MODIFIED:20150915T144429Z
UID:1430-1443954600-1443958200@www.trinitychurcheverton.org
SUMMARY:Sunday service: Daniel 7
DESCRIPTION:
URL:https://www.trinitychurcheverton.org/event/sunday-service-daniel-7/
LOCATION:BNENC Gym\, Breckfield Centre\, Breckfield Pl\, Liverpool\, L5 4NH\, United Kingdom
END:VEVENT
BEGIN:VEVENT
DTSTART;TZID=Europe/London:20150927T103000
DTEND;TZID=Europe/London:20150927T113000
DTSTAMP:20260423T222331
CREATED:20150915T144317Z
LAST-MODIFIED:20150915T144317Z
UID:1429-1443349800-1443353400@www.trinitychurcheverton.org
SUMMARY:Sunday service: Matthew 13 v 44-52
DESCRIPTION:
URL:https://www.trinitychurcheverton.org/event/sunday-service-matthew-13-v-44-52/
LOCATION:BNENC Gym\, Breckfield Centre\, Breckfield Pl\, Liverpool\, L5 4NH\, United Kingdom
END:VEVENT
BEGIN:VEVENT
DTSTART;TZID=Europe/London:20150922T193000
DTEND;TZID=Europe/London:20150922T210000
DTSTAMP:20260423T222331
CREATED:20150915T151407Z
LAST-MODIFIED:20150915T151407Z
UID:1444-1442950200-1442955600@www.trinitychurcheverton.org
SUMMARY:Crossroads start
DESCRIPTION:Crossroads is a group helping people to take the path away from addiction. Over 8 weeks we will be sharing our stories\, discussing who God is\, what our real problem is and how we can change. \nThe 1st week will consist of food and some people sharing their stories of how they have overcome their addictions. The following 7 weeks will consist of teaching’s and group work. \nThese 8 weeks aim to direct you to a path of change that has been proven to transform people. \nFor more information or to book your place call David on 0151 260 3464 or email david@trinitychurcheverton.org
URL:https://www.trinitychurcheverton.org/event/crossroads-start/
LOCATION:BNENC Gym\, Breckfield Centre\, Breckfield Pl\, Liverpool\, L5 4NH\, United Kingdom
END:VEVENT
BEGIN:VEVENT
DTSTART;TZID=Europe/London:20150917T190000
DTEND;TZID=Europe/London:20150917T210000
DTSTAMP:20260423T222331
CREATED:20150915T151051Z
LAST-MODIFIED:20150915T151051Z
UID:1443-1442516400-1442523600@www.trinitychurcheverton.org
SUMMARY:Lifegroup
DESCRIPTION:We meet together to have food\, study the bible and pray together. If you would like to attend a Lifegroup contact Pete on 0151 260 3464.
URL:https://www.trinitychurcheverton.org/event/lifegroup-57/
LOCATION:Sam’s house\, Everton 
END:VEVENT
BEGIN:VEVENT
DTSTART;TZID=Europe/London:20150916T190000
DTEND;TZID=Europe/London:20150916T210000
DTSTAMP:20260423T222331
CREATED:20150915T150833Z
LAST-MODIFIED:20150915T150833Z
UID:1442-1442430000-1442437200@www.trinitychurcheverton.org
SUMMARY:Lifegroup
DESCRIPTION:We meet together to have food\, study the bible and pray together. If you would like to attend a Lifegroup contact Pete on 0151 260 3464.
URL:https://www.trinitychurcheverton.org/event/lifegroup-56/
LOCATION:Peter and Ruth’s house
END:VEVENT
BEGIN:VEVENT
DTSTART;TZID=Europe/London:20150908T193000
DTEND;TZID=Europe/London:20150908T210000
DTSTAMP:20260423T222331
CREATED:20150908T164729Z
LAST-MODIFIED:20150908T164729Z
UID:1427-1441740600-1441746000@www.trinitychurcheverton.org
SUMMARY:Pie & A Pint Night
DESCRIPTION:Enjoy a pie and come and hear how a bunch of guys changed the face of Christianity over a beer. Call us to book your free place.
URL:https://www.trinitychurcheverton.org/event/pie-a-pint-night/
LOCATION:Homebaked\, 197 Oakfield Rd\, Liverpool\, L4 0UF\, United Kingdom
END:VEVENT
BEGIN:VEVENT
DTSTART;TZID=Europe/London:20150830T103000
DTEND;TZID=Europe/London:20150830T113000
DTSTAMP:20260423T222331
CREATED:20150423T152931Z
LAST-MODIFIED:20150423T152931Z
UID:1153-1440930600-1440934200@www.trinitychurcheverton.org
SUMMARY:Sunday Service: Genesis 14 v 1 - 24
DESCRIPTION:
URL:https://www.trinitychurcheverton.org/event/sunday-service-genesis-14-v-1-24/
LOCATION:BNENC Gym\, Breckfield Centre\, Breckfield Pl\, Liverpool\, L5 4NH\, United Kingdom
END:VEVENT
BEGIN:VEVENT
DTSTART;TZID=Europe/London:20150830T100000
DTEND;TZID=Europe/London:20150830T113000
DTSTAMP:20260423T222331
CREATED:20150430T114115Z
LAST-MODIFIED:20150430T114115Z
UID:1219-1440928800-1440934200@www.trinitychurcheverton.org
SUMMARY:Love Sundays at Christ Church Liverpool
DESCRIPTION:
URL:https://www.trinitychurcheverton.org/event/love-sundays-at-christ-church-liverpool/
LOCATION:Archbishop Blanch School\, Elm Grove\, Liverpool\, L7 3EH
END:VEVENT
BEGIN:VEVENT
DTSTART;TZID=Europe/London:20150828T100000
DTEND;TZID=Europe/London:20150828T113000
DTSTAMP:20260423T222331
CREATED:20150430T112956Z
LAST-MODIFIED:20150430T112956Z
UID:1218-1440756000-1440761400@www.trinitychurcheverton.org
SUMMARY:Trinity Tots
DESCRIPTION:A Stay & play group for 0-4’s £1 per family. For more info contact Grace on 0151 260 3463.
URL:https://www.trinitychurcheverton.org/event/trinity-tots-18/
LOCATION:BNENC Gym\, Breckfield Centre\, Breckfield Pl\, Liverpool\, L5 4NH\, United Kingdom
END:VEVENT
BEGIN:VEVENT
DTSTART;TZID=Europe/London:20150823T103000
DTEND;TZID=Europe/London:20150823T113000
DTSTAMP:20260423T222331
CREATED:20150423T152819Z
LAST-MODIFIED:20150423T152819Z
UID:1152-1440325800-1440329400@www.trinitychurcheverton.org
SUMMARY:Sunday Service: Genesis 13 v 3 - 18
DESCRIPTION:
URL:https://www.trinitychurcheverton.org/event/sunday-service-genesis-13-v-3-18/
LOCATION:BNENC Gym\, Breckfield Centre\, Breckfield Pl\, Liverpool\, L5 4NH\, United Kingdom
END:VEVENT
BEGIN:VEVENT
DTSTART;TZID=Europe/London:20150821T100000
DTEND;TZID=Europe/London:20150821T113000
DTSTAMP:20260423T222331
CREATED:20150430T112822Z
LAST-MODIFIED:20150430T112822Z
UID:1217-1440151200-1440156600@www.trinitychurcheverton.org
SUMMARY:Trinity Tots
DESCRIPTION:A Stay & play group for 0-4’s £1 per family. For more info contact Grace on 0151 260 3463.
URL:https://www.trinitychurcheverton.org/event/trinity-tots-17/
LOCATION:BNENC Gym\, Breckfield Centre\, Breckfield Pl\, Liverpool\, L5 4NH\, United Kingdom
END:VEVENT
BEGIN:VEVENT
DTSTART;TZID=Europe/London:20150816T103000
DTEND;TZID=Europe/London:20150816T113000
DTSTAMP:20260423T222331
CREATED:20150423T152703Z
LAST-MODIFIED:20150423T152703Z
UID:1151-1439721000-1439724600@www.trinitychurcheverton.org
SUMMARY:Sunday Service: Genesis 12 v 10 - 13 v 2
DESCRIPTION:
URL:https://www.trinitychurcheverton.org/event/sunday-service-genesis-12-v-10-13-v-2/
LOCATION:BNENC Gym\, Breckfield Centre\, Breckfield Pl\, Liverpool\, L5 4NH\, United Kingdom
END:VEVENT
BEGIN:VEVENT
DTSTART;TZID=Europe/London:20150814T100000
DTEND;TZID=Europe/London:20150814T113000
DTSTAMP:20260423T222331
CREATED:20150430T112628Z
LAST-MODIFIED:20150430T112628Z
UID:1216-1439546400-1439551800@www.trinitychurcheverton.org
SUMMARY:Trinity Tots
DESCRIPTION:A Stay & play group for 0-4’s £1 per family. For more info contact Grace on 0151 260 3463.
URL:https://www.trinitychurcheverton.org/event/trinity-tots-16/
LOCATION:BNENC Gym\, Breckfield Centre\, Breckfield Pl\, Liverpool\, L5 4NH\, United Kingdom
END:VEVENT
BEGIN:VEVENT
DTSTART;TZID=Europe/London:20150809T103000
DTEND;TZID=Europe/London:20150809T113000
DTSTAMP:20260423T222331
CREATED:20150423T152545Z
LAST-MODIFIED:20150423T152545Z
UID:1150-1439116200-1439119800@www.trinitychurcheverton.org
SUMMARY:Sunday Service: Genesis 11 v 27 - 12 v 9
DESCRIPTION:
URL:https://www.trinitychurcheverton.org/event/sunday-service-genesis-11-v-27-12-v-9/
LOCATION:BNENC Gym\, Breckfield Centre\, Breckfield Pl\, Liverpool\, L5 4NH\, United Kingdom
END:VEVENT
BEGIN:VEVENT
DTSTART;TZID=Europe/London:20150807T100000
DTEND;TZID=Europe/London:20150807T113000
DTSTAMP:20260423T222331
CREATED:20150430T112258Z
LAST-MODIFIED:20150430T112258Z
UID:1215-1438941600-1438947000@www.trinitychurcheverton.org
SUMMARY:Trinity Tots
DESCRIPTION:A Stay & play group for 0-4’s £1 per family. For more info contact Grace on 0151 260 3463.
URL:https://www.trinitychurcheverton.org/event/trinity-tots-15/
LOCATION:BNENC Gym\, Breckfield Centre\, Breckfield Pl\, Liverpool\, L5 4NH\, United Kingdom
END:VEVENT
BEGIN:VEVENT
DTSTART;TZID=Europe/London:20150802T170000
DTEND;TZID=Europe/London:20150802T180000
DTSTAMP:20260423T222331
CREATED:20150430T104526Z
LAST-MODIFIED:20150430T114728Z
UID:1199-1438534800-1438538400@www.trinitychurcheverton.org
SUMMARY:Prayer Meeting at Trinity Church Everton
DESCRIPTION:
URL:https://www.trinitychurcheverton.org/event/love-sunday-at-christ-church-liverpool-3/
LOCATION:BNENC Gym\, Breckfield Centre\, Breckfield Pl\, Liverpool\, L5 4NH\, United Kingdom
END:VEVENT
BEGIN:VEVENT
DTSTART;TZID=Europe/London:20150802T103000
DTEND;TZID=Europe/London:20150802T113000
DTSTAMP:20260423T222331
CREATED:20150423T152428Z
LAST-MODIFIED:20150423T152428Z
UID:1149-1438511400-1438515000@www.trinitychurcheverton.org
SUMMARY:Sunday Service: Genesis 10- 11 v 26
DESCRIPTION:
URL:https://www.trinitychurcheverton.org/event/sunday-service-genesis-10-11-v-26/
LOCATION:BNENC Gym\, Breckfield Centre\, Breckfield Pl\, Liverpool\, L5 4NH\, United Kingdom
END:VEVENT
BEGIN:VEVENT
DTSTART;TZID=Europe/London:20150731T100000
DTEND;TZID=Europe/London:20150731T113000
DTSTAMP:20260423T222331
CREATED:20150430T112113Z
LAST-MODIFIED:20150430T112113Z
UID:1214-1438336800-1438342200@www.trinitychurcheverton.org
SUMMARY:Trinity Tots
DESCRIPTION:A Stay & play group for 0-4’s £1 per family. For more info contact Grace on 0151 260 3463.
URL:https://www.trinitychurcheverton.org/event/trinity-tots-14/
LOCATION:BNENC Gym\, Breckfield Centre\, Breckfield Pl\, Liverpool\, L5 4NH\, United Kingdom
END:VEVENT
BEGIN:VEVENT
DTSTART;TZID=Europe/London:20150726T184500
DTEND;TZID=Europe/London:20150726T200000
DTSTAMP:20260423T222331
CREATED:20150430T104352Z
LAST-MODIFIED:20150430T104352Z
UID:1198-1437936300-1437940800@www.trinitychurcheverton.org
SUMMARY:Love Sunday at Christ Church Liverpool
DESCRIPTION:
URL:https://www.trinitychurcheverton.org/event/love-sunday-at-christ-church-liverpool-2/
LOCATION:Archbishop Blanch School\, Elm Grove\, Liverpool\, L7 3EH
END:VEVENT
END:VCALENDAR