BEGIN:VCALENDAR
VERSION:2.0
PRODID:-//Trinity Church Everton - ECPv6.15.13//NONSGML v1.0//EN
CALSCALE:GREGORIAN
METHOD:PUBLISH
X-WR-CALNAME:Trinity Church Everton
X-ORIGINAL-URL:https://www.trinitychurcheverton.org
X-WR-CALDESC:Events for Trinity Church Everton
REFRESH-INTERVAL;VALUE=DURATION:PT1H
X-Robots-Tag:noindex
X-PUBLISHED-TTL:PT1H
BEGIN:VTIMEZONE
TZID:Europe/London
BEGIN:DAYLIGHT
TZOFFSETFROM:+0000
TZOFFSETTO:+0100
TZNAME:BST
DTSTART:20140330T010000
END:DAYLIGHT
BEGIN:STANDARD
TZOFFSETFROM:+0100
TZOFFSETTO:+0000
TZNAME:GMT
DTSTART:20141026T010000
END:STANDARD
BEGIN:DAYLIGHT
TZOFFSETFROM:+0000
TZOFFSETTO:+0100
TZNAME:BST
DTSTART:20150329T010000
END:DAYLIGHT
BEGIN:STANDARD
TZOFFSETFROM:+0100
TZOFFSETTO:+0000
TZNAME:GMT
DTSTART:20151025T010000
END:STANDARD
BEGIN:DAYLIGHT
TZOFFSETFROM:+0000
TZOFFSETTO:+0100
TZNAME:BST
DTSTART:20160327T010000
END:DAYLIGHT
BEGIN:STANDARD
TZOFFSETFROM:+0100
TZOFFSETTO:+0000
TZNAME:GMT
DTSTART:20161030T010000
END:STANDARD
END:VTIMEZONE
BEGIN:VEVENT
DTSTART;TZID=Europe/London:20150617T190000
DTEND;TZID=Europe/London:20150617T210000
DTSTAMP:20260423T234531
CREATED:20150424T144811Z
LAST-MODIFIED:20150424T144811Z
UID:1169-1434567600-1434574800@www.trinitychurcheverton.org
SUMMARY:Lifegroup (Christianity Explored)
DESCRIPTION:We have food together at 7 and then we will watch a DVD followed by a time of questions and discussion. This 7 week course is especially aimed at those who are investigating Christianity and would like to get some questions answered. \n 
URL:https://www.trinitychurcheverton.org/event/lifegroup-christianity-explored-7/
LOCATION:Peter and Ruth’s house
END:VEVENT
BEGIN:VEVENT
DTSTART;TZID=Europe/London:20150614T103000
DTEND;TZID=Europe/London:20150614T113000
DTSTAMP:20260423T234531
CREATED:20150423T151317Z
LAST-MODIFIED:20150430T115852Z
UID:1142-1434277800-1434281400@www.trinitychurcheverton.org
SUMMARY:Sunday Service: John 6 v 1 - 40
DESCRIPTION:
URL:https://www.trinitychurcheverton.org/event/sunday-service-john-6-v-1-40/
LOCATION:BNENC Gym\, Breckfield Centre\, Breckfield Pl\, Liverpool\, L5 4NH\, United Kingdom
END:VEVENT
BEGIN:VEVENT
DTSTART;TZID=Europe/London:20150614T023000
DTEND;TZID=Europe/London:20150614T160000
DTSTAMP:20260423T234531
CREATED:20150423T142606Z
LAST-MODIFIED:20150423T142606Z
UID:1128-1434249000-1434297600@www.trinitychurcheverton.org
SUMMARY:Member's meeting
DESCRIPTION:
URL:https://www.trinitychurcheverton.org/event/members-meeting-4/
LOCATION:BNENC Gym\, Breckfield Centre\, Breckfield Pl\, Liverpool\, L5 4NH\, United Kingdom
END:VEVENT
BEGIN:VEVENT
DTSTART;TZID=Europe/London:20150612T100000
DTEND;TZID=Europe/London:20150612T113000
DTSTAMP:20260423T234531
CREATED:20150430T110716Z
LAST-MODIFIED:20150430T110716Z
UID:1207-1434103200-1434108600@www.trinitychurcheverton.org
SUMMARY:Trinity Tots
DESCRIPTION:A Stay & play group for 0-4’s £1 per family. For more info contact Grace on 0151 260 3463.
URL:https://www.trinitychurcheverton.org/event/trinity-tots-7/
LOCATION:BNENC Gym\, Breckfield Centre\, Breckfield Pl\, Liverpool\, L5 4NH\, United Kingdom
END:VEVENT
BEGIN:VEVENT
DTSTART;TZID=Europe/London:20150611T190000
DTEND;TZID=Europe/London:20150611T210000
DTSTAMP:20260423T234531
CREATED:20150429T164805Z
LAST-MODIFIED:20150429T164805Z
UID:1186-1434049200-1434056400@www.trinitychurcheverton.org
SUMMARY:Lifegroup (Gossiping the gospel)
DESCRIPTION:We have food together at 7 and then we will study the bible together. During and after the study there will be a time of prayer. If you want to come along contact Pete on 0151 260 3463.
URL:https://www.trinitychurcheverton.org/event/lifegroup-gossiping-the-gospel-6/
LOCATION:Sam’s house\, Everton 
END:VEVENT
BEGIN:VEVENT
DTSTART;TZID=Europe/London:20150610T190000
DTEND;TZID=Europe/London:20150610T210000
DTSTAMP:20260423T234531
CREATED:20150424T144614Z
LAST-MODIFIED:20150424T144614Z
UID:1168-1433962800-1433970000@www.trinitychurcheverton.org
SUMMARY:Lifegroup (Christianity Explored)
DESCRIPTION:We have food together at 7 and then we will watch a DVD followed by a time of questions and discussion. This 7 week course is especially aimed at those who are investigating Christianity and would like to get some questions answered. \n 
URL:https://www.trinitychurcheverton.org/event/lifegroup-christianity-explored-6/
LOCATION:Peter and Ruth’s house
END:VEVENT
BEGIN:VEVENT
DTSTART;TZID=Europe/London:20150607T170000
DTEND;TZID=Europe/London:20150607T180000
DTSTAMP:20260423T234531
CREATED:20150430T103114Z
LAST-MODIFIED:20150430T103114Z
UID:1195-1433696400-1433700000@www.trinitychurcheverton.org
SUMMARY:Prayer Meeting at Trinity Church Everton
DESCRIPTION:
URL:https://www.trinitychurcheverton.org/event/prayer-meeting-at-trinity-church-everton-5/
LOCATION:BNENC Gym\, Breckfield Centre\, Breckfield Pl\, Liverpool\, L5 4NH\, United Kingdom
END:VEVENT
BEGIN:VEVENT
DTSTART;TZID=Europe/London:20150607T103000
DTEND;TZID=Europe/London:20150607T113000
DTSTAMP:20260423T234531
CREATED:20150423T151206Z
LAST-MODIFIED:20150430T115647Z
UID:1141-1433673000-1433676600@www.trinitychurcheverton.org
SUMMARY:Sunday Service: John 5 v 30 - 47
DESCRIPTION:
URL:https://www.trinitychurcheverton.org/event/sunday-service-john-5-v-30-47/
LOCATION:BNENC Gym\, Breckfield Centre\, Breckfield Pl\, Liverpool\, L5 4NH\, United Kingdom
END:VEVENT
BEGIN:VEVENT
DTSTART;TZID=Europe/London:20150604T190000
DTEND;TZID=Europe/London:20150604T210000
DTSTAMP:20260423T234531
CREATED:20150429T111638Z
LAST-MODIFIED:20150429T111638Z
UID:1185-1433444400-1433451600@www.trinitychurcheverton.org
SUMMARY:LifeGroup (Gossiping the gospel)
DESCRIPTION:We have food together at 7 and then we will study the bible together. During and after the study there will be a time of prayer. If you want to come along contact Pete on 0151 260 3463.
URL:https://www.trinitychurcheverton.org/event/lifegroup-gossiping-the-gospel-5/
LOCATION:Sam’s house\, Everton 
END:VEVENT
BEGIN:VEVENT
DTSTART;TZID=Europe/London:20150603T190000
DTEND;TZID=Europe/London:20150603T210000
DTSTAMP:20260423T234531
CREATED:20150424T144420Z
LAST-MODIFIED:20150424T144420Z
UID:1167-1433358000-1433365200@www.trinitychurcheverton.org
SUMMARY:Lifegroup (Christianity Explored)
DESCRIPTION:We have food together at 7 and then we will watch a DVD followed by a time of questions and discussion. This 7 week course is especially aimed at those who are investigating Christianity and would like to get some questions answered. \n 
URL:https://www.trinitychurcheverton.org/event/lifegroup-christianity-explored-5/
LOCATION:Peter and Ruth’s house
END:VEVENT
BEGIN:VEVENT
DTSTART;TZID=Europe/London:20150531T150000
DTEND;TZID=Europe/London:20150531T160000
DTSTAMP:20260423T234531
CREATED:20150423T143235Z
LAST-MODIFIED:20150423T143235Z
UID:1130-1433084400-1433088000@www.trinitychurcheverton.org
SUMMARY:"the 3 o'clock club"
DESCRIPTION:Fun for all the family. Private adventure! fun\, games & things to make! A free event. Under 12’s must be accompanied by an adult. \nContact Grace on 0151 260 3464 to book a place
URL:https://www.trinitychurcheverton.org/event/the-3-oclock-club/
LOCATION:BNENC Gym\, Breckfield Centre\, Breckfield Pl\, Liverpool\, L5 4NH\, United Kingdom
END:VEVENT
BEGIN:VEVENT
DTSTART;TZID=Europe/London:20150531T103000
DTEND;TZID=Europe/London:20150531T113000
DTSTAMP:20260423T234531
CREATED:20150423T150838Z
LAST-MODIFIED:20150430T115313Z
UID:1139-1433068200-1433071800@www.trinitychurcheverton.org
SUMMARY:Sunday Service: John 5 v 1-29
DESCRIPTION:
URL:https://www.trinitychurcheverton.org/event/sunday-service-john-5-v-1-29/
LOCATION:BNENC Gym\, Breckfield Centre\, Breckfield Pl\, Liverpool\, L5 4NH\, United Kingdom
END:VEVENT
BEGIN:VEVENT
DTSTART;TZID=Europe/London:20150529T100000
DTEND;TZID=Europe/London:20150529T113000
DTSTAMP:20260423T234531
CREATED:20150430T110335Z
LAST-MODIFIED:20150430T110335Z
UID:1205-1432893600-1432899000@www.trinitychurcheverton.org
SUMMARY:Trinity Tots
DESCRIPTION:A Stay & play group for 0-4’s £1 per family. For more info contact Grace on 0151 260 3463.
URL:https://www.trinitychurcheverton.org/event/trinity-tots-5/
LOCATION:BNENC Gym\, Breckfield Centre\, Breckfield Pl\, Liverpool\, L5 4NH\, United Kingdom
END:VEVENT
BEGIN:VEVENT
DTSTART;TZID=Europe/London:20150528T190000
DTEND;TZID=Europe/London:20150528T210000
DTSTAMP:20260423T234531
CREATED:20150424T133617Z
LAST-MODIFIED:20150424T133617Z
UID:1165-1432839600-1432846800@www.trinitychurcheverton.org
SUMMARY:Lifegroup (Christianity Explored)
DESCRIPTION:We have food together at 7 and then we will watch a DVD followed by a time of questions and discussion. This 7 week course is especially aimed at those who are investigating Christianity and would like to get some questions answered. \n 
URL:https://www.trinitychurcheverton.org/event/lifegroup-christianity-explored-4/
LOCATION:Sam’s house\, Everton 
END:VEVENT
BEGIN:VEVENT
DTSTART;TZID=Europe/London:20150527T190000
DTEND;TZID=Europe/London:20150527T210000
DTSTAMP:20260423T234531
CREATED:20150424T085922Z
LAST-MODIFIED:20150424T085922Z
UID:1159-1432753200-1432760400@www.trinitychurcheverton.org
SUMMARY:Lifegroup social
DESCRIPTION:
URL:https://www.trinitychurcheverton.org/event/lifegroup-social/
LOCATION:Peter and Ruth’s house
END:VEVENT
BEGIN:VEVENT
DTSTART;TZID=Europe/London:20150525T193000
DTEND;TZID=Europe/London:20150525T203000
DTSTAMP:20260423T234531
CREATED:20150423T133658Z
LAST-MODIFIED:20150423T133658Z
UID:1121-1432582200-1432585800@www.trinitychurcheverton.org
SUMMARY:Cake club
DESCRIPTION:Bake a cake and share it with others. Contact Grace on 0151 260 3463 for more information.
URL:https://www.trinitychurcheverton.org/event/cake-club-2/
LOCATION:Homebaked\, 197 Oakfield Rd\, Liverpool\, L4 0UF\, United Kingdom
END:VEVENT
BEGIN:VEVENT
DTSTART;TZID=Europe/London:20150524T103000
DTEND;TZID=Europe/London:20150524T113000
DTSTAMP:20260423T234531
CREATED:20150423T145924Z
LAST-MODIFIED:20150423T150651Z
UID:1138-1432463400-1432467000@www.trinitychurcheverton.org
SUMMARY:Sunday Service: Daniel 6
DESCRIPTION:
URL:https://www.trinitychurcheverton.org/event/sunday-service-daniel-6/
LOCATION:BNENC Gym\, Breckfield Centre\, Breckfield Pl\, Liverpool\, L5 4NH\, United Kingdom
END:VEVENT
BEGIN:VEVENT
DTSTART;TZID=Europe/London:20150522T100000
DTEND;TZID=Europe/London:20150522T113000
DTSTAMP:20260423T234531
CREATED:20150430T105735Z
LAST-MODIFIED:20150430T105735Z
UID:1204-1432288800-1432294200@www.trinitychurcheverton.org
SUMMARY:Trinity Tots
DESCRIPTION:A Stay & play group for 0-4’s £1 per family. For more info contact Grace on 0151 260 3463.
URL:https://www.trinitychurcheverton.org/event/trinity-tots-4/
LOCATION:BNENC Gym\, Breckfield Centre\, Breckfield Pl\, Liverpool\, L5 4NH\, United Kingdom
END:VEVENT
BEGIN:VEVENT
DTSTART;TZID=Europe/London:20150521T190000
DTEND;TZID=Europe/London:20150521T210000
DTSTAMP:20260423T234531
CREATED:20150424T133321Z
LAST-MODIFIED:20150424T133321Z
UID:1164-1432234800-1432242000@www.trinitychurcheverton.org
SUMMARY:Lifegroup (Christianity Explored)
DESCRIPTION:We have food together at 7 and then we will watch a DVD followed by a time of questions and discussion. This 7 week course is especially aimed at those who are investigating Christianity and would like to get some questions answered. \n 
URL:https://www.trinitychurcheverton.org/event/lifegroup-christianity-explored-3/
LOCATION:Sam’s house\, Everton 
END:VEVENT
BEGIN:VEVENT
DTSTART;TZID=Europe/London:20150520T190000
DTEND;TZID=Europe/London:20150520T210000
DTSTAMP:20260423T234531
CREATED:20150424T085747Z
LAST-MODIFIED:20150424T085747Z
UID:1158-1432148400-1432155600@www.trinitychurcheverton.org
SUMMARY:Lifegroup (Gossiping the gospel)
DESCRIPTION:We have food together at 7 and then we will study the bible together. During and after the study there will be a time of prayer. If you want to come along contact Pete on 0151 260 3463.
URL:https://www.trinitychurcheverton.org/event/lifegroup-gossiping-the-gospel-3/
LOCATION:Peter and Ruth’s house
END:VEVENT
BEGIN:VEVENT
DTSTART;TZID=Europe/London:20150518T194500
DTEND;TZID=Europe/London:20150518T210000
DTSTAMP:20260423T234531
CREATED:20150423T133907Z
LAST-MODIFIED:20150423T133907Z
UID:1122-1431978300-1431982800@www.trinitychurcheverton.org
SUMMARY:Football
DESCRIPTION:Come along for a kick around. Bring a red & blue top. Everyone welcome.
URL:https://www.trinitychurcheverton.org/event/football-3/
LOCATION:Stanley Park\, Walton Ln\, Liverpool\, L4 2SL\, United Kingdom
END:VEVENT
BEGIN:VEVENT
DTSTART;TZID=Europe/London:20150517T103000
DTEND;TZID=Europe/London:20150517T113000
DTSTAMP:20260423T234531
CREATED:20150423T145746Z
LAST-MODIFIED:20150423T145746Z
UID:1137-1431858600-1431862200@www.trinitychurcheverton.org
SUMMARY:Sunday Service: Daniel 5
DESCRIPTION:Trip to Morecambe after the service.
URL:https://www.trinitychurcheverton.org/event/sunday-service-daniel-5/
LOCATION:BNENC Gym\, Breckfield Centre\, Breckfield Pl\, Liverpool\, L5 4NH\, United Kingdom
END:VEVENT
BEGIN:VEVENT
DTSTART;TZID=Europe/London:20150515T100000
DTEND;TZID=Europe/London:20150515T113000
DTSTAMP:20260423T234531
CREATED:20150430T105606Z
LAST-MODIFIED:20150430T105606Z
UID:1203-1431684000-1431689400@www.trinitychurcheverton.org
SUMMARY:Trinity Tots
DESCRIPTION:A Stay & play group for 0-4’s £1 per family. For more info contact Grace on 0151 260 3463.
URL:https://www.trinitychurcheverton.org/event/trinity-tots-3/
LOCATION:BNENC Gym\, Breckfield Centre\, Breckfield Pl\, Liverpool\, L5 4NH\, United Kingdom
END:VEVENT
BEGIN:VEVENT
DTSTART;TZID=Europe/London:20150514T190000
DTEND;TZID=Europe/London:20150514T210000
DTSTAMP:20260423T234531
CREATED:20150424T133052Z
LAST-MODIFIED:20150424T133052Z
UID:1163-1431630000-1431637200@www.trinitychurcheverton.org
SUMMARY:Lifegroup (Christianity Explored)
DESCRIPTION:We have food together at 7 and then we will watch a DVD followed by a time of questions and discussion. This 7 week course is especially aimed at those who are investigating Christianity and would like to get some questions answered. \n 
URL:https://www.trinitychurcheverton.org/event/lifegroup-christianity-explored-2/
LOCATION:Sam’s house\, Everton 
END:VEVENT
BEGIN:VEVENT
DTSTART;TZID=Europe/London:20150513T190000
DTEND;TZID=Europe/London:20150513T210000
DTSTAMP:20260423T234531
CREATED:20150424T085602Z
LAST-MODIFIED:20150424T085602Z
UID:1157-1431543600-1431550800@www.trinitychurcheverton.org
SUMMARY:Lifegroup (Gossiping the gospel)
DESCRIPTION:We have food together at 7 and then we will study the bible together. During and after the study there will be a time of prayer. If you want to come along contact Pete on 0151 260 3463.
URL:https://www.trinitychurcheverton.org/event/lifegroup-gossiping-the-gospel-2/
LOCATION:Peter and Ruth’s house
END:VEVENT
BEGIN:VEVENT
DTSTART;TZID=Europe/London:20150510T190000
DTEND;TZID=Europe/London:20150510T200000
DTSTAMP:20260423T234531
CREATED:20150423T143935Z
LAST-MODIFIED:20150507T170547Z
UID:1132-1431284400-1431288000@www.trinitychurcheverton.org
SUMMARY:Prayer Meeting at Trinity Church Everton
DESCRIPTION:
URL:https://www.trinitychurcheverton.org/event/prayer-meeting-at-trinity-church-everton-4/
LOCATION:BNENC Gym\, Breckfield Centre\, Breckfield Pl\, Liverpool\, L5 4NH\, United Kingdom
END:VEVENT
BEGIN:VEVENT
DTSTART;TZID=Europe/London:20150510T103000
DTEND;TZID=Europe/London:20150510T113000
DTSTAMP:20260423T234531
CREATED:20150423T145555Z
LAST-MODIFIED:20150423T145555Z
UID:1136-1431253800-1431257400@www.trinitychurcheverton.org
SUMMARY:Sunday Service: Daniel 4
DESCRIPTION:
URL:https://www.trinitychurcheverton.org/event/sunday-service-daniel-4/
LOCATION:BNENC Gym\, Breckfield Centre\, Breckfield Pl\, Liverpool\, L5 4NH\, United Kingdom
END:VEVENT
BEGIN:VEVENT
DTSTART;TZID=Europe/London:20150508T180000
DTEND;TZID=Europe/London:20150508T193000
DTSTAMP:20260423T234531
CREATED:20150423T133254Z
LAST-MODIFIED:20150423T133254Z
UID:1119-1431108000-1431113400@www.trinitychurcheverton.org
SUMMARY:Randall Goodgame Family Concert
DESCRIPTION:You’re invited to a free family concert with American singer Randall Goodgame. Featuring sing along bible stories & other fun songs! Entry is free but spaces are limited so please contact us to book a place: \nPhone 0151 260 3464 (Grace) \nEmail office@trinitychurcheverton.org \nText 07541 637 793 \nUnder 12’s must be accompanied by an adult. Free drinks & snacks served.
URL:https://www.trinitychurcheverton.org/event/randall-goodgame-family-concert/
LOCATION:BNENC Gym\, Breckfield Centre\, Breckfield Pl\, Liverpool\, L5 4NH\, United Kingdom
END:VEVENT
BEGIN:VEVENT
DTSTART;TZID=Europe/London:20150508T100000
DTEND;TZID=Europe/London:20150508T113000
DTSTAMP:20260423T234531
CREATED:20150430T105418Z
LAST-MODIFIED:20150430T105418Z
UID:1202-1431079200-1431084600@www.trinitychurcheverton.org
SUMMARY:Trinity Tots
DESCRIPTION:A Stay & play group for 0-4’s £1 per family. For more info contact Grace on 0151 260 3463.
URL:https://www.trinitychurcheverton.org/event/trinity-tots-2/
LOCATION:BNENC Gym\, Breckfield Centre\, Breckfield Pl\, Liverpool\, L5 4NH\, United Kingdom
END:VEVENT
BEGIN:VEVENT
DTSTART;TZID=Europe/London:20150507T190000
DTEND;TZID=Europe/London:20150507T210000
DTSTAMP:20260423T234531
CREATED:20150423T134901Z
LAST-MODIFIED:20150424T132847Z
UID:1124-1431025200-1431032400@www.trinitychurcheverton.org
SUMMARY:Lifegroup (Christianity Explored)
DESCRIPTION:We have food together at 7 and then we will watch a DVD followed by a time of questions and discussion. This 7 week course is especially aimed at those who are investigating Christianity and would like to get some questions answered. \n  \n 
URL:https://www.trinitychurcheverton.org/event/lifegroup-new-series-christianity-explored/
LOCATION:Sam’s house\, Everton 
END:VEVENT
END:VCALENDAR