BEGIN:VCALENDAR
VERSION:2.0
PRODID:-//Trinity Church Everton - ECPv6.15.13//NONSGML v1.0//EN
CALSCALE:GREGORIAN
METHOD:PUBLISH
X-WR-CALNAME:Trinity Church Everton
X-ORIGINAL-URL:https://www.trinitychurcheverton.org
X-WR-CALDESC:Events for Trinity Church Everton
REFRESH-INTERVAL;VALUE=DURATION:PT1H
X-Robots-Tag:noindex
X-PUBLISHED-TTL:PT1H
BEGIN:VTIMEZONE
TZID:Europe/London
BEGIN:DAYLIGHT
TZOFFSETFROM:+0000
TZOFFSETTO:+0100
TZNAME:BST
DTSTART:20130331T010000
END:DAYLIGHT
BEGIN:STANDARD
TZOFFSETFROM:+0100
TZOFFSETTO:+0000
TZNAME:GMT
DTSTART:20131027T010000
END:STANDARD
BEGIN:DAYLIGHT
TZOFFSETFROM:+0000
TZOFFSETTO:+0100
TZNAME:BST
DTSTART:20140330T010000
END:DAYLIGHT
BEGIN:STANDARD
TZOFFSETFROM:+0100
TZOFFSETTO:+0000
TZNAME:GMT
DTSTART:20141026T010000
END:STANDARD
BEGIN:DAYLIGHT
TZOFFSETFROM:+0000
TZOFFSETTO:+0100
TZNAME:BST
DTSTART:20150329T010000
END:DAYLIGHT
BEGIN:STANDARD
TZOFFSETFROM:+0100
TZOFFSETTO:+0000
TZNAME:GMT
DTSTART:20151025T010000
END:STANDARD
END:VTIMEZONE
BEGIN:VEVENT
DTSTART;TZID=Europe/London:20141001T070000
DTEND;TZID=Europe/London:20141001T211500
DTSTAMP:20260424T093503
CREATED:20140910T092341Z
LAST-MODIFIED:20140910T092341Z
UID:784-1412146800-1412198100@www.trinitychurcheverton.org
SUMMARY:LifeGroup
DESCRIPTION:LifeGroups are a brilliant way to get more involved in our church. We meet at 7pm for food together. Afterwards we help one another understand what the bible says and pray for each other. Contact Peter for more information on 01512603464. \n 
URL:https://www.trinitychurcheverton.org/event/lifegroup-6/
LOCATION:Peter and Ruth’s house
END:VEVENT
BEGIN:VEVENT
DTSTART;TZID=Europe/London:20140928T160000
DTEND;TZID=Europe/London:20140928T173000
DTSTAMP:20260424T093503
CREATED:20140923T100819Z
LAST-MODIFIED:20140923T100819Z
UID:869-1411920000-1411925400@www.trinitychurcheverton.org
SUMMARY:Trinity Church Everton prayer meeting
DESCRIPTION:
URL:https://www.trinitychurcheverton.org/event/trinity-church-everton-prayer-meeting-4/
LOCATION:BNENC Gym\, Breckfield Centre\, Breckfield Pl\, Liverpool\, L5 4NH\, United Kingdom
END:VEVENT
BEGIN:VEVENT
DTSTART;TZID=Europe/London:20140928T101500
DTEND;TZID=Europe/London:20140928T113000
DTSTAMP:20260424T093503
CREATED:20140908T170042Z
LAST-MODIFIED:20140910T121804Z
UID:770-1411899300-1411903800@www.trinitychurcheverton.org
SUMMARY:Sunday morning service. Real Christians: Are God's children 1 John 2 v 1-10
DESCRIPTION:
URL:https://www.trinitychurcheverton.org/event/sunday-morning-service-real-christians-are-gods-children-1-john-2-v-1-10/
LOCATION:BNENC Gym\, Breckfield Centre\, Breckfield Pl\, Liverpool\, L5 4NH\, United Kingdom
END:VEVENT
BEGIN:VEVENT
DTSTART;TZID=Europe/London:20140926T100000
DTEND;TZID=Europe/London:20140926T130000
DTSTAMP:20260424T093503
CREATED:20140911T163751Z
LAST-MODIFIED:20140911T164034Z
UID:847-1411725600-1411736400@www.trinitychurcheverton.org
SUMMARY:Coffee and cake fundraising event in aid of Macmillan Cancer Support
DESCRIPTION:We are having this event so people facing cancer can have the support they need to feel more in control of their life\, from the moment they’re diagnosed\, through treatment and afterwards. \nCome and join us-everyone is welcome. \nFor more information contact Grace on 0151 260 3464
URL:https://www.trinitychurcheverton.org/event/coffee-and-cake-fundraising-event-in-support-of-macmillan-cancer-support/
LOCATION:BNENC Gym\, Breckfield Centre\, Breckfield Pl\, Liverpool\, L5 4NH\, United Kingdom
END:VEVENT
BEGIN:VEVENT
DTSTART;TZID=Europe/London:20140925T070000
DTEND;TZID=Europe/London:20140925T211500
DTSTAMP:20260424T093503
CREATED:20140908T165800Z
LAST-MODIFIED:20140908T165800Z
UID:768-1411628400-1411679700@www.trinitychurcheverton.org
SUMMARY:LifeGroup
DESCRIPTION:LifeGroups are a brilliant way to get more involved in our church. We meet at 7pm for food together. Afterwards we help one another understand what the bible says and pray for each other. Contact Peter for more information on 01512603464.
URL:https://www.trinitychurcheverton.org/event/lifegroup-5/
LOCATION:Simon and Ro’s house
END:VEVENT
BEGIN:VEVENT
DTSTART;TZID=Europe/London:20140924T190000
DTEND;TZID=Europe/London:20140924T211500
DTSTAMP:20260424T093503
CREATED:20140908T165511Z
LAST-MODIFIED:20140908T165511Z
UID:766-1411585200-1411593300@www.trinitychurcheverton.org
SUMMARY:LifeGroup
DESCRIPTION:LifeGroups are a brilliant way to get more involved in our church. We meet at 7pm for food together. Afterwards we help one another understand what the bible says and pray for each other. Contact Peter for more information on 01512603464.
URL:https://www.trinitychurcheverton.org/event/lifegroup-4/
LOCATION:Peter and Ruth’s house
END:VEVENT
BEGIN:VEVENT
DTSTART;TZID=Europe/London:20140924T130000
DTEND;TZID=Europe/London:20140924T150000
DTSTAMP:20260424T093503
CREATED:20140908T164712Z
LAST-MODIFIED:20140908T164712Z
UID:761-1411563600-1411570800@www.trinitychurcheverton.org
SUMMARY:"Community Service"
DESCRIPTION:We want to be a church for people who don’t normally go to church and so are always trying to get to know people who don’t come on a Sunday. “Community Service” is a chance to serve the local area\, build relationships with people and let them hear the greatest news in the world. We would love you to help us serve drinks or chat to people.
URL:https://www.trinitychurcheverton.org/event/community-service-3/
LOCATION:Library\, The Mall\, Breck Rd\, Liverpool\, L5 6PX\, United Kingdom
END:VEVENT
BEGIN:VEVENT
DTSTART;TZID=Europe/London:20140921T101500
DTEND;TZID=Europe/London:20140921T113000
DTSTAMP:20260424T093503
CREATED:20140908T164403Z
LAST-MODIFIED:20140910T121821Z
UID:760-1411294500-1411299000@www.trinitychurcheverton.org
SUMMARY:Sunday morning service. Real Christians: Know the truth 1 John 2 v 15-27
DESCRIPTION:
URL:https://www.trinitychurcheverton.org/event/sunday-morning-service-real-christians-know-the-truth-1-john-2-v-15-27/
END:VEVENT
BEGIN:VEVENT
DTSTART;TZID=Europe/London:20140918T190000
DTEND;TZID=Europe/London:20140918T211500
DTSTAMP:20260424T093503
CREATED:20140908T165142Z
LAST-MODIFIED:20140908T165142Z
UID:764-1411066800-1411074900@www.trinitychurcheverton.org
SUMMARY:LifeGroup
DESCRIPTION:LifeGroups are a brilliant way to get more involved in our church. We meet at 7pm for food together. Afterwards we help one another understand what the bible says and pray for each other. Contact Peter for more information on 01512603464. \n 
URL:https://www.trinitychurcheverton.org/event/lifegroup-3/
LOCATION:Simon and Ro’s house
END:VEVENT
BEGIN:VEVENT
DTSTART;TZID=Europe/London:20140917T190000
DTEND;TZID=Europe/London:20140917T211500
DTSTAMP:20260424T093503
CREATED:20140908T163358Z
LAST-MODIFIED:20140908T163847Z
UID:758-1410980400-1410988500@www.trinitychurcheverton.org
SUMMARY:LifeGroup
DESCRIPTION:LifeGroups are a brilliant way to get more involved in our church. We meet at 7pm for food together. Afterwards we help one another understand what the bible says and pray for each other. Contact Peter for more information on 01512603464.
URL:https://www.trinitychurcheverton.org/event/lifegroups/
LOCATION:Peter and Ruth’s house
END:VEVENT
BEGIN:VEVENT
DTSTART;TZID=Europe/London:20140917T130000
DTEND;TZID=Europe/London:20140917T150000
DTSTAMP:20260424T093503
CREATED:20140908T163119Z
LAST-MODIFIED:20140908T163119Z
UID:757-1410958800-1410966000@www.trinitychurcheverton.org
SUMMARY:"Community Service"
DESCRIPTION:We want to be a church for people who don’t normally go to church and so are always trying to get to know people who don’t come on a Sunday. “Community Service” is a chance to serve the local area\, build relationships with people and let them hear the greatest news in the world. We would love you to help us serve drinks or chat to people.
URL:https://www.trinitychurcheverton.org/event/community-service-2/
LOCATION:Library\, The Mall\, Breck Rd\, Liverpool\, L5 6PX\, United Kingdom
END:VEVENT
BEGIN:VEVENT
DTSTART;TZID=Europe/London:20140914T101500
DTEND;TZID=Europe/London:20140914T233000
DTSTAMP:20260424T093503
CREATED:20140908T162444Z
LAST-MODIFIED:20140910T121840Z
UID:756-1410689700-1410737400@www.trinitychurcheverton.org
SUMMARY:Sunday morning service. Real Christians: Live in light 1 John 2 v 3-14
DESCRIPTION:
URL:https://www.trinitychurcheverton.org/event/sunday-morning-service-real-christians-live-in-light-1john-2v3-14/
LOCATION:BNENC Gym\, Breckfield Centre\, Breckfield Pl\, Liverpool\, L5 4NH\, United Kingdom
END:VEVENT
BEGIN:VEVENT
DTSTART;TZID=Europe/London:20140911T190000
DTEND;TZID=Europe/London:20140911T211500
DTSTAMP:20260424T093503
CREATED:20140908T161824Z
LAST-MODIFIED:20140908T163614Z
UID:754-1410462000-1410470100@www.trinitychurcheverton.org
SUMMARY:LifeGroup
DESCRIPTION:Life groups are a brilliant way to get more involved in our church. We meet at 7pm for food together. Afterwards we help one another understand what the bible says and pray for each other. Contact Peter for further information on 01512603464.
URL:https://www.trinitychurcheverton.org/event/lifegroup-at-simon-and-ros-house/
LOCATION:Simon and Ro’s house
END:VEVENT
BEGIN:VEVENT
DTSTART;TZID=Europe/London:20140910T190000
DTEND;TZID=Europe/London:20140910T211500
DTSTAMP:20260424T093503
CREATED:20140908T161402Z
LAST-MODIFIED:20140908T164038Z
UID:752-1410375600-1410383700@www.trinitychurcheverton.org
SUMMARY:LifeGroup
DESCRIPTION:LifeGroups are a brilliant way to get more involved in our church. We meet at 7pm for food together. Afterwards we help one another understand what the bible says and pray for each other. Contact Peter for more information on 01512603464.
URL:https://www.trinitychurcheverton.org/event/lifegroups-at-peter-and-ruths-house/
LOCATION:Peter and Ruth’s house
END:VEVENT
BEGIN:VEVENT
DTSTART;TZID=Europe/London:20140910T130000
DTEND;TZID=Europe/London:20140910T150000
DTSTAMP:20260424T093503
CREATED:20140908T160612Z
LAST-MODIFIED:20140908T160612Z
UID:751-1410354000-1410361200@www.trinitychurcheverton.org
SUMMARY:"Community Service"
DESCRIPTION:We want to be a church for people who don’t normally go to church and so are always trying to get to know people who don’t come on a Sunday. “Community Service” is a chance to serve the local area\, build relationships with people and let them hear the greatest news in the world. We would love you to help us serve drinks or chat to people.
URL:https://www.trinitychurcheverton.org/event/community-service/
LOCATION:Library\, The Mall\, Breck Rd\, Liverpool\, L5 6PX\, United Kingdom
END:VEVENT
BEGIN:VEVENT
DTSTART;TZID=Europe/London:20140910T064500
DTEND;TZID=Europe/London:20140910T203000
DTSTAMP:20260424T093503
CREATED:20140910T163200Z
LAST-MODIFIED:20140910T163200Z
UID:838-1410331500-1410381000@www.trinitychurcheverton.org
SUMMARY:Joint prayer meeting with Christ Church Liverpool
DESCRIPTION:
URL:https://www.trinitychurcheverton.org/event/joint-prayer-meeting-with-christ-church-liverpool/
LOCATION:Archbishop Blanch School\, Elm Grove\, Liverpool\, L7 3EH
END:VEVENT
BEGIN:VEVENT
DTSTART;TZID=Europe/London:20140713T130000
DTEND;TZID=Europe/London:20140713T150000
DTSTAMP:20260424T093503
CREATED:20140702T151808Z
LAST-MODIFIED:20140702T152034Z
UID:730-1405256400-1405263600@www.trinitychurcheverton.org
SUMMARY:Sunday Funday
DESCRIPTION:
URL:https://www.trinitychurcheverton.org/event/sunday-funday-2/
LOCATION:BNENC Gym\, Breckfield Centre\, Breckfield Pl\, Liverpool\, L5 4NH\, United Kingdom
END:VEVENT
BEGIN:VEVENT
DTSTART;TZID=Europe/London:20140608T110000
DTEND;TZID=Europe/London:20140608T130000
DTSTAMP:20260424T093503
CREATED:20140516T095628Z
LAST-MODIFIED:20140516T095628Z
UID:664-1402225200-1402232400@www.trinitychurcheverton.org
SUMMARY:Sunday Funday
DESCRIPTION:
URL:https://www.trinitychurcheverton.org/event/sunday-funday/
LOCATION:BNENC Gym\, Breckfield Centre\, Breckfield Pl\, Liverpool\, L5 4NH\, United Kingdom
END:VEVENT
BEGIN:VEVENT
DTSTART;TZID=Europe/London:20140523T110000
DTEND;TZID=Europe/London:20140523T130000
DTSTAMP:20260424T093503
CREATED:20140516T100401Z
LAST-MODIFIED:20140516T100401Z
UID:669-1400842800-1400850000@www.trinitychurcheverton.org
SUMMARY:Souper Fridays
DESCRIPTION:
URL:https://www.trinitychurcheverton.org/event/souper-fridays-2/
END:VEVENT
BEGIN:VEVENT
DTSTART;VALUE=DATE:20140521
DTEND;VALUE=DATE:20140523
DTSTAMP:20260424T093503
CREATED:20140516T100312Z
LAST-MODIFIED:20140516T100312Z
UID:668-1400630400-1400803199@www.trinitychurcheverton.org
SUMMARY:Life Groups
DESCRIPTION:
URL:https://www.trinitychurcheverton.org/event/life-groups/
LOCATION:Call 0151-260-3464 for details\, Liverpool\, United Kingdom
END:VEVENT
BEGIN:VEVENT
DTSTART;TZID=Europe/London:20140518T103000
DTEND;TZID=Europe/London:20140518T120000
DTSTAMP:20260424T093503
CREATED:20140516T100046Z
LAST-MODIFIED:20140516T100130Z
UID:667-1400409000-1400414400@www.trinitychurcheverton.org
SUMMARY:Sunday Service: Gracious Promise
DESCRIPTION:Genesis 9
URL:https://www.trinitychurcheverton.org/event/sunday-service-gracious-promise/
LOCATION:BNENC Gym\, Breckfield Centre\, Breckfield Pl\, Liverpool\, L5 4NH\, United Kingdom
END:VEVENT
BEGIN:VEVENT
DTSTART;TZID=Europe/London:20140516T110000
DTEND;TZID=Europe/London:20140516T130000
DTSTAMP:20260424T093503
CREATED:20140516T095939Z
LAST-MODIFIED:20140516T095939Z
UID:665-1400238000-1400245200@www.trinitychurcheverton.org
SUMMARY:Souper Fridays
DESCRIPTION:
URL:https://www.trinitychurcheverton.org/event/souper-fridays/
LOCATION:Library\, The Mall\, Breck Rd\, Liverpool\, L5 6PX\, United Kingdom
END:VEVENT
BEGIN:VEVENT
DTSTART;TZID=Europe/London:20140509T070000
DTEND;TZID=Europe/London:20140509T200000
DTSTAMP:20260424T093503
CREATED:20140502T145756Z
LAST-MODIFIED:20140502T145756Z
UID:603-1399618800-1399665600@www.trinitychurcheverton.org
SUMMARY:Prayer Meeting
DESCRIPTION:
URL:https://www.trinitychurcheverton.org/event/prayer-meeting/
LOCATION:Church Office\,  28 St Domingo Vale\, Liverpool\, L5 6RW
END:VEVENT
BEGIN:VEVENT
DTSTART;TZID=Europe/London:20140508T190000
DTEND;TZID=Europe/London:20140508T190000
DTSTAMP:20260424T093503
CREATED:20140502T145108Z
LAST-MODIFIED:20140502T145108Z
UID:600-1399575600-1399575600@www.trinitychurcheverton.org
SUMMARY:Lifegroup
DESCRIPTION:Noah Series: An Unexpected Plan\n(Genesis 6:9-7:24)
URL:https://www.trinitychurcheverton.org/event/lifegroup-2/
END:VEVENT
BEGIN:VEVENT
DTSTART;TZID=Europe/London:20140507T190000
DTEND;TZID=Europe/London:20140507T200000
DTSTAMP:20260424T093503
CREATED:20140502T144939Z
LAST-MODIFIED:20140502T144939Z
UID:598-1399489200-1399492800@www.trinitychurcheverton.org
SUMMARY:Lifegroup
DESCRIPTION:Noah Series: An Unexpected Plan\n(Genesis 6:9-7:24)
URL:https://www.trinitychurcheverton.org/event/lifegroup/
LOCATION:Call 0151-260-3464 for details\, Liverpool\, United Kingdom
END:VEVENT
BEGIN:VEVENT
DTSTART;TZID=Europe/London:20140506T190000
DTEND;TZID=Europe/London:20140506T200000
DTSTAMP:20260424T093503
CREATED:20140502T143950Z
LAST-MODIFIED:20140502T143950Z
UID:595-1399402800-1399406400@www.trinitychurcheverton.org
SUMMARY:5-a-side Football
DESCRIPTION:
URL:https://www.trinitychurcheverton.org/event/5-a-side-football/
LOCATION:Everton Lifestyles Gym\, Great Homer St\, Liverpool\, L5 5PH\, United Kingdom
END:VEVENT
BEGIN:VEVENT
DTSTART;TZID=Europe/London:20140505T140000
DTEND;TZID=Europe/London:20140505T150000
DTSTAMP:20260424T093503
CREATED:20140502T143502Z
LAST-MODIFIED:20140502T143502Z
UID:593-1399298400-1399302000@www.trinitychurcheverton.org
SUMMARY:Women's Bible Study
DESCRIPTION:
URL:https://www.trinitychurcheverton.org/event/womens-bible-study/
LOCATION:Call 0151-260-3464 for details\, Liverpool\, United Kingdom
CATEGORIES:Women's Bible Study
END:VEVENT
BEGIN:VEVENT
DTSTART;TZID=Europe/London:20140504T103000
DTEND;TZID=Europe/London:20140504T120000
DTSTAMP:20260424T093503
CREATED:20140502T142755Z
LAST-MODIFIED:20140502T143017Z
UID:591-1399199400-1399204800@www.trinitychurcheverton.org
SUMMARY:Noah Series (Genesis 6:9-7:24)
DESCRIPTION:An Unexpected Plan (Genesis 6:9-7:24)
URL:https://www.trinitychurcheverton.org/event/noah-series/
LOCATION:BNENC Gym\, Breckfield Centre\, Breckfield Pl\, Liverpool\, L5 4NH\, United Kingdom
CATEGORIES:Sunday
END:VEVENT
BEGIN:VEVENT
DTSTART;TZID=Europe/London:20140502T080000
DTEND;TZID=Europe/London:20140502T170000
DTSTAMP:20260424T093503
CREATED:20140502T145513Z
LAST-MODIFIED:20140502T145513Z
UID:601-1399017600-1399050000@www.trinitychurcheverton.org
SUMMARY:Monday in the Park
DESCRIPTION:Come hang out and have some fun in the park!
URL:https://www.trinitychurcheverton.org/event/monday-in-the-park/
LOCATION:Stanley Park\, Walton Ln\, Liverpool\, L4 2SL\, United Kingdom
END:VEVENT
BEGIN:VEVENT
DTSTART;TZID=Europe/London:20140420T103000
DTEND;TZID=Europe/London:20140420T120000
DTSTAMP:20260424T093503
CREATED:20140416T115121Z
LAST-MODIFIED:20140416T115121Z
UID:456-1397989800-1397995200@www.trinitychurcheverton.org
SUMMARY:Easter Sunday
DESCRIPTION:Come hear the great News!\nLuke 23:50 – 24:12
URL:https://www.trinitychurcheverton.org/event/easter-sunday/
LOCATION:BNENC Gym\, Breckfield Centre\, Breckfield Pl\, Liverpool\, L5 4NH\, United Kingdom
CATEGORIES:Sunday
END:VEVENT
END:VCALENDAR