BEGIN:VCALENDAR
VERSION:2.0
PRODID:-//Trinity Church Everton - ECPv6.15.13//NONSGML v1.0//EN
CALSCALE:GREGORIAN
METHOD:PUBLISH
X-WR-CALNAME:Trinity Church Everton
X-ORIGINAL-URL:https://www.trinitychurcheverton.org
X-WR-CALDESC:Events for Trinity Church Everton
REFRESH-INTERVAL;VALUE=DURATION:PT1H
X-Robots-Tag:noindex
X-PUBLISHED-TTL:PT1H
BEGIN:VTIMEZONE
TZID:Europe/London
BEGIN:DAYLIGHT
TZOFFSETFROM:+0000
TZOFFSETTO:+0100
TZNAME:BST
DTSTART:20140330T010000
END:DAYLIGHT
BEGIN:STANDARD
TZOFFSETFROM:+0100
TZOFFSETTO:+0000
TZNAME:GMT
DTSTART:20141026T010000
END:STANDARD
BEGIN:DAYLIGHT
TZOFFSETFROM:+0000
TZOFFSETTO:+0100
TZNAME:BST
DTSTART:20150329T010000
END:DAYLIGHT
BEGIN:STANDARD
TZOFFSETFROM:+0100
TZOFFSETTO:+0000
TZNAME:GMT
DTSTART:20151025T010000
END:STANDARD
BEGIN:DAYLIGHT
TZOFFSETFROM:+0000
TZOFFSETTO:+0100
TZNAME:BST
DTSTART:20160327T010000
END:DAYLIGHT
BEGIN:STANDARD
TZOFFSETFROM:+0100
TZOFFSETTO:+0000
TZNAME:GMT
DTSTART:20161030T010000
END:STANDARD
END:VTIMEZONE
BEGIN:VEVENT
DTSTART;TZID=Europe/London:20150405T184500
DTEND;TZID=Europe/London:20150405T203000
DTSTAMP:20260424T044500
CREATED:20150108T104946Z
LAST-MODIFIED:20150108T104946Z
UID:951-1428259500-1428265800@www.trinitychurcheverton.org
SUMMARY:Joint prayer meeting at Christchurch Liverpool
DESCRIPTION:
URL:https://www.trinitychurcheverton.org/event/joint-prayer-meeting-at-christchurch-liverpool-3/
LOCATION:Archbishop Blanch School\, Elm Grove\, Liverpool\, L7 3EH
END:VEVENT
BEGIN:VEVENT
DTSTART;TZID=Europe/London:20150405T103000
DTEND;TZID=Europe/London:20150405T113000
DTSTAMP:20260424T044500
CREATED:20150108T103031Z
LAST-MODIFIED:20150108T103031Z
UID:941-1428229800-1428233400@www.trinitychurcheverton.org
SUMMARY:Sunday Service- Easter Sunday\, Talk on Isaiah 53
DESCRIPTION:
URL:https://www.trinitychurcheverton.org/event/sunday-service-easter-sunday-talk-on-isaiah-53/
LOCATION:BNENC Gym\, Breckfield Centre\, Breckfield Pl\, Liverpool\, L5 4NH\, United Kingdom
END:VEVENT
BEGIN:VEVENT
DTSTART;TZID=Europe/London:20150404T103000
DTEND;TZID=Europe/London:20150404T121500
DTSTAMP:20260424T044500
CREATED:20150108T120922Z
LAST-MODIFIED:20150108T121132Z
UID:986-1428143400-1428149700@www.trinitychurcheverton.org
SUMMARY:Women's Brunch
DESCRIPTION:This will consist of food\, bible study and prayer. If you interested contact Grace.
URL:https://www.trinitychurcheverton.org/event/womens-brunch-2/
LOCATION:Grace’s House
END:VEVENT
BEGIN:VEVENT
DTSTART;TZID=Europe/London:20150403T071500
DTEND;TZID=Europe/London:20150403T075500
DTSTAMP:20260424T044500
CREATED:20150108T124228Z
LAST-MODIFIED:20150108T124228Z
UID:1000-1428045300-1428047700@www.trinitychurcheverton.org
SUMMARY:Morning prayer meeting
DESCRIPTION:We meet every Friday morning to pray for the Church\, the community and the wider world.
URL:https://www.trinitychurcheverton.org/event/morning-prayer-meeting-13/
LOCATION:Church Office\,  28 St Domingo Vale\, Liverpool\, L5 6RW
END:VEVENT
BEGIN:VEVENT
DTSTART;TZID=Europe/London:20150402T190000
DTEND;TZID=Europe/London:20150402T211500
DTSTAMP:20260424T044500
CREATED:20150108T120159Z
LAST-MODIFIED:20150108T120159Z
UID:984-1428001200-1428009300@www.trinitychurcheverton.org
SUMMARY:LifeGroup
DESCRIPTION:LifeGroups are a brilliant way to get more involved in our church. We meet at 7pm for food together. Afterwards we help one another understand what the bible says and pray for each other. Contact Peter for more information on 01512603464.
URL:https://www.trinitychurcheverton.org/event/lifegroup-53/
LOCATION:Simon and Ro’s house
END:VEVENT
BEGIN:VEVENT
DTSTART;TZID=Europe/London:20150401T190000
DTEND;TZID=Europe/London:20150401T211500
DTSTAMP:20260424T044500
CREATED:20150108T120011Z
LAST-MODIFIED:20150108T120011Z
UID:983-1427914800-1427922900@www.trinitychurcheverton.org
SUMMARY:LifeGroup
DESCRIPTION:LifeGroups are a brilliant way to get more involved in our church. We meet at 7pm for food together. Afterwards we help one another understand what the bible says and pray for each other. Contact Peter for more information on 01512603464.
URL:https://www.trinitychurcheverton.org/event/lifegroup-52/
LOCATION:Peter and Ruth’s house
END:VEVENT
BEGIN:VEVENT
DTSTART;TZID=Europe/London:20150330T200000
DTEND;TZID=Europe/London:20150330T210000
DTSTAMP:20260424T044500
CREATED:20150108T112359Z
LAST-MODIFIED:20150108T112359Z
UID:960-1427745600-1427749200@www.trinitychurcheverton.org
SUMMARY:5-aside football
DESCRIPTION:Please bring along red and blue tops and £3.
URL:https://www.trinitychurcheverton.org/event/5-aside-football-2/
LOCATION:Anfield Sports & Community Centre\, Breckside Park/Lower Breck Rd\, Liverpool\, L6 0AG
END:VEVENT
BEGIN:VEVENT
DTSTART;TZID=Europe/London:20150329T150000
DTEND;TZID=Europe/London:20150329T160000
DTSTAMP:20260424T044500
CREATED:20150116T161920Z
LAST-MODIFIED:20150116T161920Z
UID:1007-1427641200-1427644800@www.trinitychurcheverton.org
SUMMARY:"the 3 o'clock club"
DESCRIPTION:Things to make and take home\, games & fun! (under 12’s must be accompanied by an adult). Contact Grace for more information.
URL:https://www.trinitychurcheverton.org/event/the-3-oclock-club-6/
LOCATION:BNENC Gym\, Breckfield Centre\, Breckfield Pl\, Liverpool\, L5 4NH\, United Kingdom
END:VEVENT
BEGIN:VEVENT
DTSTART;TZID=Europe/London:20150329T103000
DTEND;TZID=Europe/London:20150329T113000
DTSTAMP:20260424T044500
CREATED:20150108T102907Z
LAST-MODIFIED:20150108T102907Z
UID:940-1427625000-1427628600@www.trinitychurcheverton.org
SUMMARY:Sunday Service (clocks go forward!) Isaiah 50 v 4 - 9
DESCRIPTION:
URL:https://www.trinitychurcheverton.org/event/sunday-service-clocks-go-forward-isaiah-50-v-4-9/
LOCATION:BNENC Gym\, Breckfield Centre\, Breckfield Pl\, Liverpool\, L5 4NH\, United Kingdom
END:VEVENT
BEGIN:VEVENT
DTSTART;TZID=Europe/London:20150327T071500
DTEND;TZID=Europe/London:20150327T075500
DTSTAMP:20260424T044500
CREATED:20150108T123941Z
LAST-MODIFIED:20150108T123941Z
UID:999-1427440500-1427442900@www.trinitychurcheverton.org
SUMMARY:Morning prayer meeting
DESCRIPTION:We meet every Friday morning to pray for the Church\, the community and the wider world.
URL:https://www.trinitychurcheverton.org/event/morning-prayer-meeting-12/
LOCATION:Church Office\,  28 St Domingo Vale\, Liverpool\, L5 6RW
END:VEVENT
BEGIN:VEVENT
DTSTART;TZID=Europe/London:20150326T080000
DTEND;TZID=Europe/London:20150326T170000
DTSTAMP:20260424T044500
CREATED:20150108T115901Z
LAST-MODIFIED:20150108T115901Z
UID:982-1427356800-1427389200@www.trinitychurcheverton.org
SUMMARY:LifeGroup
DESCRIPTION:LifeGroups are a brilliant way to get more involved in our church. We meet at 7pm for food together. Afterwards we help one another understand what the bible says and pray for each other. Contact Peter for more information on 01512603464.
URL:https://www.trinitychurcheverton.org/event/lifegroup-51/
LOCATION:Simon and Ro’s house
END:VEVENT
BEGIN:VEVENT
DTSTART;TZID=Europe/London:20150325T190000
DTEND;TZID=Europe/London:20150325T211500
DTSTAMP:20260424T044500
CREATED:20150108T115811Z
LAST-MODIFIED:20150108T115811Z
UID:981-1427310000-1427318100@www.trinitychurcheverton.org
SUMMARY:LifeGroup
DESCRIPTION:LifeGroups are a brilliant way to get more involved in our church. We meet at 7pm for food together. Afterwards we help one another understand what the bible says and pray for each other. Contact Peter for more information on 01512603464.
URL:https://www.trinitychurcheverton.org/event/lifegroup-50/
LOCATION:Peter and Ruth’s house
END:VEVENT
BEGIN:VEVENT
DTSTART;TZID=Europe/London:20150322T103000
DTEND;TZID=Europe/London:20150322T113000
DTSTAMP:20260424T044500
CREATED:20150108T102740Z
LAST-MODIFIED:20150108T102740Z
UID:939-1427020200-1427023800@www.trinitychurcheverton.org
SUMMARY:Sunday Service- Talk on Isaiah 49 v 1 - 6
DESCRIPTION:
URL:https://www.trinitychurcheverton.org/event/sunday-service-talk-on-isaiah-49-v-1-6/
LOCATION:BNENC Gym\, Breckfield Centre\, Breckfield Pl\, Liverpool\, L5 4NH\, United Kingdom
END:VEVENT
BEGIN:VEVENT
DTSTART;TZID=Europe/London:20150321T100000
DTEND;TZID=Europe/London:20150321T160000
DTSTAMP:20260424T044500
CREATED:20150108T120527Z
LAST-MODIFIED:20150108T120527Z
UID:985-1426932000-1426953600@www.trinitychurcheverton.org
SUMMARY:NWP Children's & Youth's Leader's Conference
DESCRIPTION:
URL:https://www.trinitychurcheverton.org/event/nwp-childrens-youths-leaders-conference/
LOCATION:Unnamed Venue\, Breckfield Centre\, Breckfield Pl\, Liverpool\, L5 4NH
END:VEVENT
BEGIN:VEVENT
DTSTART;TZID=Europe/London:20150320T071500
DTEND;TZID=Europe/London:20150320T195500
DTSTAMP:20260424T044500
CREATED:20150108T123839Z
LAST-MODIFIED:20150108T123839Z
UID:998-1426835700-1426881300@www.trinitychurcheverton.org
SUMMARY:Morning prayer meeting
DESCRIPTION:We meet every Friday morning to pray for the Church\, the community and the wider world.
URL:https://www.trinitychurcheverton.org/event/morning-prayer-meeting-11/
LOCATION:Church Office\,  28 St Domingo Vale\, Liverpool\, L5 6RW
END:VEVENT
BEGIN:VEVENT
DTSTART;TZID=Europe/London:20150319T190000
DTEND;TZID=Europe/London:20150319T211500
DTSTAMP:20260424T044500
CREATED:20150108T115710Z
LAST-MODIFIED:20150108T115710Z
UID:980-1426791600-1426799700@www.trinitychurcheverton.org
SUMMARY:LifeGroup
DESCRIPTION:LifeGroups are a brilliant way to get more involved in our church. We meet at 7pm for food together. Afterwards we help one another understand what the bible says and pray for each other. Contact Peter for more information on 01512603464.
URL:https://www.trinitychurcheverton.org/event/lifegroup-49/
LOCATION:Simon and Ro’s house
END:VEVENT
BEGIN:VEVENT
DTSTART;TZID=Europe/London:20150318T190000
DTEND;TZID=Europe/London:20150318T211500
DTSTAMP:20260424T044500
CREATED:20150108T115610Z
LAST-MODIFIED:20150108T115610Z
UID:979-1426705200-1426713300@www.trinitychurcheverton.org
SUMMARY:LifeGroup
DESCRIPTION:LifeGroups are a brilliant way to get more involved in our church. We meet at 7pm for food together. Afterwards we help one another understand what the bible says and pray for each other. Contact Peter for more information on 01512603464.
URL:https://www.trinitychurcheverton.org/event/lifegroup-48/
LOCATION:Peter and Ruth’s house
END:VEVENT
BEGIN:VEVENT
DTSTART;TZID=Europe/London:20150315T103000
DTEND;TZID=Europe/London:20150315T113000
DTSTAMP:20260424T044500
CREATED:20150108T102607Z
LAST-MODIFIED:20150108T102607Z
UID:938-1426415400-1426419000@www.trinitychurcheverton.org
SUMMARY:Sunday Service- Mother's Day Talk on Isaiah 40 v 1 - 4
DESCRIPTION:
URL:https://www.trinitychurcheverton.org/event/sunday-service-mothers-day-talk-on-isaiah-40-v-1-4/
LOCATION:BNENC Gym\, Breckfield Centre\, Breckfield Pl\, Liverpool\, L5 4NH\, United Kingdom
END:VEVENT
BEGIN:VEVENT
DTSTART;TZID=Europe/London:20150313T071500
DTEND;TZID=Europe/London:20150313T075500
DTSTAMP:20260424T044500
CREATED:20150108T123742Z
LAST-MODIFIED:20150108T123742Z
UID:997-1426230900-1426233300@www.trinitychurcheverton.org
SUMMARY:Morning prayer meeting
DESCRIPTION:We meet every Friday morning to pray for the Church\, the community and the wider world.
URL:https://www.trinitychurcheverton.org/event/morning-prayer-meeting-10/
LOCATION:Church Office\,  28 St Domingo Vale\, Liverpool\, L5 6RW
END:VEVENT
BEGIN:VEVENT
DTSTART;TZID=Europe/London:20150311T190000
DTEND;TZID=Europe/London:20150311T211500
DTSTAMP:20260424T044500
CREATED:20150108T114729Z
LAST-MODIFIED:20150108T114729Z
UID:976-1426100400-1426108500@www.trinitychurcheverton.org
SUMMARY:LifeGroup
DESCRIPTION:LifeGroups are a brilliant way to get more involved in our church. We meet at 7pm for food together. Afterwards we help one another understand what the bible says and pray for each other. Contact Peter for more information on 01512603464.
URL:https://www.trinitychurcheverton.org/event/lifegroup-46/
LOCATION:Peter and Ruth’s house
END:VEVENT
BEGIN:VEVENT
DTSTART;TZID=Europe/London:20150308T120000
DTEND;TZID=Europe/London:20150308T130000
DTSTAMP:20260424T044500
CREATED:20150306T092307Z
LAST-MODIFIED:20150306T092307Z
UID:1069-1425816000-1425819600@www.trinitychurcheverton.org
SUMMARY:Bring & share lunch
DESCRIPTION:After the Sunday service we will have a church lunch and then we are going to Stanley park. Everyone is welcome\, bring some friends or family along.
URL:https://www.trinitychurcheverton.org/event/bring-share-lunch/
LOCATION:BNENC Gym\, Breckfield Centre\, Breckfield Pl\, Liverpool\, L5 4NH\, United Kingdom
END:VEVENT
BEGIN:VEVENT
DTSTART;TZID=Europe/London:20150308T103000
DTEND;TZID=Europe/London:20150308T113000
DTSTAMP:20260424T044500
CREATED:20150108T102243Z
LAST-MODIFIED:20150108T102243Z
UID:937-1425810600-1425814200@www.trinitychurcheverton.org
SUMMARY:Sunday Service- Talk on Matthew 12 v 33 - 60
DESCRIPTION:
URL:https://www.trinitychurcheverton.org/event/sunday-service-talk-on-matthew-12-v-33-60/
LOCATION:BNENC Gym\, Breckfield Centre\, Breckfield Pl\, Liverpool\, L5 4NH\, United Kingdom
END:VEVENT
BEGIN:VEVENT
DTSTART;TZID=Europe/London:20150306T071500
DTEND;TZID=Europe/London:20150306T075500
DTSTAMP:20260424T044500
CREATED:20150108T123042Z
LAST-MODIFIED:20150108T123042Z
UID:995-1425626100-1425628500@www.trinitychurcheverton.org
SUMMARY:Morning prayer meeting
DESCRIPTION:We meet every Friday morning to pray for the Church\, the community and the wider world.
URL:https://www.trinitychurcheverton.org/event/morning-prayer-meeting-8/
LOCATION:Church Office\,  28 St Domingo Vale\, Liverpool\, L5 6RW
END:VEVENT
BEGIN:VEVENT
DTSTART;TZID=Europe/London:20150305T190000
DTEND;TZID=Europe/London:20150305T211500
DTSTAMP:20260424T044500
CREATED:20150108T114615Z
LAST-MODIFIED:20150108T114615Z
UID:975-1425582000-1425590100@www.trinitychurcheverton.org
SUMMARY:LifeGroup
DESCRIPTION:LifeGroups are a brilliant way to get more involved in our church. We meet at 7pm for food together. Afterwards we help one another understand what the bible says and pray for each other. Contact Peter for more information on 01512603464.
URL:https://www.trinitychurcheverton.org/event/lifegroup-45/
LOCATION:Simon and Ro’s house
END:VEVENT
BEGIN:VEVENT
DTSTART;TZID=Europe/London:20150304T190000
DTEND;TZID=Europe/London:20150304T211500
DTSTAMP:20260424T044500
CREATED:20150108T114506Z
LAST-MODIFIED:20150108T114506Z
UID:974-1425495600-1425503700@www.trinitychurcheverton.org
SUMMARY:LifeGroup
DESCRIPTION:LifeGroups are a brilliant way to get more involved in our church. We meet at 7pm for food together. Afterwards we help one another understand what the bible says and pray for each other. Contact Peter for more information on 01512603464.
URL:https://www.trinitychurcheverton.org/event/lifegroup-44/
END:VEVENT
BEGIN:VEVENT
DTSTART;TZID=Europe/London:20150302T193000
DTEND;TZID=Europe/London:20150302T210000
DTSTAMP:20260424T044500
CREATED:20150108T104039Z
LAST-MODIFIED:20150108T104039Z
UID:946-1425324600-1425330000@www.trinitychurcheverton.org
SUMMARY:Member's Meeting
DESCRIPTION:
URL:https://www.trinitychurcheverton.org/event/members-meeting-2/
LOCATION:Unnamed Venue\, Breckfield Centre\, Breckfield Pl\, Liverpool\, L5 4NH
END:VEVENT
BEGIN:VEVENT
DTSTART;TZID=Europe/London:20150301T184500
DTEND;TZID=Europe/London:20150301T203000
DTSTAMP:20260424T044500
CREATED:20150108T104707Z
LAST-MODIFIED:20150108T104707Z
UID:950-1425235500-1425241800@www.trinitychurcheverton.org
SUMMARY:Joint prayer meeting at Christchurch Liverpool
DESCRIPTION:
URL:https://www.trinitychurcheverton.org/event/joint-prayer-meeting-at-christchurch-liverpool-2/
LOCATION:Archbishop Blanch School\, Elm Grove\, Liverpool\, L7 3EH
END:VEVENT
BEGIN:VEVENT
DTSTART;TZID=Europe/London:20150301T153000
DTEND;TZID=Europe/London:20150301T170000
DTSTAMP:20260424T044500
CREATED:20150108T104313Z
LAST-MODIFIED:20150108T104313Z
UID:948-1425223800-1425229200@www.trinitychurcheverton.org
SUMMARY:Parenting with Steve & Jane Casey
DESCRIPTION:
URL:https://www.trinitychurcheverton.org/event/parenting-with-steve-jane-casey-2/
LOCATION:BNENC Gym\, Breckfield Centre\, Breckfield Pl\, Liverpool\, L5 4NH\, United Kingdom
END:VEVENT
BEGIN:VEVENT
DTSTART;TZID=Europe/London:20150301T103000
DTEND;TZID=Europe/London:20150301T113000
DTSTAMP:20260424T044500
CREATED:20150108T102128Z
LAST-MODIFIED:20150108T102128Z
UID:936-1425205800-1425209400@www.trinitychurcheverton.org
SUMMARY:Sunday Service- Talk on Matthew 12 v 1 - 32
DESCRIPTION:
URL:https://www.trinitychurcheverton.org/event/sunday-service-talk-on-matthew-12-v-1-32/
LOCATION:BNENC Gym\, Breckfield Centre\, Breckfield Pl\, Liverpool\, L5 4NH\, United Kingdom
END:VEVENT
BEGIN:VEVENT
DTSTART;TZID=Europe/London:20150227T071500
DTEND;TZID=Europe/London:20150227T075500
DTSTAMP:20260424T044500
CREATED:20150108T123616Z
LAST-MODIFIED:20150108T123616Z
UID:996-1425021300-1425023700@www.trinitychurcheverton.org
SUMMARY:Morning prayer meeting
DESCRIPTION:We meet every Friday morning to pray for the Church\, the community and the wider world.
URL:https://www.trinitychurcheverton.org/event/morning-prayer-meeting-9/
LOCATION:Church Office\,  28 St Domingo Vale\, Liverpool\, L5 6RW
END:VEVENT
END:VCALENDAR