BEGIN:VCALENDAR
VERSION:2.0
PRODID:-//Trinity Church Everton - ECPv6.15.13//NONSGML v1.0//EN
CALSCALE:GREGORIAN
METHOD:PUBLISH
X-ORIGINAL-URL:https://www.trinitychurcheverton.org
X-WR-CALDESC:Events for Trinity Church Everton
REFRESH-INTERVAL;VALUE=DURATION:PT1H
X-Robots-Tag:noindex
X-PUBLISHED-TTL:PT1H
BEGIN:VTIMEZONE
TZID:UTC
BEGIN:STANDARD
TZOFFSETFROM:+0000
TZOFFSETTO:+0000
TZNAME:UTC
DTSTART:20250101T000000
END:STANDARD
END:VTIMEZONE
BEGIN:VEVENT
DTSTART;TZID=UTC:20260503T103000
DTEND;TZID=UTC:20260503T234500
DTSTAMP:20260423T102048
CREATED:20260224T000357Z
LAST-MODIFIED:20260224T000357Z
UID:8884-1777804200-1777851900@www.trinitychurcheverton.org
SUMMARY:Matthew 6:19-34
DESCRIPTION:You would be really welcome to come to one of our Sunday meetings. \nWe are trying to run our church in a way that helps everyone to feel at home.
URL:https://www.trinitychurcheverton.org/event/matthew-619-34/
LOCATION:BNENC Gym\, Breckfield Centre\, Breckfield Pl\, Liverpool\, L5 4NH\, United Kingdom
END:VEVENT
BEGIN:VEVENT
DTSTART;TZID=UTC:20260510T103000
DTEND;TZID=UTC:20260510T234500
DTSTAMP:20260423T102048
CREATED:20260224T000503Z
LAST-MODIFIED:20260224T000503Z
UID:8886-1778409000-1778456700@www.trinitychurcheverton.org
SUMMARY:Matthew 7:1-12
DESCRIPTION:You would be really welcome to come to one of our Sunday meetings. \nWe are trying to run our church in a way that helps everyone to feel at home.
URL:https://www.trinitychurcheverton.org/event/matthew-71-12/
LOCATION:BNENC Gym\, Breckfield Centre\, Breckfield Pl\, Liverpool\, L5 4NH\, United Kingdom
END:VEVENT
BEGIN:VEVENT
DTSTART;TZID=UTC:20260517T103000
DTEND;TZID=UTC:20260517T234500
DTSTAMP:20260423T102048
CREATED:20260224T000612Z
LAST-MODIFIED:20260224T000612Z
UID:8888-1779013800-1779061500@www.trinitychurcheverton.org
SUMMARY:Matthew 7:13-29
DESCRIPTION:You would be really welcome to come to one of our Sunday meetings. \nWe are trying to run our church in a way that helps everyone to feel at home.
URL:https://www.trinitychurcheverton.org/event/matthew-713-29/
LOCATION:BNENC Gym\, Breckfield Centre\, Breckfield Pl\, Liverpool\, L5 4NH\, United Kingdom
END:VEVENT
BEGIN:VEVENT
DTSTART;TZID=UTC:20260524T103000
DTEND;TZID=UTC:20260524T114500
DTSTAMP:20260423T102048
CREATED:20260224T000741Z
LAST-MODIFIED:20260224T000741Z
UID:8891-1779618600-1779623100@www.trinitychurcheverton.org
SUMMARY:1 Samuel 1-2:11
DESCRIPTION:You would be really welcome to come to one of our Sunday meetings. \nWe are trying to run our church in a way that helps everyone to feel at home.
URL:https://www.trinitychurcheverton.org/event/1-samuel-1-211/
LOCATION:BNENC Gym\, Breckfield Centre\, Breckfield Pl\, Liverpool\, L5 4NH\, United Kingdom
END:VEVENT
BEGIN:VEVENT
DTSTART;TZID=UTC:20260531T103000
DTEND;TZID=UTC:20260531T114500
DTSTAMP:20260423T102048
CREATED:20260224T000858Z
LAST-MODIFIED:20260224T000858Z
UID:8893-1780223400-1780227900@www.trinitychurcheverton.org
SUMMARY:1 Samuel	2:11-36
DESCRIPTION:You would be really welcome to come to one of our Sunday meetings. \nWe are trying to run our church in a way that helps everyone to feel at home.
URL:https://www.trinitychurcheverton.org/event/1-samuel211-36/
LOCATION:BNENC Gym\, Breckfield Centre\, Breckfield Pl\, Liverpool\, L5 4NH\, United Kingdom
END:VEVENT
END:VCALENDAR