BEGIN:VCALENDAR
VERSION:2.0
PRODID:-//Trinity Church Everton - ECPv6.15.13//NONSGML v1.0//EN
CALSCALE:GREGORIAN
METHOD:PUBLISH
X-WR-CALNAME:Trinity Church Everton
X-ORIGINAL-URL:https://www.trinitychurcheverton.org
X-WR-CALDESC:Events for Trinity Church Everton
REFRESH-INTERVAL;VALUE=DURATION:PT1H
X-Robots-Tag:noindex
X-PUBLISHED-TTL:PT1H
BEGIN:VTIMEZONE
TZID:UTC
BEGIN:STANDARD
TZOFFSETFROM:+0000
TZOFFSETTO:+0000
TZNAME:UTC
DTSTART:20250101T000000
END:STANDARD
END:VTIMEZONE
BEGIN:VEVENT
DTSTART;TZID=UTC:20260306T183000
DTEND;TZID=UTC:20260306T203000
DTSTAMP:20260423T115042
CREATED:20260223T233059Z
LAST-MODIFIED:20260223T233059Z
UID:8856-1772821800-1772829000@www.trinitychurcheverton.org
SUMMARY:Youth Night/ Clay creations
DESCRIPTION:We will meet to have food\, play games and do an activity.\nEveryone aged 11-18 is welcome.\nAll you need to do is get a parent or guardian to fill out the permission slip.
URL:https://www.trinitychurcheverton.org/event/youth-night-clay-creations/
LOCATION:Church Centre\, BNENC\, Breckfield Road\, L5 4QT\, United Kingdom
END:VEVENT
BEGIN:VEVENT
DTSTART;TZID=UTC:20260308T103000
DTEND;TZID=UTC:20260308T114500
DTSTAMP:20260423T115042
CREATED:20251118T225547Z
LAST-MODIFIED:20251118T225547Z
UID:8733-1772965800-1772970300@www.trinitychurcheverton.org
SUMMARY:Ezekiel 47
DESCRIPTION:You would be really welcome to come to one of our Sunday meetings. \nWe are trying to run our church in a way that helps everyone to feel at home.
URL:https://www.trinitychurcheverton.org/event/ezekiel-47/
LOCATION:BNENC Gym\, Breckfield Centre\, Breckfield Pl\, Liverpool\, L5 4NH\, United Kingdom
END:VEVENT
BEGIN:VEVENT
DTSTART;TZID=UTC:20260308T190000
DTEND;TZID=UTC:20260308T210000
DTSTAMP:20260423T115042
CREATED:20260223T234330Z
LAST-MODIFIED:20260223T234330Z
UID:8865-1772996400-1773003600@www.trinitychurcheverton.org
SUMMARY:Women Bible Study
DESCRIPTION:This is a great time to get together as women and explore the book of Galatians. \nFor more info talk to Becky or email becky.trinitychurcheverton@gmail.com
URL:https://www.trinitychurcheverton.org/event/women-bible-study-5/
LOCATION:Mariana’s house
END:VEVENT
BEGIN:VEVENT
DTSTART;TZID=UTC:20260309T130000
DTEND;TZID=UTC:20260309T140000
DTSTAMP:20260423T115042
CREATED:20260223T221932Z
LAST-MODIFIED:20260223T221932Z
UID:8769-1773061200-1773064800@www.trinitychurcheverton.org
SUMMARY:International café
DESCRIPTION:Come along to our international café! \nCome and make friends\, play games and practice your English.
URL:https://www.trinitychurcheverton.org/event/international-cafe-3/
LOCATION:Church Centre\, BNENC\, Breckfield Road\, L5 4QT\, United Kingdom
END:VEVENT
BEGIN:VEVENT
DTSTART;TZID=UTC:20260310T183000
DTEND;TZID=UTC:20260310T203000
DTSTAMP:20260423T115042
CREATED:20260223T223724Z
LAST-MODIFIED:20260223T223724Z
UID:8789-1773167400-1773174600@www.trinitychurcheverton.org
SUMMARY:Road to Recovery
DESCRIPTION:Struggling with addiction? Feeling isolated? Then Road to Recovery is for you! \nRoad to Recovery is a Christian support group for anyone seeking a way out of addiction. \nFor more info talk to David or email david.trinitychurcheverton@gmail.com
URL:https://www.trinitychurcheverton.org/event/road-to-recovery-22/
LOCATION:Church Centre\, BNENC\, Breckfield Road\, L5 4QT\, United Kingdom
END:VEVENT
BEGIN:VEVENT
DTSTART;TZID=UTC:20260311T090000
DTEND;TZID=UTC:20260311T100000
DTSTAMP:20260423T115042
CREATED:20260223T225211Z
LAST-MODIFIED:20260223T225211Z
UID:8810-1773219600-1773223200@www.trinitychurcheverton.org
SUMMARY:Prayer Meeting
DESCRIPTION:Do you want God to do great things here in Everton? Can you be free on Wednesday mornings? \nJoin us for our weekly prayer power hour.  Everyone is welcome to come and ask God to work in our community \nFor more info talk to Peter or email peter.trinitychurcheverton@gmail.com
URL:https://www.trinitychurcheverton.org/event/prayer-meeting-14/
LOCATION:Church Centre\, BNENC\, Breckfield Road\, L5 4QT\, United Kingdom
END:VEVENT
BEGIN:VEVENT
DTSTART;TZID=UTC:20260311T130000
DTEND;TZID=UTC:20260311T150000
DTSTAMP:20260423T115042
CREATED:20260225T144244Z
LAST-MODIFIED:20260225T144244Z
UID:8899-1773234000-1773241200@www.trinitychurcheverton.org
SUMMARY:Restored
DESCRIPTION:Come and join a craft group for women. \nEach week we will be doing different crafts on the theme of ‘broken but not worthless’ and looking at broken lives of women in the Bible and what that means for us today. \nFor more info talk to Becky or email becky.trinitychurcheverton@gmail.com
URL:https://www.trinitychurcheverton.org/event/restored-11/
LOCATION:Church Centre\, BNENC\, Breckfield Road\, L5 4QT\, United Kingdom
END:VEVENT
BEGIN:VEVENT
DTSTART;TZID=UTC:20260312T130000
DTEND;TZID=UTC:20260312T150000
DTSTAMP:20260423T115042
CREATED:20260223T230444Z
LAST-MODIFIED:20260223T230444Z
UID:8827-1773320400-1773327600@www.trinitychurcheverton.org
SUMMARY:Kintsugi Hope
DESCRIPTION:Wellbeing and Mantel Health Group \nCome and join us as we journey together over 6 weeks to explore topics like shame\, anxiety\, depression\, forgiveness\, self-acceptance and many more.\nStarting on Thursday 8th January 2026\n1-3pm every week during term time.\nEveryone is welcome! \nFor more info talk to Becky or email becky.trinitychurcheverton@gmail.com
URL:https://www.trinitychurcheverton.org/event/kintsugi-hope-9/
LOCATION:Church Centre\, BNENC\, Breckfield Road\, L5 4QT\, United Kingdom
END:VEVENT
BEGIN:VEVENT
DTSTART;TZID=UTC:20260312T193000
DTEND;TZID=UTC:20260312T210000
DTSTAMP:20260423T115042
CREATED:20260223T231640Z
LAST-MODIFIED:20260223T234904Z
UID:8843-1773343800-1773349200@www.trinitychurcheverton.org
SUMMARY:Lifegroups
DESCRIPTION:The Christian life is to be lived in community. \nLifegroups are a chance to meet each week with a smaller group of people to pray and look at the Bible and encourage each other. \nFor more info talk to Peter or email peter.trinitychurcheverton@gmail.com
URL:https://www.trinitychurcheverton.org/event/lifegroups-6/
LOCATION:People Homes
END:VEVENT
BEGIN:VEVENT
DTSTART;TZID=UTC:20260315T103000
DTEND;TZID=UTC:20260315T114500
DTSTAMP:20260423T115042
CREATED:20251118T225712Z
LAST-MODIFIED:20251118T225712Z
UID:8735-1773570600-1773575100@www.trinitychurcheverton.org
SUMMARY:Ezekiel 48
DESCRIPTION:You would be really welcome to come to one of our Sunday meetings. \nWe are trying to run our church in a way that helps everyone to feel at home.
URL:https://www.trinitychurcheverton.org/event/ezekiel-48/
LOCATION:BNENC Gym\, Breckfield Centre\, Breckfield Pl\, Liverpool\, L5 4NH\, United Kingdom
END:VEVENT
BEGIN:VEVENT
DTSTART;TZID=UTC:20260316T130000
DTEND;TZID=UTC:20260316T140000
DTSTAMP:20260423T115042
CREATED:20260223T222029Z
LAST-MODIFIED:20260223T222029Z
UID:8771-1773666000-1773669600@www.trinitychurcheverton.org
SUMMARY:International café
DESCRIPTION:Come along to our international café! \nCome and make friends\, play games and practice your English.
URL:https://www.trinitychurcheverton.org/event/international-cafe-4/
LOCATION:Church Centre\, BNENC\, Breckfield Road\, L5 4QT\, United Kingdom
END:VEVENT
BEGIN:VEVENT
DTSTART;TZID=UTC:20260317T183000
DTEND;TZID=UTC:20260317T203000
DTSTAMP:20260423T115042
CREATED:20260223T223808Z
LAST-MODIFIED:20260223T223808Z
UID:8791-1773772200-1773779400@www.trinitychurcheverton.org
SUMMARY:Road to Recovery
DESCRIPTION:Struggling with addiction? Feeling isolated? Then Road to Recovery is for you! \nRoad to Recovery is a Christian support group for anyone seeking a way out of addiction. \nFor more info talk to David or email david.trinitychurcheverton@gmail.com
URL:https://www.trinitychurcheverton.org/event/road-to-recovery-23/
LOCATION:Church Centre\, BNENC\, Breckfield Road\, L5 4QT\, United Kingdom
END:VEVENT
BEGIN:VEVENT
DTSTART;TZID=UTC:20260318T090000
DTEND;TZID=UTC:20260318T100000
DTSTAMP:20260423T115042
CREATED:20260223T225326Z
LAST-MODIFIED:20260223T225326Z
UID:8813-1773824400-1773828000@www.trinitychurcheverton.org
SUMMARY:Prayer Meeting
DESCRIPTION:Do you want God to do great things here in Everton? Can you be free on Wednesday mornings? \nJoin us for our weekly prayer power hour.  Everyone is welcome to come and ask God to work in our community \nFor more info talk to Peter or email peter.trinitychurcheverton@gmail.com
URL:https://www.trinitychurcheverton.org/event/prayer-meeting-15/
LOCATION:Church Centre\, BNENC\, Breckfield Road\, L5 4QT\, United Kingdom
END:VEVENT
BEGIN:VEVENT
DTSTART;TZID=UTC:20260318T130000
DTEND;TZID=UTC:20260318T150000
DTSTAMP:20260423T115042
CREATED:20260225T144330Z
LAST-MODIFIED:20260225T144330Z
UID:8901-1773838800-1773846000@www.trinitychurcheverton.org
SUMMARY:Restored
DESCRIPTION:Come and join a craft group for women. \nEach week we will be doing different crafts on the theme of ‘broken but not worthless’ and looking at broken lives of women in the Bible and what that means for us today. \nFor more info talk to Becky or email becky.trinitychurcheverton@gmail.com
URL:https://www.trinitychurcheverton.org/event/restored-12/
LOCATION:Church Centre\, BNENC\, Breckfield Road\, L5 4QT\, United Kingdom
END:VEVENT
BEGIN:VEVENT
DTSTART;TZID=UTC:20260319T130000
DTEND;TZID=UTC:20260319T150000
DTSTAMP:20260423T115042
CREATED:20260223T230627Z
LAST-MODIFIED:20260223T230627Z
UID:8829-1773925200-1773932400@www.trinitychurcheverton.org
SUMMARY:Kintsugi Hope
DESCRIPTION:Wellbeing and Mantel Health Group \nCome and join us as we journey together over 6 weeks to explore topics like shame\, anxiety\, depression\, forgiveness\, self-acceptance and many more.\nStarting on Thursday 8th January 2026\n1-3pm every week during term time.\nEveryone is welcome! \nFor more info talk to Becky or email becky.trinitychurcheverton@gmail.com
URL:https://www.trinitychurcheverton.org/event/kintsugi-hope-10/
LOCATION:Church Centre\, BNENC\, Breckfield Road\, L5 4QT\, United Kingdom
END:VEVENT
BEGIN:VEVENT
DTSTART;TZID=UTC:20260319T193000
DTEND;TZID=UTC:20260319T210000
DTSTAMP:20260423T115042
CREATED:20260223T231806Z
LAST-MODIFIED:20260223T234825Z
UID:8846-1773948600-1773954000@www.trinitychurcheverton.org
SUMMARY:Lifegroups
DESCRIPTION:The Christian life is to be lived in community. \nLifegroups are a chance to meet each week with a smaller group of people to pray and look at the Bible and encourage each other. \nFor more info talk to Peter or email peter.trinitychurcheverton@gmail.com
URL:https://www.trinitychurcheverton.org/event/lifegroups-7/
LOCATION:People Homes
END:VEVENT
BEGIN:VEVENT
DTSTART;TZID=UTC:20260320T183000
DTEND;TZID=UTC:20260320T203000
DTSTAMP:20260423T115042
CREATED:20260223T233232Z
LAST-MODIFIED:20260223T233232Z
UID:8858-1774031400-1774038600@www.trinitychurcheverton.org
SUMMARY:Youth Night/ DIY keyrings
DESCRIPTION:We will meet to have food\, play games and do an activity.\nEveryone aged 11-18 is welcome.\nAll you need to do is get a parent or guardian to fill out the permission slip.
URL:https://www.trinitychurcheverton.org/event/youth-night-diy-keyrings/
LOCATION:Church Centre\, BNENC\, Breckfield Road\, L5 4QT\, United Kingdom
END:VEVENT
BEGIN:VEVENT
DTSTART;TZID=UTC:20260322T103000
DTEND;TZID=UTC:20260322T234500
DTSTAMP:20260423T115042
CREATED:20260223T235453Z
LAST-MODIFIED:20260223T235453Z
UID:8871-1774175400-1774223100@www.trinitychurcheverton.org
SUMMARY:Isaiah  53:1-6
DESCRIPTION:You would be really welcome to come to one of our Sunday meetings. \nWe are trying to run our church in a way that helps everyone to feel at home.
URL:https://www.trinitychurcheverton.org/event/isaiah-531-6/
LOCATION:BNENC Gym\, Breckfield Centre\, Breckfield Pl\, Liverpool\, L5 4NH\, United Kingdom
END:VEVENT
BEGIN:VEVENT
DTSTART;TZID=UTC:20260322T190000
DTEND;TZID=UTC:20260322T210000
DTSTAMP:20260423T115042
CREATED:20260223T234535Z
LAST-MODIFIED:20260223T234535Z
UID:8868-1774206000-1774213200@www.trinitychurcheverton.org
SUMMARY:Women Bible Study
DESCRIPTION:This is a great time to get together as women and explore the book of Galatians. \nFor more info talk to Becky or email becky.trinitychurcheverton@gmail.com
URL:https://www.trinitychurcheverton.org/event/women-bible-study-6/
LOCATION:Mariana’s house
END:VEVENT
BEGIN:VEVENT
DTSTART;TZID=UTC:20260323T130000
DTEND;TZID=UTC:20260323T140000
DTSTAMP:20260423T115042
CREATED:20260223T222158Z
LAST-MODIFIED:20260223T222158Z
UID:8773-1774270800-1774274400@www.trinitychurcheverton.org
SUMMARY:International café
DESCRIPTION:Come along to our international café! \nCome and make friends\, play games and practice your English.
URL:https://www.trinitychurcheverton.org/event/international-cafe-5/
LOCATION:Church Centre\, BNENC\, Breckfield Road\, L5 4QT\, United Kingdom
END:VEVENT
BEGIN:VEVENT
DTSTART;TZID=UTC:20260324T183000
DTEND;TZID=UTC:20260324T203000
DTSTAMP:20260423T115042
CREATED:20260223T224037Z
LAST-MODIFIED:20260223T224037Z
UID:8794-1774377000-1774384200@www.trinitychurcheverton.org
SUMMARY:Road to Recovery
DESCRIPTION:Struggling with addiction? Feeling isolated? Then Road to Recovery is for you! \nRoad to Recovery is a Christian support group for anyone seeking a way out of addiction. \nFor more info talk to David or email david.trinitychurcheverton@gmail.com
URL:https://www.trinitychurcheverton.org/event/road-to-recovery-24/
LOCATION:Church Centre\, BNENC\, Breckfield Road\, L5 4QT\, United Kingdom
END:VEVENT
BEGIN:VEVENT
DTSTART;TZID=UTC:20260325T090000
DTEND;TZID=UTC:20260325T100000
DTSTAMP:20260423T115042
CREATED:20260223T225438Z
LAST-MODIFIED:20260223T225438Z
UID:8815-1774429200-1774432800@www.trinitychurcheverton.org
SUMMARY:Prayer Meeting
DESCRIPTION:Do you want God to do great things here in Everton? Can you be free on Wednesday mornings? \nJoin us for our weekly prayer power hour.  Everyone is welcome to come and ask God to work in our community \nFor more info talk to Peter or email peter.trinitychurcheverton@gmail.com
URL:https://www.trinitychurcheverton.org/event/prayer-meeting-16/
LOCATION:Church Centre\, BNENC\, Breckfield Road\, L5 4QT\, United Kingdom
END:VEVENT
BEGIN:VEVENT
DTSTART;TZID=UTC:20260325T130000
DTEND;TZID=UTC:20260325T150000
DTSTAMP:20260423T115042
CREATED:20260225T144436Z
LAST-MODIFIED:20260225T144436Z
UID:8903-1774443600-1774450800@www.trinitychurcheverton.org
SUMMARY:Restored
DESCRIPTION:Come and join a craft group for women. \nEach week we will be doing different crafts on the theme of ‘broken but not worthless’ and looking at broken lives of women in the Bible and what that means for us today. \nFor more info talk to Becky or email becky.trinitychurcheverton@gmail.com
URL:https://www.trinitychurcheverton.org/event/restored-13/
LOCATION:Church Centre\, BNENC\, Breckfield Road\, L5 4QT\, United Kingdom
END:VEVENT
BEGIN:VEVENT
DTSTART;TZID=UTC:20260326T130000
DTEND;TZID=UTC:20260326T150000
DTSTAMP:20260423T115042
CREATED:20260223T230743Z
LAST-MODIFIED:20260223T230743Z
UID:8831-1774530000-1774537200@www.trinitychurcheverton.org
SUMMARY:Kintsugi Hope
DESCRIPTION:Wellbeing and Mantel Health Group \nCome and join us as we journey together over 6 weeks to explore topics like shame\, anxiety\, depression\, forgiveness\, self-acceptance and many more.\nStarting on Thursday 8th January 2026\n1-3pm every week during term time.\nEveryone is welcome! \nFor more info talk to Becky or email becky.trinitychurcheverton@gmail.com
URL:https://www.trinitychurcheverton.org/event/kintsugi-hope-11/
LOCATION:Church Centre\, BNENC\, Breckfield Road\, L5 4QT\, United Kingdom
END:VEVENT
BEGIN:VEVENT
DTSTART;TZID=UTC:20260326T193000
DTEND;TZID=UTC:20260326T210000
DTSTAMP:20260423T115042
CREATED:20260223T231919Z
LAST-MODIFIED:20260223T234746Z
UID:8848-1774553400-1774558800@www.trinitychurcheverton.org
SUMMARY:Lifegroups
DESCRIPTION:The Christian life is to be lived in community. \nLifegroups are a chance to meet each week with a smaller group of people to pray and look at the Bible and encourage each other. \nFor more info talk to Peter or email peter.trinitychurcheverton@gmail.com
URL:https://www.trinitychurcheverton.org/event/lifegroups-8/
LOCATION:People Homes
END:VEVENT
BEGIN:VEVENT
DTSTART;TZID=UTC:20260327T183000
DTEND;TZID=UTC:20260327T203000
DTSTAMP:20260423T115042
CREATED:20260223T233333Z
LAST-MODIFIED:20260223T233333Z
UID:8860-1774636200-1774643400@www.trinitychurcheverton.org
SUMMARY:Youth Night/ Easter party
DESCRIPTION:We will meet to have food\, play games and do an activity.\nEveryone aged 11-18 is welcome.\nAll you need to do is get a parent or guardian to fill out the permission slip.
URL:https://www.trinitychurcheverton.org/event/youth-night-easter-party/
LOCATION:Church Centre\, BNENC\, Breckfield Road\, L5 4QT\, United Kingdom
END:VEVENT
BEGIN:VEVENT
DTSTART;TZID=UTC:20260329T103000
DTEND;TZID=UTC:20260329T234500
DTSTAMP:20260423T115042
CREATED:20260223T235641Z
LAST-MODIFIED:20260223T235641Z
UID:8873-1774780200-1774827900@www.trinitychurcheverton.org
SUMMARY:Isaiah  53:7-9
DESCRIPTION:You would be really welcome to come to one of our Sunday meetings. \nWe are trying to run our church in a way that helps everyone to feel at home.
URL:https://www.trinitychurcheverton.org/event/isaiah-537-9/
LOCATION:BNENC Gym\, Breckfield Centre\, Breckfield Pl\, Liverpool\, L5 4NH\, United Kingdom
END:VEVENT
BEGIN:VEVENT
DTSTART;TZID=UTC:20260331T183000
DTEND;TZID=UTC:20260331T203000
DTSTAMP:20260423T115042
CREATED:20260223T224125Z
LAST-MODIFIED:20260223T224125Z
UID:8796-1774981800-1774989000@www.trinitychurcheverton.org
SUMMARY:Road to Recovery
DESCRIPTION:Struggling with addiction? Feeling isolated? Then Road to Recovery is for you! \nRoad to Recovery is a Christian support group for anyone seeking a way out of addiction. \nFor more info talk to David or email david.trinitychurcheverton@gmail.com
URL:https://www.trinitychurcheverton.org/event/road-to-recovery-25/
LOCATION:Church Centre\, BNENC\, Breckfield Road\, L5 4QT\, United Kingdom
END:VEVENT
BEGIN:VEVENT
DTSTART;TZID=UTC:20260405T103000
DTEND;TZID=UTC:20260405T120000
DTSTAMP:20260423T115042
CREATED:20260223T235838Z
LAST-MODIFIED:20260223T235838Z
UID:8876-1775385000-1775390400@www.trinitychurcheverton.org
SUMMARY:Easter Sunday/ Isaiah  53:10-12
DESCRIPTION:You would be really welcome to come to one of our Sunday meetings. \nWe are trying to run our church in a way that helps everyone to feel at home.
URL:https://www.trinitychurcheverton.org/event/easter-sunday-isaiah-5310-12/
LOCATION:BNENC Gym\, Breckfield Centre\, Breckfield Pl\, Liverpool\, L5 4NH\, United Kingdom
END:VEVENT
BEGIN:VEVENT
DTSTART;TZID=UTC:20260407T183000
DTEND;TZID=UTC:20260407T203000
DTSTAMP:20260423T115042
CREATED:20260223T224218Z
LAST-MODIFIED:20260223T224218Z
UID:8798-1775586600-1775593800@www.trinitychurcheverton.org
SUMMARY:Road to Recovery
DESCRIPTION:Struggling with addiction? Feeling isolated? Then Road to Recovery is for you! \nRoad to Recovery is a Christian support group for anyone seeking a way out of addiction. \nFor more info talk to David or email david.trinitychurcheverton@gmail.com
URL:https://www.trinitychurcheverton.org/event/road-to-recovery-26/
LOCATION:Church Centre\, BNENC\, Breckfield Road\, L5 4QT\, United Kingdom
END:VEVENT
END:VCALENDAR