BEGIN:VCALENDAR
VERSION:2.0
PRODID:-//Trinity Church Everton - ECPv6.15.13//NONSGML v1.0//EN
CALSCALE:GREGORIAN
METHOD:PUBLISH
X-ORIGINAL-URL:https://www.trinitychurcheverton.org
X-WR-CALDESC:Events for Trinity Church Everton
REFRESH-INTERVAL;VALUE=DURATION:PT1H
X-Robots-Tag:noindex
X-PUBLISHED-TTL:PT1H
BEGIN:VTIMEZONE
TZID:UTC
BEGIN:STANDARD
TZOFFSETFROM:+0000
TZOFFSETTO:+0000
TZNAME:UTC
DTSTART:20250101T000000
END:STANDARD
END:VTIMEZONE
BEGIN:VEVENT
DTSTART;TZID=UTC:20260417T183000
DTEND;TZID=UTC:20260417T203000
DTSTAMP:20260423T100404
CREATED:20260223T233515Z
LAST-MODIFIED:20260223T233515Z
UID:8862-1776450600-1776457800@www.trinitychurcheverton.org
SUMMARY:Youth night/ Live action Mariokart
DESCRIPTION:We will meet to have food\, play games and do an activity. \nEveryone aged 11-18 is welcome.\nAll you need to do is get a parent or guardian to fill out the permission slip.
URL:https://www.trinitychurcheverton.org/event/youth-night-live-action-mariokart/
LOCATION:Church Centre\, BNENC\, Breckfield Road\, L5 4QT\, United Kingdom
END:VEVENT
END:VCALENDAR