BEGIN:VCALENDAR
VERSION:2.0
PRODID:-//Trinity Church Everton - ECPv6.15.13//NONSGML v1.0//EN
CALSCALE:GREGORIAN
METHOD:PUBLISH
X-WR-CALNAME:Trinity Church Everton
X-ORIGINAL-URL:https://www.trinitychurcheverton.org
X-WR-CALDESC:Events for Trinity Church Everton
REFRESH-INTERVAL;VALUE=DURATION:PT1H
X-Robots-Tag:noindex
X-PUBLISHED-TTL:PT1H
BEGIN:VTIMEZONE
TZID:UTC
BEGIN:STANDARD
TZOFFSETFROM:+0000
TZOFFSETTO:+0000
TZNAME:UTC
DTSTART:20250101T000000
END:STANDARD
END:VTIMEZONE
BEGIN:VEVENT
DTSTART;TZID=UTC:20260416T130000
DTEND;TZID=UTC:20260416T150000
DTSTAMP:20260423T095912
CREATED:20260223T230848Z
LAST-MODIFIED:20260223T230848Z
UID:8833-1776344400-1776351600@www.trinitychurcheverton.org
SUMMARY:Kintsugi Hope
DESCRIPTION:Wellbeing and Mantel Health Group \nCome and join us as we journey together over 6 weeks to explore topics like shame\, anxiety\, depression\, forgiveness\, self-acceptance and many more.\nStarting on Thursday 8th January 2026\n1-3pm every week during term time.\nEveryone is welcome! \nFor more info talk to Becky or email becky.trinitychurcheverton@gmail.com
URL:https://www.trinitychurcheverton.org/event/kintsugi-hope-12/
LOCATION:Church Centre\, BNENC\, Breckfield Road\, L5 4QT\, United Kingdom
END:VEVENT
BEGIN:VEVENT
DTSTART;TZID=UTC:20260416T193000
DTEND;TZID=UTC:20260416T210000
DTSTAMP:20260423T095912
CREATED:20260223T232047Z
LAST-MODIFIED:20260223T234705Z
UID:8850-1776367800-1776373200@www.trinitychurcheverton.org
SUMMARY:Lifegroups
DESCRIPTION:The Christian life is to be lived in community. \nLifegroups are a chance to meet each week with a smaller group of people to pray and look at the Bible and encourage each other. \nFor more info talk to Peter or email peter.trinitychurcheverton@gmail.com
URL:https://www.trinitychurcheverton.org/event/lifegroups-9/
LOCATION:People Homes
END:VEVENT
END:VCALENDAR