BEGIN:VCALENDAR
VERSION:2.0
PRODID:-//Trinity Church Everton - ECPv6.15.13//NONSGML v1.0//EN
CALSCALE:GREGORIAN
METHOD:PUBLISH
X-WR-CALNAME:Trinity Church Everton
X-ORIGINAL-URL:https://www.trinitychurcheverton.org
X-WR-CALDESC:Events for Trinity Church Everton
REFRESH-INTERVAL;VALUE=DURATION:PT1H
X-Robots-Tag:noindex
X-PUBLISHED-TTL:PT1H
BEGIN:VTIMEZONE
TZID:UTC
BEGIN:STANDARD
TZOFFSETFROM:+0000
TZOFFSETTO:+0000
TZNAME:UTC
DTSTART:20250101T000000
END:STANDARD
END:VTIMEZONE
BEGIN:VEVENT
DTSTART;TZID=UTC:20260412T103000
DTEND;TZID=UTC:20260412T234500
DTSTAMP:20260423T095816
CREATED:20260224T000005Z
LAST-MODIFIED:20260224T000005Z
UID:8878-1775989800-1776037500@www.trinitychurcheverton.org
SUMMARY:Matthew 5:13-20
DESCRIPTION:You would be really welcome to come to one of our Sunday meetings. \nWe are trying to run our church in a way that helps everyone to feel at home.
URL:https://www.trinitychurcheverton.org/event/matthew-513-20/
LOCATION:BNENC Gym\, Breckfield Centre\, Breckfield Pl\, Liverpool\, L5 4NH\, United Kingdom
END:VEVENT
END:VCALENDAR