BEGIN:VCALENDAR
VERSION:2.0
PRODID:-//Trinity Church Everton - ECPv6.15.13//NONSGML v1.0//EN
CALSCALE:GREGORIAN
METHOD:PUBLISH
X-WR-CALNAME:Trinity Church Everton
X-ORIGINAL-URL:https://www.trinitychurcheverton.org
X-WR-CALDESC:Events for Trinity Church Everton
REFRESH-INTERVAL;VALUE=DURATION:PT1H
X-Robots-Tag:noindex
X-PUBLISHED-TTL:PT1H
BEGIN:VTIMEZONE
TZID:UTC
BEGIN:STANDARD
TZOFFSETFROM:+0000
TZOFFSETTO:+0000
TZNAME:UTC
DTSTART:20250101T000000
END:STANDARD
END:VTIMEZONE
BEGIN:VEVENT
DTSTART;TZID=UTC:20260204T090000
DTEND;TZID=UTC:20260204T100000
DTSTAMP:20260423T114413
CREATED:20251117T222632Z
LAST-MODIFIED:20251117T222632Z
UID:8675-1770195600-1770199200@www.trinitychurcheverton.org
SUMMARY:Prayer meeting
DESCRIPTION:Do you want God to do great things here in Everton? Can you be free on Wednesday mornings? \nJoin us for our weekly prayer power hour.  Everyone is welcome to come and ask God to work in our community \nFor more info talk to Peter or email peter.trinitychurcheverton@gmail.com
URL:https://www.trinitychurcheverton.org/event/prayer-meeting-10/
LOCATION:Church Centre\, BNENC\, Breckfield Road\, L5 4QT\, United Kingdom
END:VEVENT
BEGIN:VEVENT
DTSTART;TZID=UTC:20260204T130000
DTEND;TZID=UTC:20260204T150000
DTSTAMP:20260423T114413
CREATED:20251117T231253Z
LAST-MODIFIED:20251117T231253Z
UID:8706-1770210000-1770217200@www.trinitychurcheverton.org
SUMMARY:Finding Hope
DESCRIPTION:Come and join a safe space where we look at how the Bible applies to the ups and downs of life whilst doing crafts together.\n\n\nFor more info talk to Becky or email  becky.trinitychurcheverton@gmail.com
URL:https://www.trinitychurcheverton.org/event/finding-hope-14/
LOCATION:Church Centre\, BNENC\, Breckfield Road\, L5 4QT\, United Kingdom
END:VEVENT
END:VCALENDAR