BEGIN:VCALENDAR
VERSION:2.0
PRODID:-//Trinity Church Everton - ECPv6.15.13//NONSGML v1.0//EN
CALSCALE:GREGORIAN
METHOD:PUBLISH
X-ORIGINAL-URL:https://www.trinitychurcheverton.org
X-WR-CALDESC:Events for Trinity Church Everton
REFRESH-INTERVAL;VALUE=DURATION:PT1H
X-Robots-Tag:noindex
X-PUBLISHED-TTL:PT1H
BEGIN:VTIMEZONE
TZID:UTC
BEGIN:STANDARD
TZOFFSETFROM:+0000
TZOFFSETTO:+0000
TZNAME:UTC
DTSTART:20250101T000000
END:STANDARD
END:VTIMEZONE
BEGIN:VEVENT
DTSTART;TZID=UTC:20260129T130000
DTEND;TZID=UTC:20260129T150000
DTSTAMP:20260423T134009
CREATED:20251117T164240Z
LAST-MODIFIED:20251117T193522Z
UID:8633-1769691600-1769698800@www.trinitychurcheverton.org
SUMMARY:Kintsugi Hope
DESCRIPTION:Wellbeing and Mantel Health Group \nCome and join us as we journey together over 6 weeks to explore topics like shame\, anxiety\, depression\, forgiveness\, self-acceptance and many more.\nStarting on Thursday 8th January 2026\n1-3pm every week during term time.\nEveryone is welcome! \nFor more info talk to Becky or email becky.trinitychurcheverton@gmail.com
URL:https://www.trinitychurcheverton.org/event/kintsugi-hope-4/
LOCATION:Church Centre\, BNENC\, Breckfield Road\, L5 4QT\, United Kingdom
END:VEVENT
BEGIN:VEVENT
DTSTART;TZID=UTC:20260129T194500
DTEND;TZID=UTC:20260129T210000
DTSTAMP:20260423T134009
CREATED:20251117T225302Z
LAST-MODIFIED:20251117T225302Z
UID:8692-1769715900-1769720400@www.trinitychurcheverton.org
SUMMARY:You don't believe that do you? Gender
DESCRIPTION:You don’t believe that do you? Gender \nWe live in a secular culture where biblical Christianity seems very strange. We want everyone in our church to be equipped to understand why what Christians believe is such good news\, both so we can explain it to others and so we are encouraged to keep trusting Christ all the days of our lives. \nFor more info talk to Peter or email peter.trinitychurcheverton@gmail.com
URL:https://www.trinitychurcheverton.org/event/you-dont-believe-that-do-you-gender-2/
LOCATION:Church Centre\, BNENC\, Breckfield Road\, L5 4QT\, United Kingdom
END:VEVENT
END:VCALENDAR