BEGIN:VCALENDAR
VERSION:2.0
PRODID:-//Trinity Church Everton - ECPv6.15.13//NONSGML v1.0//EN
CALSCALE:GREGORIAN
METHOD:PUBLISH
X-ORIGINAL-URL:https://www.trinitychurcheverton.org
X-WR-CALDESC:Events for Trinity Church Everton
REFRESH-INTERVAL;VALUE=DURATION:PT1H
X-Robots-Tag:noindex
X-PUBLISHED-TTL:PT1H
BEGIN:VTIMEZONE
TZID:UTC
BEGIN:STANDARD
TZOFFSETFROM:+0000
TZOFFSETTO:+0000
TZNAME:UTC
DTSTART:20250101T000000
END:STANDARD
END:VTIMEZONE
BEGIN:VEVENT
DTSTART;TZID=UTC:20260111T103000
DTEND;TZID=UTC:20260111T114500
DTSTAMP:20260423T134026
CREATED:20251118T224326Z
LAST-MODIFIED:20251118T224326Z
UID:8715-1768127400-1768131900@www.trinitychurcheverton.org
SUMMARY:Ezekiel 25-32
DESCRIPTION:You would be really welcome to come to one of our Sunday meetings. \nWe are trying to run our church in a way that helps everyone to feel at home. \n 
URL:https://www.trinitychurcheverton.org/event/ezekiel-25-32/
LOCATION:BNENC Gym\, Breckfield Centre\, Breckfield Pl\, Liverpool\, L5 4NH\, United Kingdom
END:VEVENT
BEGIN:VEVENT
DTSTART;TZID=UTC:20260111T190000
DTEND;TZID=UTC:20260111T200000
DTSTAMP:20260423T134026
CREATED:20251119T175743Z
LAST-MODIFIED:20251119T175743Z
UID:8740-1768158000-1768161600@www.trinitychurcheverton.org
SUMMARY:women Bible study
DESCRIPTION:This is a great time to get together as women and explore the book of Galatians. \nFor more info talk to Becky or email becky.trinitychurcheverton@gmail.com
URL:https://www.trinitychurcheverton.org/event/women-bible-study-4/
LOCATION:Mariana’s house
END:VEVENT
BEGIN:VEVENT
DTSTART;TZID=UTC:20260111T190000
DTEND;TZID=UTC:20260111T210000
DTSTAMP:20260423T134026
CREATED:20251117T194142Z
LAST-MODIFIED:20251117T194142Z
UID:8645-1768158000-1768165200@www.trinitychurcheverton.org
SUMMARY:Women Bible Study
DESCRIPTION:This is a great time to get together as women and explore the book of Galatians. \nFor more info talk to Becky or email becky.trinitychurcheverton@gmail.com
URL:https://www.trinitychurcheverton.org/event/women-bible-study-3/
LOCATION:Mariana’s house
END:VEVENT
END:VCALENDAR