BEGIN:VCALENDAR
VERSION:2.0
PRODID:-//Trinity Church Everton - ECPv6.15.13//NONSGML v1.0//EN
CALSCALE:GREGORIAN
METHOD:PUBLISH
X-ORIGINAL-URL:https://www.trinitychurcheverton.org
X-WR-CALDESC:Events for Trinity Church Everton
REFRESH-INTERVAL;VALUE=DURATION:PT1H
X-Robots-Tag:noindex
X-PUBLISHED-TTL:PT1H
BEGIN:VTIMEZONE
TZID:UTC
BEGIN:STANDARD
TZOFFSETFROM:+0000
TZOFFSETTO:+0000
TZNAME:UTC
DTSTART:20250101T000000
END:STANDARD
END:VTIMEZONE
BEGIN:VEVENT
DTSTART;TZID=UTC:20260104T100000
DTEND;TZID=UTC:20260104T114500
DTSTAMP:20260423T134010
CREATED:20251118T223330Z
LAST-MODIFIED:20251118T223330Z
UID:8710-1767520800-1767527100@www.trinitychurcheverton.org
SUMMARY:Matthew 5: 1-12
DESCRIPTION:You would be really welcome to come to one of our Sunday meetings. \nWe are trying to run our church in a way that helps everyone to feel at home.
URL:https://www.trinitychurcheverton.org/event/matthew-5-1-12/
LOCATION:BNENC Gym\, Breckfield Centre\, Breckfield Pl\, Liverpool\, L5 4NH\, United Kingdom
END:VEVENT
END:VCALENDAR