BEGIN:VCALENDAR
VERSION:2.0
PRODID:-//Trinity Church Everton - ECPv6.15.13//NONSGML v1.0//EN
CALSCALE:GREGORIAN
METHOD:PUBLISH
X-WR-CALNAME:Trinity Church Everton
X-ORIGINAL-URL:https://www.trinitychurcheverton.org
X-WR-CALDESC:Events for Trinity Church Everton
REFRESH-INTERVAL;VALUE=DURATION:PT1H
X-Robots-Tag:noindex
X-PUBLISHED-TTL:PT1H
BEGIN:VTIMEZONE
TZID:UTC
BEGIN:STANDARD
TZOFFSETFROM:+0000
TZOFFSETTO:+0000
TZNAME:UTC
DTSTART:20240101T000000
END:STANDARD
END:VTIMEZONE
BEGIN:VEVENT
DTSTART;TZID=UTC:20251221T103000
DTEND;TZID=UTC:20251221T120000
DTSTAMP:20260423T151011
CREATED:20251014T173506Z
LAST-MODIFIED:20251201T130029Z
UID:8511-1766313000-1766318400@www.trinitychurcheverton.org
SUMMARY:Nativity from Scratch
DESCRIPTION:Come and be involved in our Nativity!\nCostumes provided for children! Or wear our own! \nThen get involved to act out the Nativity story. \nIf the weather is nice we will plan to do this in the car park\, so bring a coat!
URL:https://www.trinitychurcheverton.org/event/walk-around-nativity/
LOCATION:BNENC Gym\, Breckfield Centre\, Breckfield Pl\, Liverpool\, L5 4NH\, United Kingdom
END:VEVENT
END:VCALENDAR