BEGIN:VCALENDAR
VERSION:2.0
PRODID:-//Trinity Church Everton - ECPv6.15.13//NONSGML v1.0//EN
CALSCALE:GREGORIAN
METHOD:PUBLISH
X-ORIGINAL-URL:https://www.trinitychurcheverton.org
X-WR-CALDESC:Events for Trinity Church Everton
REFRESH-INTERVAL;VALUE=DURATION:PT1H
X-Robots-Tag:noindex
X-PUBLISHED-TTL:PT1H
BEGIN:VTIMEZONE
TZID:UTC
BEGIN:STANDARD
TZOFFSETFROM:+0000
TZOFFSETTO:+0000
TZNAME:UTC
DTSTART:20240101T000000
END:STANDARD
END:VTIMEZONE
BEGIN:VEVENT
DTSTART;TZID=UTC:20251214T103000
DTEND;TZID=UTC:20251214T115000
DTSTAMP:20260423T151330
CREATED:20251014T174247Z
LAST-MODIFIED:20251201T130239Z
UID:8515-1765708200-1765713000@www.trinitychurcheverton.org
SUMMARY:“Step into Christmas!” Matthew 4:18-25
DESCRIPTION:“Step into Christmas!” \nCelebrate the good news of Christmas with us as we sing carols\, pray and hear about the good news of\nChristmas. \nAll ages welcome; each Sunday we run groups for Children aged 0-16 years old during the service. \nFor more info talk to Peter or email peter.trinitychurcheverton@gmail.com
URL:https://www.trinitychurcheverton.org/event/matthew-418-25/
LOCATION:BNENC Gym\, Breckfield Centre\, Breckfield Pl\, Liverpool\, L5 4NH\, United Kingdom
END:VEVENT
BEGIN:VEVENT
DTSTART;TZID=UTC:20251214T160000
DTEND;TZID=UTC:20251214T173000
DTSTAMP:20260423T151330
CREATED:20251117T200203Z
LAST-MODIFIED:20251117T220715Z
UID:8651-1765728000-1765733400@www.trinitychurcheverton.org
SUMMARY:The Big Nativity at Westvale Chapel
DESCRIPTION:Bring the whole family for a fun Christmas celebration where every child can join in! Come dressed as your favourite nativity character\, and together we’ll tell the amazing story of Jesus’ birth. \nNo rehearsals\, no pressure\, just lots of festive fun for all ages! \n 
URL:https://www.trinitychurcheverton.org/event/the-big-nativity-at-westvale-chapel/
LOCATION:whitefield drive\, L32\, 0UX\, Whitefield Drive\, liverpool\, L32 0UX\, United Kingdom
END:VEVENT
END:VCALENDAR