BEGIN:VCALENDAR
VERSION:2.0
PRODID:-//Trinity Church Everton - ECPv6.15.13//NONSGML v1.0//EN
CALSCALE:GREGORIAN
METHOD:PUBLISH
X-ORIGINAL-URL:https://www.trinitychurcheverton.org
X-WR-CALDESC:Events for Trinity Church Everton
REFRESH-INTERVAL;VALUE=DURATION:PT1H
X-Robots-Tag:noindex
X-PUBLISHED-TTL:PT1H
BEGIN:VTIMEZONE
TZID:UTC
BEGIN:STANDARD
TZOFFSETFROM:+0000
TZOFFSETTO:+0000
TZNAME:UTC
DTSTART:20240101T000000
END:STANDARD
END:VTIMEZONE
BEGIN:VEVENT
DTSTART;TZID=UTC:20251212T193000
DTEND;TZID=UTC:20251212T210000
DTSTAMP:20260423T151330
CREATED:20251119T175439Z
LAST-MODIFIED:20251201T124526Z
UID:8737-1765567800-1765573200@www.trinitychurcheverton.org
SUMMARY:Christmas Scouse Night
DESCRIPTION:Christmas is all about good news breaking into our world of darkness.\nJoin us to hear how the message of Christmas has transformed people’s lives. \nFree scouse and Christmas treats provided. \n For more info talk to Peter or email    peter.trinitychurcheverton@gmail.com
URL:https://www.trinitychurcheverton.org/event/christmas-scouse-night/
LOCATION:BNENC Gym\, Breckfield Centre\, Breckfield Pl\, Liverpool\, L5 4NH\, United Kingdom
END:VEVENT
END:VCALENDAR