BEGIN:VCALENDAR
VERSION:2.0
PRODID:-//Trinity Church Everton - ECPv6.15.13//NONSGML v1.0//EN
CALSCALE:GREGORIAN
METHOD:PUBLISH
X-WR-CALNAME:Trinity Church Everton
X-ORIGINAL-URL:https://www.trinitychurcheverton.org
X-WR-CALDESC:Events for Trinity Church Everton
REFRESH-INTERVAL;VALUE=DURATION:PT1H
X-Robots-Tag:noindex
X-PUBLISHED-TTL:PT1H
BEGIN:VTIMEZONE
TZID:UTC
BEGIN:STANDARD
TZOFFSETFROM:+0000
TZOFFSETTO:+0000
TZNAME:UTC
DTSTART:20240101T000000
END:STANDARD
END:VTIMEZONE
BEGIN:VEVENT
DTSTART;TZID=UTC:20251210T090000
DTEND;TZID=UTC:20251210T100000
DTSTAMP:20260423T150857
CREATED:20251014T180749Z
LAST-MODIFIED:20251014T180749Z
UID:8540-1765357200-1765360800@www.trinitychurcheverton.org
SUMMARY:Prayer meeting
DESCRIPTION:Do you want God to do great things here in Everton? Can you be free on Wednesday mornings? \nJoin us for our weekly prayer power hour.  Everyone is welcome to come and ask God to work in our community \nFor more info talk to Peter or email peter.trinitychurcheverton@gmail.com
URL:https://www.trinitychurcheverton.org/event/prayer-meeting-4/
LOCATION:Church Centre\, BNENC\, Breckfield Road\, L5 4QT\, United Kingdom
END:VEVENT
BEGIN:VEVENT
DTSTART;TZID=UTC:20251210T130000
DTEND;TZID=UTC:20251210T150000
DTSTAMP:20260423T150857
CREATED:20251014T194603Z
LAST-MODIFIED:20251014T194603Z
UID:8621-1765371600-1765378800@www.trinitychurcheverton.org
SUMMARY:Finding Hope
DESCRIPTION:Come and join a safe space where we look at how the Bible applies to the ups and downs of life whilst doing crafts together. \nFor more info talk to Becky or email  becky.trinitychurcheverton@gmail.com
URL:https://www.trinitychurcheverton.org/event/finding-hope-10/
LOCATION:Church Centre\, BNENC\, Breckfield Road\, L5 4QT\, United Kingdom
END:VEVENT
END:VCALENDAR