BEGIN:VCALENDAR
VERSION:2.0
PRODID:-//Trinity Church Everton - ECPv6.15.13//NONSGML v1.0//EN
CALSCALE:GREGORIAN
METHOD:PUBLISH
X-WR-CALNAME:Trinity Church Everton
X-ORIGINAL-URL:https://www.trinitychurcheverton.org
X-WR-CALDESC:Events for Trinity Church Everton
REFRESH-INTERVAL;VALUE=DURATION:PT1H
X-Robots-Tag:noindex
X-PUBLISHED-TTL:PT1H
BEGIN:VTIMEZONE
TZID:UTC
BEGIN:STANDARD
TZOFFSETFROM:+0000
TZOFFSETTO:+0000
TZNAME:UTC
DTSTART:20240101T000000
END:STANDARD
END:VTIMEZONE
BEGIN:VEVENT
DTSTART;TZID=UTC:20251208T130000
DTEND;TZID=UTC:20251208T150000
DTSTAMP:20260423T150753
CREATED:20251014T182121Z
LAST-MODIFIED:20251014T182121Z
UID:8560-1765198800-1765206000@www.trinitychurcheverton.org
SUMMARY:Restored
DESCRIPTION:Come and join a craft group for women. \nEach week we will be doing different crafts on the theme of ‘broken but not worthless’ and looking at broken lives of women in the Bible and what that means for us today. \nFor more info talk to Becky or email becky.trinitychurcheverton@gmail.com
URL:https://www.trinitychurcheverton.org/event/restored-7/
LOCATION:Church Centre\, BNENC\, Breckfield Road\, L5 4QT\, United Kingdom
END:VEVENT
END:VCALENDAR