BEGIN:VCALENDAR
VERSION:2.0
PRODID:-//Trinity Church Everton - ECPv6.15.13//NONSGML v1.0//EN
CALSCALE:GREGORIAN
METHOD:PUBLISH
X-WR-CALNAME:Trinity Church Everton
X-ORIGINAL-URL:https://www.trinitychurcheverton.org
X-WR-CALDESC:Events for Trinity Church Everton
REFRESH-INTERVAL;VALUE=DURATION:PT1H
X-Robots-Tag:noindex
X-PUBLISHED-TTL:PT1H
BEGIN:VTIMEZONE
TZID:UTC
BEGIN:STANDARD
TZOFFSETFROM:+0000
TZOFFSETTO:+0000
TZNAME:UTC
DTSTART:20240101T000000
END:STANDARD
END:VTIMEZONE
BEGIN:VEVENT
DTSTART;TZID=UTC:20251207T103000
DTEND;TZID=UTC:20251207T115000
DTSTAMP:20260423T150754
CREATED:20251014T173301Z
LAST-MODIFIED:20251014T174108Z
UID:8508-1765103400-1765108200@www.trinitychurcheverton.org
SUMMARY:Matthew 4:12-17
DESCRIPTION:You would be really welcome to come to one of our Sunday meetings. We are trying to run our church in a way that helps everyone to feel at home.
URL:https://www.trinitychurcheverton.org/event/matthew-412-17/
LOCATION:BNENC Gym\, Breckfield Centre\, Breckfield Pl\, Liverpool\, L5 4NH\, United Kingdom
END:VEVENT
BEGIN:VEVENT
DTSTART;TZID=UTC:20251207T190000
DTEND;TZID=UTC:20251207T210000
DTSTAMP:20260423T150754
CREATED:20251117T184614Z
LAST-MODIFIED:20251117T184614Z
UID:8639-1765134000-1765141200@www.trinitychurcheverton.org
SUMMARY:Women Bible Study
DESCRIPTION:This is a great time to get together as women and explore the book of Galatians. \nFor more info talk to Becky or email becky.trinitychurcheverton@gmail.com
URL:https://www.trinitychurcheverton.org/event/women-bible-study/
LOCATION:Mariana’s house
END:VEVENT
END:VCALENDAR