BEGIN:VCALENDAR
VERSION:2.0
PRODID:-//Trinity Church Everton - ECPv6.15.13//NONSGML v1.0//EN
CALSCALE:GREGORIAN
METHOD:PUBLISH
X-WR-CALNAME:Trinity Church Everton
X-ORIGINAL-URL:https://www.trinitychurcheverton.org
X-WR-CALDESC:Events for Trinity Church Everton
REFRESH-INTERVAL;VALUE=DURATION:PT1H
X-Robots-Tag:noindex
X-PUBLISHED-TTL:PT1H
BEGIN:VTIMEZONE
TZID:Europe/London
BEGIN:DAYLIGHT
TZOFFSETFROM:+0000
TZOFFSETTO:+0100
TZNAME:BST
DTSTART:20240331T010000
END:DAYLIGHT
BEGIN:STANDARD
TZOFFSETFROM:+0100
TZOFFSETTO:+0000
TZNAME:GMT
DTSTART:20241027T010000
END:STANDARD
BEGIN:DAYLIGHT
TZOFFSETFROM:+0000
TZOFFSETTO:+0100
TZNAME:BST
DTSTART:20250330T010000
END:DAYLIGHT
BEGIN:STANDARD
TZOFFSETFROM:+0100
TZOFFSETTO:+0000
TZNAME:GMT
DTSTART:20251026T010000
END:STANDARD
BEGIN:DAYLIGHT
TZOFFSETFROM:+0000
TZOFFSETTO:+0100
TZNAME:BST
DTSTART:20260329T010000
END:DAYLIGHT
BEGIN:STANDARD
TZOFFSETFROM:+0100
TZOFFSETTO:+0000
TZNAME:GMT
DTSTART:20261025T010000
END:STANDARD
END:VTIMEZONE
BEGIN:VEVENT
DTSTART;TZID=Europe/London:20251204T194500
DTEND;TZID=Europe/London:20251204T210000
DTSTAMP:20260423T150858
CREATED:20251007T203225Z
LAST-MODIFIED:20251007T203225Z
UID:8490-1764877500-1764882000@www.trinitychurcheverton.org
SUMMARY:You don't believe that do you? Love and Judgement
DESCRIPTION:You don’t believe that do you? Love and Judgement \nWe live in a secular culture where biblical Christianity seems very strange. We want everyone in our church to be equipped to understand why what Christians believe is such good news\, both so we can explain it to others and so we are encouraged to keep trusting Christ all the days of our lives.
URL:https://www.trinitychurcheverton.org/event/you-dont-believe-that-do-you-love-and-judgement/
LOCATION:Church Centre\, BNENC\, Breckfield Road\, L5 4QT\, United Kingdom
END:VEVENT
END:VCALENDAR