BEGIN:VCALENDAR
VERSION:2.0
PRODID:-//Trinity Church Everton - ECPv6.15.13//NONSGML v1.0//EN
CALSCALE:GREGORIAN
METHOD:PUBLISH
X-ORIGINAL-URL:https://www.trinitychurcheverton.org
X-WR-CALDESC:Events for Trinity Church Everton
REFRESH-INTERVAL;VALUE=DURATION:PT1H
X-Robots-Tag:noindex
X-PUBLISHED-TTL:PT1H
BEGIN:VTIMEZONE
TZID:UTC
BEGIN:STANDARD
TZOFFSETFROM:+0000
TZOFFSETTO:+0000
TZNAME:UTC
DTSTART:20240101T000000
END:STANDARD
END:VTIMEZONE
BEGIN:VEVENT
DTSTART;TZID=UTC:20251130T103000
DTEND;TZID=UTC:20251130T115000
DTSTAMP:20260423T151213
CREATED:20251014T173117Z
LAST-MODIFIED:20251014T173117Z
UID:8506-1764498600-1764503400@www.trinitychurcheverton.org
SUMMARY:Matthew  4:1-11
DESCRIPTION:You would be really welcome to come to one of our Sunday meetings. We are trying to run our church in a way that helps everyone to feel at home.
URL:https://www.trinitychurcheverton.org/event/matthew-41-11/
LOCATION:BNENC Gym\, Breckfield Centre\, Breckfield Pl\, Liverpool\, L5 4NH\, United Kingdom
END:VEVENT
BEGIN:VEVENT
DTSTART;TZID=UTC:20251130T120000
DTEND;TZID=UTC:20251130T130000
DTSTAMP:20260423T151213
CREATED:20251117T193314Z
LAST-MODIFIED:20251117T193946Z
UID:8641-1764504000-1764507600@www.trinitychurcheverton.org
SUMMARY:Church Lunch
DESCRIPTION:You would be really welcome to come to our Sunday service and stay after for our Church Lunch. \nEvery one is welcome! \n 
URL:https://www.trinitychurcheverton.org/event/church-lunch/
LOCATION:BNENC Gym\, Breckfield Centre\, Breckfield Pl\, Liverpool\, L5 4NH\, United Kingdom
END:VEVENT
BEGIN:VEVENT
DTSTART;TZID=UTC:20251130T190000
DTEND;TZID=UTC:20251130T200000
DTSTAMP:20260423T151213
CREATED:20251014T175007Z
LAST-MODIFIED:20251014T175007Z
UID:8520-1764529200-1764532800@www.trinitychurcheverton.org
SUMMARY:Church Prayer meeting
DESCRIPTION:
URL:https://www.trinitychurcheverton.org/event/church-prayer-meeting-2/
LOCATION:Church Centre\, BNENC\, Breckfield Road\, L5 4QT\, United Kingdom
END:VEVENT
END:VCALENDAR